BEGIN:VCALENDAR
VERSION:2.0
PRODID:-//wp-events-plugin.com//7.2.3.1//EN
TZID:Europe/Helsinki
X-WR-TIMEZONE:Europe/Helsinki
BEGIN:VEVENT
UID:1-202318@kohokohdat.fi
DTSTART;TZID=Europe/Helsinki:20241018T210000
DTEND;TZID=Europe/Helsinki:20241018T210000
DTSTAMP:20241012T074627Z
URL:https://kohokohdat.fi/tapahtuma/kauko-royhka-skuugi-darlings-johannes-
 pohjanoja/
SUMMARY:Kauko Röyhkä & Skuugi Darlings + Johannes Pohjanoja
DESCRIPTION:Pop-up Klonkka on Oulussa sijaitseva tapahtumatila\, joka tarjo
 aa erilaista ohjelmaa\, mukaan lukien live-esityksiä ja konsertteja.\n\nT
 apahtuman kuvaus:\nKauko Röyhkä &amp\; Skuugi Darlings + Johannes Pohjan
 oja\n\nKauko Röyhkä keikalla entisessä kotikaupungissa oululaisen Skuug
 i Darlingsin yhtyeen kanssa. Kokoonpano työstää tällä hetkellä mater
 iaalia vuonna 2026 tulevaan Röyhkä-musikaaliin\n"Disko keskellä Metsä
 ä"\n\nKlonkan keikkalla kuullaan tulevan musikaalin biisejä sekä Kaukon
  klassikkobiisejä.\n\nSkuugi Darlingseissa soittavat Jarmo Heikkinen\, Pe
 tri Laukka\, Dimi Salo ja Juha Seilonen.\n\nJOHANNES POHJANOJA\nRadiopuhel
 imien kitaristin Katzin sooloprojekti\, jolta rokettirollia ei\nirtoa. Mus
 iikkia pääasiassa suomeksi ja saattaa jopa soittaa Ankia.\n\nAikataulu\n
 Ovet auki 21:00\nJohannes Pohjanoja 22:00-22:45\nKauko Röyhkä 23:10-00:2
 0\nOvet kiinni 02:00\n\nIkäraja K-18
ATTACH;FMTTYPE=image/jpeg:https://kohokohdat.fi/wp-content/uploads/2022/03
 /kauko-royhka-keikat.jpg
CATEGORIES:Keikat
LOCATION:Pop-up Klonkka\, Hallituskatu 2\, Oulu\, Suomi
X-APPLE-STRUCTURED-LOCATION;VALUE=URI;X-ADDRESS=Hallituskatu 2\, Oulu\, Suo
 mi;X-APPLE-RADIUS=100;X-TITLE=Pop-up Klonkka:geo:0,0
END:VEVENT
BEGIN:VEVENT
UID:1-202319@kohokohdat.fi
DTSTART;TZID=Europe/Helsinki:20241025T203000
DTEND;TZID=Europe/Helsinki:20241025T203000
DTSTAMP:20241012T074835Z
URL:https://kohokohdat.fi/tapahtuma/loiriplukari-teinipaivakirjat-gramofon
 i-dj-old-crank/
SUMMARY:Loiriplukari - Teinipäiväkirjat + Gramofoni Dj Old Crank
DESCRIPTION:Pop-up Klonkka on Oulussa sijaitseva tapahtumatila\, joka tarjo
 aa erilaista ohjelmaa\, mukaan lukien live-esityksiä ja konsertteja.\n\nT
 apahtuman kuvaus:\nLoiriplukari - Teinipäiväkirjat + Gramofoni Dj Old Cr
 ank\n\n"Loiriplukari - teinipäiväkirjat" koostuu kahdesta osasta.\nEnsim
 mäisessä osassa Loiriplukari lukee pätkiä omasta 1980-luvun päiväkir
 jasta ja samalla taustalle heijastetaan kirjan alkuperäisiä tekstejä ja
  piirroksia. Kaikessa pöhköydessään päiväkirjat ovat aito\nkuvaus te
 inihevarin sielunmaisemasta\, jota on vahvistettu mm. bändikuvastosta lai
 natulla fonteilla ja ajoittain karskeilla kirkkovene-tyyppisillä tussauks
 illa.\n\nEsityksen toisessa osassa esiintyy Loiriplukari liveyhtye\, jonka
  kappaleiden teemat käsittelevät pääosin aikuiselämän havaintoja imi
 toiden Vesa-Matti Loirin ääntä. Hyväntuulista musiikkia tavaramerkikse
 en muodostunut lippis päässään esittävä Loiriplukari nousi kansan su
 osioon vuonna 2017 jo kulttiklassikoiksi muodostuneilla kappaleillaan ”E
 i voi laittaa verotukseen” ja ”Tää kesä meni Airistolla.” Taiteil
 ijanimen takaa löytyy mm.Xysma-yhtyeestä tuttu pitkän linjan muusikko K
 alle Taivainen. Inspiraatiota artisti ammentaa elämän iloisista ja traag
 isistakin tarinoista.\n\nLoiriplukari hauskuuttaa ja koskettaa omakohtaise
 lla\, taidokkaalla taiteellaan. Artistin eri taiteenlajeja ennalta-arvaama
 ttomalla tavalla sekoittelevat live-esiintymiset ovat kuljettaneet hänet 
 aina festarilavoilta teattereihin ja loppuunmyydyille keikoille.\n\nGramof
 oni-dj Old Crank soittaa savikiekkotanssit gramofonilla ja luennoi asiasta
 .\n\nAikataulu:\n20:30-Ovet auki\n21:30-22:30 Gramofoni Dj Old Crank\n22:5
 0-23:50 Loiriplukari Teinipäiväkirjat osa 1: otteita päiväkirjasta\n00
 :10-01:10 Loiriplukari- Teinipäiväkirja osa 2: -liveyhtye\n01:30 Valomer
 kki\n02:00 Ovet kiinni\n\n&nbsp\;
ATTACH;FMTTYPE=image/jpeg:https://kohokohdat.fi/wp-content/uploads/2024/10
 /82755d83cfe4c2ee8ea0491957d70ea2.png
CATEGORIES:Keikat
LOCATION:Pop-up Klonkka\, Hallituskatu 2\, Oulu\, Suomi
X-APPLE-STRUCTURED-LOCATION;VALUE=URI;X-ADDRESS=Hallituskatu 2\, Oulu\, Suo
 mi;X-APPLE-RADIUS=100;X-TITLE=Pop-up Klonkka:geo:0,0
END:VEVENT
BEGIN:VTIMEZONE
TZID:Europe/Helsinki
X-LIC-LOCATION:Europe/Helsinki
BEGIN:DAYLIGHT
DTSTART:20240331T040000
TZOFFSETFROM:+0200
TZOFFSETTO:+0300
TZNAME:EEST
END:DAYLIGHT
END:VTIMEZONE
END:VCALENDAR