BEGIN:VCALENDAR
VERSION:2.0
PRODID:-//wp-events-plugin.com//7.2.3.1//EN
TZID:Europe/Helsinki
X-WR-TIMEZONE:Europe/Helsinki
BEGIN:VEVENT
UID:1-182618@kohokohdat.fi
DTSTART;TZID=Europe/Helsinki:20230707T190000
DTEND;TZID=Europe/Helsinki:20230707T190000
DTSTAMP:20230628T065953Z
URL:https://kohokohdat.fi/tapahtuma/koivurannan-stand-up-kesa-fredi-lilius
 -kaisa-pylkkanen-antti-haapala/
SUMMARY:Koivurannan stand up -kesä - Fredi Lilius\, Kaisa Pylkkänen\, Ant
 ti Haapala
DESCRIPTION:Koivurannan kahvilan tapahtumateltassa nauru raikaa perjantaina
  7.7. kun stand up -koomikot Fredi Lilius\, Kaisa Pylkkänen ja Antti Haap
 ala valtaavat lavan.\nhttps://www.youtube.com/watch?v=WjCB2P5YoNQ
ATTACH;FMTTYPE=image/jpeg:https://kohokohdat.fi/wp-content/uploads/2022/11
 /kaisa-pylkkanen-stand-up-keikat-oulu.jpg
CATEGORIES:Keikat,Stand up
LOCATION:Koivurannan kahvila\, Kasarmintie 51\, Oulu\, Suomi
GEO:65.017967;25.524977
X-APPLE-STRUCTURED-LOCATION;VALUE=URI;X-ADDRESS=Kasarmintie 51\, Oulu\, Suo
 mi;X-APPLE-RADIUS=100;X-TITLE=Koivurannan kahvila:geo:65.017967,25.524977
END:VEVENT
BEGIN:VEVENT
UID:1-182621@kohokohdat.fi
DTSTART;TZID=Europe/Helsinki:20230720T180000
DTEND;TZID=Europe/Helsinki:20230720T180000
DTSTAMP:20230628T071434Z
URL:https://kohokohdat.fi/tapahtuma/jazzia-ja-kesaisia-tapaksia-koivuranna
 ssa/
SUMMARY:Jazzia ja kesäisiä tapaksia Koivurannassa
DESCRIPTION:
CATEGORIES:Jazz,Keikat
LOCATION:Koivurannan kahvila\, Kasarmintie 51\, Oulu\, Suomi
GEO:65.017967;25.524977
X-APPLE-STRUCTURED-LOCATION;VALUE=URI;X-ADDRESS=Kasarmintie 51\, Oulu\, Suo
 mi;X-APPLE-RADIUS=100;X-TITLE=Koivurannan kahvila:geo:65.017967,25.524977
END:VEVENT
BEGIN:VEVENT
UID:1-182619@kohokohdat.fi
DTSTART;TZID=Europe/Helsinki:20230721T190000
DTEND;TZID=Europe/Helsinki:20230721T190000
DTSTAMP:20230628T070554Z
URL:https://kohokohdat.fi/tapahtuma/koivurannan-stand-up-kesa-aatu-raitala
 -anna-rimpela-fathi-ahmed/
SUMMARY:Koivurannan stand up -kesä - Aatu Raitala\, Anna Rimpelä\, Fathi 
 Ahmed
DESCRIPTION:Koivurannan kahvilan tapahtumateltassa nauru raikaa perjantaina
  21.7. kun stand up -koomikot Aatu Raitala\, Anna Rimpelä ja Fathi Ahmed
  valtaavat lavan.\nhttps://www.youtube.com/watch?v=hgPqlbbCJAw
ATTACH;FMTTYPE=image/jpeg:https://kohokohdat.fi/wp-content/uploads/2023/06
 /stand-up-keikka-oulu.jpg
CATEGORIES:Keikat,Stand up
LOCATION:Koivurannan kahvila\, Kasarmintie 51\, Oulu\, Suomi
GEO:65.017967;25.524977
X-APPLE-STRUCTURED-LOCATION;VALUE=URI;X-ADDRESS=Kasarmintie 51\, Oulu\, Suo
 mi;X-APPLE-RADIUS=100;X-TITLE=Koivurannan kahvila:geo:65.017967,25.524977
END:VEVENT
BEGIN:VEVENT
UID:1-182624@kohokohdat.fi
DTSTART;TZID=Europe/Helsinki:20230725T190000
DTEND;TZID=Europe/Helsinki:20230725T190000
DTSTAMP:20230628T071807Z
URL:https://kohokohdat.fi/tapahtuma/mars-vs-venus-2-johanna-tohni-riku-suo
 kas/
SUMMARY:Mars Vs Venus 2 – Johanna Tohni & Riku Suokas
DESCRIPTION:Koivurannan kahvilan tapahtumateltassa nauru raikaa tiistaina 2
 5.7. kun Johanna Tohni ja Riku Suokas valtaavat lavan.
ATTACH;FMTTYPE=image/jpeg:https://kohokohdat.fi/wp-content/uploads/2023/06
 /mars-vs-venus-uusintaottelu.jpg
CATEGORIES:Keikat,Stand up
LOCATION:Koivurannan kahvila\, Kasarmintie 51\, Oulu\, Suomi
GEO:65.017967;25.524977
X-APPLE-STRUCTURED-LOCATION;VALUE=URI;X-ADDRESS=Kasarmintie 51\, Oulu\, Suo
 mi;X-APPLE-RADIUS=100;X-TITLE=Koivurannan kahvila:geo:65.017967,25.524977
END:VEVENT
BEGIN:VEVENT
UID:1-182622@kohokohdat.fi
DTSTART;TZID=Europe/Helsinki:20230726T180000
DTEND;TZID=Europe/Helsinki:20230726T180000
DTSTAMP:20230628T071539Z
URL:https://kohokohdat.fi/tapahtuma/sarkkinen-hiltula-duo/
SUMMARY:Sarkkinen & Hiltula Duo
DESCRIPTION:Duo tulkitsee moderneja klassikkoja herkällä\, ilmaisuvoimais
 ella tulkinnalla.\nTämän duon kaunis melodiakerronta ja läsnäolo saa s
 inut viihtymään ja nauttimaan. Antaudu siis letkeälle ja sielukkaalle g
 roovelle.
CATEGORIES:Jazz,Keikat
LOCATION:Koivurannan kahvila\, Kasarmintie 51\, Oulu\, Suomi
GEO:65.017967;25.524977
X-APPLE-STRUCTURED-LOCATION;VALUE=URI;X-ADDRESS=Kasarmintie 51\, Oulu\, Suo
 mi;X-APPLE-RADIUS=100;X-TITLE=Koivurannan kahvila:geo:65.017967,25.524977
END:VEVENT
BEGIN:VEVENT
UID:1-182623@kohokohdat.fi
DTSTART;TZID=Europe/Helsinki:20230825T235900
DTEND;TZID=Europe/Helsinki:20230825T235900
DTSTAMP:20230628T071609Z
URL:https://kohokohdat.fi/tapahtuma/mikko-pietila/
SUMMARY:Mikko Pietilä
DESCRIPTION:
CATEGORIES:Jazz,Keikat
LOCATION:Koivurannan kahvila\, Kasarmintie 51\, Oulu\, Suomi
GEO:65.017967;25.524977
X-APPLE-STRUCTURED-LOCATION;VALUE=URI;X-ADDRESS=Kasarmintie 51\, Oulu\, Suo
 mi;X-APPLE-RADIUS=100;X-TITLE=Koivurannan kahvila:geo:65.017967,25.524977
END:VEVENT
BEGIN:VEVENT
UID:1-196483@kohokohdat.fi
DTSTART;TZID=Europe/Helsinki:20240608T190000
DTEND;TZID=Europe/Helsinki:20240608T190000
DTSTAMP:20240505T054149Z
URL:https://kohokohdat.fi/tapahtuma/koivurannan-stand-up-kesa-suomen-hausk
 immat-mamut-3/
SUMMARY:Koivurannan stand up -kesä:  Ernest Lawson Show
DESCRIPTION:Koivurannan kahvilan tapahtumateltassa nauru raikaa taas kesäl
 lä 2024.
ATTACH;FMTTYPE=image/jpeg:https://kohokohdat.fi/wp-content/uploads/2024/05
 /ernest-lawson-stand-up-show-oulu.jpg
CATEGORIES:Keikat,Stand up
LOCATION:Koivurannan kahvila\, Kasarmintie 51\, Oulu\, Suomi
GEO:65.017967;25.524977
X-APPLE-STRUCTURED-LOCATION;VALUE=URI;X-ADDRESS=Kasarmintie 51\, Oulu\, Suo
 mi;X-APPLE-RADIUS=100;X-TITLE=Koivurannan kahvila:geo:65.017967,25.524977
END:VEVENT
BEGIN:VEVENT
UID:1-196484@kohokohdat.fi
DTSTART;TZID=Europe/Helsinki:20240628T190000
DTEND;TZID=Europe/Helsinki:20240628T190000
DTSTAMP:20240505T054143Z
URL:https://kohokohdat.fi/tapahtuma/koivurannan-stand-up-kesa-heikki-vilja
 -tomi-haustola/
SUMMARY:Koivurannan stand up -kesä:  Heikki Vilja & Tomi Haustola
DESCRIPTION:Koivurannan kahvilan tapahtumateltassa nauru raikaa taas kesäl
 lä 2024.
ATTACH;FMTTYPE=image/jpeg:https://kohokohdat.fi/wp-content/uploads/2023/09
 /heikki-vilja-stand-up-keikat-esitykset-oulu-hameenlinna.jpg
CATEGORIES:Keikat,Stand up
LOCATION:Koivurannan kahvila\, Kasarmintie 51\, Oulu\, Suomi
GEO:65.017967;25.524977
X-APPLE-STRUCTURED-LOCATION;VALUE=URI;X-ADDRESS=Kasarmintie 51\, Oulu\, Suo
 mi;X-APPLE-RADIUS=100;X-TITLE=Koivurannan kahvila:geo:65.017967,25.524977
END:VEVENT
BEGIN:VEVENT
UID:1-196485@kohokohdat.fi
DTSTART;TZID=Europe/Helsinki:20240712T190000
DTEND;TZID=Europe/Helsinki:20240712T190000
DTSTAMP:20240505T054134Z
URL:https://kohokohdat.fi/tapahtuma/koivurannan-stand-up-kesa-all-female-p
 anel-kesakollikiertue-2024/
SUMMARY:Koivurannan stand up -kesä:  All Female Panel: Kesäkollikiertue 2
 024
DESCRIPTION:Koivurannan kahvilan tapahtumateltassa nauru raikaa taas kesäl
 lä 2024.
ATTACH;FMTTYPE=image/jpeg:https://kohokohdat.fi/wp-content/uploads/2024/05
 /all-female-stand-up.jpg
CATEGORIES:Keikat,Stand up
LOCATION:Koivurannan kahvila\, Kasarmintie 51\, Oulu\, Suomi
GEO:65.017967;25.524977
X-APPLE-STRUCTURED-LOCATION;VALUE=URI;X-ADDRESS=Kasarmintie 51\, Oulu\, Suo
 mi;X-APPLE-RADIUS=100;X-TITLE=Koivurannan kahvila:geo:65.017967,25.524977
END:VEVENT
BEGIN:VEVENT
UID:1-196486@kohokohdat.fi
DTSTART;TZID=Europe/Helsinki:20240726T190000
DTEND;TZID=Europe/Helsinki:20240726T190000
DTSTAMP:20240505T054216Z
URL:https://kohokohdat.fi/tapahtuma/koivurannan-stand-up-kesa-all-female-p
 anel-kesakollikiertue-2024-2/
SUMMARY:Koivurannan stand up -kesä:  Jacke Björklund – Sitä sun Tätä
DESCRIPTION:Koivurannan kahvilan tapahtumateltassa nauru raikaa taas kesäl
 lä 2024.
ATTACH;FMTTYPE=image/jpeg:https://kohokohdat.fi/wp-content/uploads/2023/01
 /jacke-bjorklund-stand-up-keikat-tampere.jpg
CATEGORIES:Keikat,Stand up
LOCATION:Koivurannan kahvila\, Kasarmintie 51\, Oulu\, Suomi
GEO:65.017967;25.524977
X-APPLE-STRUCTURED-LOCATION;VALUE=URI;X-ADDRESS=Kasarmintie 51\, Oulu\, Suo
 mi;X-APPLE-RADIUS=100;X-TITLE=Koivurannan kahvila:geo:65.017967,25.524977
END:VEVENT
BEGIN:VEVENT
UID:1-196487@kohokohdat.fi
DTSTART;TZID=Europe/Helsinki:20240809T190000
DTEND;TZID=Europe/Helsinki:20240809T190000
DTSTAMP:20240505T054235Z
URL:https://kohokohdat.fi/tapahtuma/koivurannan-stand-up-kesa-pyry-valtone
 n-roosa-maskonen-ville-myllyrinne/
SUMMARY:Koivurannan stand up -kesä:  Pyry Valtonen\, Roosa Maskonen & Vill
 e Myllyrinne
DESCRIPTION:Koivurannan kahvilan tapahtumateltassa nauru raikaa taas kesäl
 lä 2024.
CATEGORIES:Keikat,Stand up
LOCATION:Koivurannan kahvila\, Kasarmintie 51\, Oulu\, Suomi
GEO:65.017967;25.524977
X-APPLE-STRUCTURED-LOCATION;VALUE=URI;X-ADDRESS=Kasarmintie 51\, Oulu\, Suo
 mi;X-APPLE-RADIUS=100;X-TITLE=Koivurannan kahvila:geo:65.017967,25.524977
END:VEVENT
BEGIN:VEVENT
UID:1-182620@kohokohdat.fi
DTSTART;TZID=Europe/Helsinki:20240822T190000
DTEND;TZID=Europe/Helsinki:20240822T190000
DTSTAMP:20240505T053613Z
URL:https://kohokohdat.fi/tapahtuma/koivurannan-stand-up-kesa-suomen-hausk
 immat-mamut/
SUMMARY:Koivurannan stand up -kesä:  Jape Grönroos ja Jussi Simola
DESCRIPTION:Koivurannan kahvilan tapahtumateltassa nauru raikaa perjantaina
  23.8.2024\, kun stand up -koomikot Jape Grönroos ja Jussi Simola saapuva
 t Ouluun.\n&nbsp\;
ATTACH;FMTTYPE=image/jpeg:https://kohokohdat.fi/wp-content/uploads/2023/01
 /jussi-simola-stand-up.jpg
CATEGORIES:Keikat,Stand up
LOCATION:Koivurannan kahvila\, Kasarmintie 51\, Oulu\, Suomi
GEO:65.017967;25.524977
X-APPLE-STRUCTURED-LOCATION;VALUE=URI;X-ADDRESS=Kasarmintie 51\, Oulu\, Suo
 mi;X-APPLE-RADIUS=100;X-TITLE=Koivurannan kahvila:geo:65.017967,25.524977
END:VEVENT
BEGIN:VEVENT
UID:1-196482@kohokohdat.fi
DTSTART;TZID=Europe/Helsinki:20240830T190000
DTEND;TZID=Europe/Helsinki:20240830T190000
DTSTAMP:20240505T053802Z
URL:https://kohokohdat.fi/tapahtuma/koivurannan-stand-up-kesa-suomen-hausk
 immat-mamut-2/
SUMMARY:Koivurannan stand up -kesä:  Suomen hauskimmat mamut
DESCRIPTION:Koivurannan kahvilan tapahtumateltassa nauru raikaa taas kesäl
 lä 2024.
CATEGORIES:Keikat,Stand up
LOCATION:Koivurannan kahvila\, Kasarmintie 51\, Oulu\, Suomi
GEO:65.017967;25.524977
X-APPLE-STRUCTURED-LOCATION;VALUE=URI;X-ADDRESS=Kasarmintie 51\, Oulu\, Suo
 mi;X-APPLE-RADIUS=100;X-TITLE=Koivurannan kahvila:geo:65.017967,25.524977
END:VEVENT
BEGIN:VTIMEZONE
TZID:Europe/Helsinki
X-LIC-LOCATION:Europe/Helsinki
BEGIN:DAYLIGHT
DTSTART:20230326T040000
TZOFFSETFROM:+0200
TZOFFSETTO:+0300
TZNAME:EEST
END:DAYLIGHT
BEGIN:STANDARD
DTSTART:20231029T030000
TZOFFSETFROM:+0300
TZOFFSETTO:+0200
TZNAME:EET
END:STANDARD
BEGIN:DAYLIGHT
DTSTART:20240331T040000
TZOFFSETFROM:+0200
TZOFFSETTO:+0300
TZNAME:EEST
END:DAYLIGHT
END:VTIMEZONE
END:VCALENDAR