BEGIN:VCALENDAR
VERSION:2.0
PRODID:-//wp-events-plugin.com//7.2.3.1//EN
TZID:Europe/Helsinki
X-WR-TIMEZONE:Europe/Helsinki
BEGIN:VEVENT
UID:1-174678@kohokohdat.fi
DTSTART;TZID=Europe/Helsinki:20230120T190000
DTEND;TZID=Europe/Helsinki:20230120T190000
DTSTAMP:20230102T170035Z
URL:https://kohokohdat.fi/tapahtuma/akseli-klonk-divine/
SUMMARY:Akseli Klonk: DIVINE!
DESCRIPTION:DIVINE! Melkein pulmunen... Diskonukketeatterinäytelmä tosiel
 ämän drag-legenda ja diskokuningatar Divinestä sekä miehestä roolin t
 akana.
CATEGORIES:Teatteri ja tanssi
LOCATION:Klonkkanäyttämö\, Hallituskatu 20\, Oulu\, Suomi
GEO:65.011926;25.476563
X-APPLE-STRUCTURED-LOCATION;VALUE=URI;X-ADDRESS=Hallituskatu 20\, Oulu\, Su
 omi;X-APPLE-RADIUS=100;X-TITLE=Klonkkanäyttämö:geo:65.011926,25.476563
END:VEVENT
BEGIN:VEVENT
UID:1-174679@kohokohdat.fi
DTSTART;TZID=Europe/Helsinki:20230121T190000
DTEND;TZID=Europe/Helsinki:20230121T190000
DTSTAMP:20230102T170054Z
URL:https://kohokohdat.fi/tapahtuma/akseli-klonk-divine-2/
SUMMARY:Akseli Klonk: DIVINE!
DESCRIPTION:DIVINE! Melkein pulmunen... Diskonukketeatterinäytelmä tosiel
 ämän drag-legenda ja diskokuningatar Divinestä sekä miehestä roolin t
 akana.
CATEGORIES:Teatteri ja tanssi
LOCATION:Klonkkanäyttämö\, Hallituskatu 20\, Oulu\, Suomi
GEO:65.011926;25.476563
X-APPLE-STRUCTURED-LOCATION;VALUE=URI;X-ADDRESS=Hallituskatu 20\, Oulu\, Su
 omi;X-APPLE-RADIUS=100;X-TITLE=Klonkkanäyttämö:geo:65.011926,25.476563
END:VEVENT
BEGIN:VEVENT
UID:1-174680@kohokohdat.fi
DTSTART;TZID=Europe/Helsinki:20230125T190000
DTEND;TZID=Europe/Helsinki:20230125T190000
DTSTAMP:20230102T170101Z
URL:https://kohokohdat.fi/tapahtuma/akseli-klonk-divine-3/
SUMMARY:Akseli Klonk: DIVINE!
DESCRIPTION:DIVINE! Melkein pulmunen... Diskonukketeatterinäytelmä tosiel
 ämän drag-legenda ja diskokuningatar Divinestä sekä miehestä roolin t
 akana.
CATEGORIES:Teatteri ja tanssi
LOCATION:Klonkkanäyttämö\, Hallituskatu 20\, Oulu\, Suomi
GEO:65.011926;25.476563
X-APPLE-STRUCTURED-LOCATION;VALUE=URI;X-ADDRESS=Hallituskatu 20\, Oulu\, Su
 omi;X-APPLE-RADIUS=100;X-TITLE=Klonkkanäyttämö:geo:65.011926,25.476563
END:VEVENT
BEGIN:VEVENT
UID:1-174681@kohokohdat.fi
DTSTART;TZID=Europe/Helsinki:20230126T190000
DTEND;TZID=Europe/Helsinki:20230126T190000
DTSTAMP:20230102T170103Z
URL:https://kohokohdat.fi/tapahtuma/akseli-klonk-divine-4/
SUMMARY:Akseli Klonk: DIVINE!
DESCRIPTION:DIVINE! Melkein pulmunen... Diskonukketeatterinäytelmä tosiel
 ämän drag-legenda ja diskokuningatar Divinestä sekä miehestä roolin t
 akana.
CATEGORIES:Teatteri ja tanssi
LOCATION:Klonkkanäyttämö\, Hallituskatu 20\, Oulu\, Suomi
GEO:65.011926;25.476563
X-APPLE-STRUCTURED-LOCATION;VALUE=URI;X-ADDRESS=Hallituskatu 20\, Oulu\, Su
 omi;X-APPLE-RADIUS=100;X-TITLE=Klonkkanäyttämö:geo:65.011926,25.476563
END:VEVENT
BEGIN:VEVENT
UID:1-174682@kohokohdat.fi
DTSTART;TZID=Europe/Helsinki:20230127T190000
DTEND;TZID=Europe/Helsinki:20230127T190000
DTSTAMP:20230102T170108Z
URL:https://kohokohdat.fi/tapahtuma/akseli-klonk-divine-5/
SUMMARY:Akseli Klonk: DIVINE!
DESCRIPTION:DIVINE! Melkein pulmunen... Diskonukketeatterinäytelmä tosiel
 ämän drag-legenda ja diskokuningatar Divinestä sekä miehestä roolin t
 akana.
CATEGORIES:Teatteri ja tanssi
LOCATION:Klonkkanäyttämö\, Hallituskatu 20\, Oulu\, Suomi
GEO:65.011926;25.476563
X-APPLE-STRUCTURED-LOCATION;VALUE=URI;X-ADDRESS=Hallituskatu 20\, Oulu\, Su
 omi;X-APPLE-RADIUS=100;X-TITLE=Klonkkanäyttämö:geo:65.011926,25.476563
END:VEVENT
BEGIN:VEVENT
UID:1-174683@kohokohdat.fi
DTSTART;TZID=Europe/Helsinki:20230128T190000
DTEND;TZID=Europe/Helsinki:20230128T190000
DTSTAMP:20230102T170110Z
URL:https://kohokohdat.fi/tapahtuma/akseli-klonk-divine-6/
SUMMARY:Akseli Klonk: DIVINE!
DESCRIPTION:DIVINE! Melkein pulmunen... Diskonukketeatterinäytelmä tosiel
 ämän drag-legenda ja diskokuningatar Divinestä sekä miehestä roolin t
 akana.
CATEGORIES:Teatteri ja tanssi
LOCATION:Klonkkanäyttämö\, Hallituskatu 20\, Oulu\, Suomi
GEO:65.011926;25.476563
X-APPLE-STRUCTURED-LOCATION;VALUE=URI;X-ADDRESS=Hallituskatu 20\, Oulu\, Su
 omi;X-APPLE-RADIUS=100;X-TITLE=Klonkkanäyttämö:geo:65.011926,25.476563
END:VEVENT
BEGIN:VEVENT
UID:1-174684@kohokohdat.fi
DTSTART;TZID=Europe/Helsinki:20230205T190000
DTEND;TZID=Europe/Helsinki:20230205T190000
DTSTAMP:20230102T170118Z
URL:https://kohokohdat.fi/tapahtuma/akseli-klonk-divine-7/
SUMMARY:Akseli Klonk: DIVINE!
DESCRIPTION:DIVINE! Melkein pulmunen... Diskonukketeatterinäytelmä tosiel
 ämän drag-legenda ja diskokuningatar Divinestä sekä miehestä roolin t
 akana.
CATEGORIES:Teatteri ja tanssi
LOCATION:Klonkkanäyttämö\, Hallituskatu 20\, Oulu\, Suomi
GEO:65.011926;25.476563
X-APPLE-STRUCTURED-LOCATION;VALUE=URI;X-ADDRESS=Hallituskatu 20\, Oulu\, Su
 omi;X-APPLE-RADIUS=100;X-TITLE=Klonkkanäyttämö:geo:65.011926,25.476563
END:VEVENT
BEGIN:VEVENT
UID:1-174685@kohokohdat.fi
DTSTART;TZID=Europe/Helsinki:20230206T190000
DTEND;TZID=Europe/Helsinki:20230206T190000
DTSTAMP:20230102T170144Z
URL:https://kohokohdat.fi/tapahtuma/akseli-klonk-divine-8/
SUMMARY:Akseli Klonk: DIVINE!
DESCRIPTION:DIVINE! Melkein pulmunen... Diskonukketeatterinäytelmä tosiel
 ämän drag-legenda ja diskokuningatar Divinestä sekä miehestä roolin t
 akana.
CATEGORIES:Teatteri ja tanssi
LOCATION:Klonkkanäyttämö\, Hallituskatu 20\, Oulu\, Suomi
GEO:65.011926;25.476563
X-APPLE-STRUCTURED-LOCATION;VALUE=URI;X-ADDRESS=Hallituskatu 20\, Oulu\, Su
 omi;X-APPLE-RADIUS=100;X-TITLE=Klonkkanäyttämö:geo:65.011926,25.476563
END:VEVENT
BEGIN:VEVENT
UID:1-174686@kohokohdat.fi
DTSTART;TZID=Europe/Helsinki:20230207T190000
DTEND;TZID=Europe/Helsinki:20230207T190000
DTSTAMP:20230102T170147Z
URL:https://kohokohdat.fi/tapahtuma/akseli-klonk-divine-9/
SUMMARY:Akseli Klonk: DIVINE!
DESCRIPTION:DIVINE! Melkein pulmunen... Diskonukketeatterinäytelmä tosiel
 ämän drag-legenda ja diskokuningatar Divinestä sekä miehestä roolin t
 akana.
CATEGORIES:Teatteri ja tanssi
LOCATION:Klonkkanäyttämö\, Hallituskatu 20\, Oulu\, Suomi
GEO:65.011926;25.476563
X-APPLE-STRUCTURED-LOCATION;VALUE=URI;X-ADDRESS=Hallituskatu 20\, Oulu\, Su
 omi;X-APPLE-RADIUS=100;X-TITLE=Klonkkanäyttämö:geo:65.011926,25.476563
END:VEVENT
BEGIN:VEVENT
UID:1-174687@kohokohdat.fi
DTSTART;TZID=Europe/Helsinki:20230208T190000
DTEND;TZID=Europe/Helsinki:20230208T190000
DTSTAMP:20230102T170150Z
URL:https://kohokohdat.fi/tapahtuma/akseli-klonk-divine-10/
SUMMARY:Akseli Klonk: DIVINE!
DESCRIPTION:DIVINE! Melkein pulmunen... Diskonukketeatterinäytelmä tosiel
 ämän drag-legenda ja diskokuningatar Divinestä sekä miehestä roolin t
 akana.
CATEGORIES:Teatteri ja tanssi
LOCATION:Klonkkanäyttämö\, Hallituskatu 20\, Oulu\, Suomi
GEO:65.011926;25.476563
X-APPLE-STRUCTURED-LOCATION;VALUE=URI;X-ADDRESS=Hallituskatu 20\, Oulu\, Su
 omi;X-APPLE-RADIUS=100;X-TITLE=Klonkkanäyttämö:geo:65.011926,25.476563
END:VEVENT
BEGIN:VEVENT
UID:1-174688@kohokohdat.fi
DTSTART;TZID=Europe/Helsinki:20230215T190000
DTEND;TZID=Europe/Helsinki:20230215T190000
DTSTAMP:20230102T170155Z
URL:https://kohokohdat.fi/tapahtuma/akseli-klonk-divine-11/
SUMMARY:Akseli Klonk: DIVINE!
DESCRIPTION:DIVINE! Melkein pulmunen... Diskonukketeatterinäytelmä tosiel
 ämän drag-legenda ja diskokuningatar Divinestä sekä miehestä roolin t
 akana.
CATEGORIES:Teatteri ja tanssi
LOCATION:Klonkkanäyttämö\, Hallituskatu 20\, Oulu\, Suomi
GEO:65.011926;25.476563
X-APPLE-STRUCTURED-LOCATION;VALUE=URI;X-ADDRESS=Hallituskatu 20\, Oulu\, Su
 omi;X-APPLE-RADIUS=100;X-TITLE=Klonkkanäyttämö:geo:65.011926,25.476563
END:VEVENT
BEGIN:VEVENT
UID:1-174689@kohokohdat.fi
DTSTART;TZID=Europe/Helsinki:20230216T190000
DTEND;TZID=Europe/Helsinki:20230216T190000
DTSTAMP:20230102T170158Z
URL:https://kohokohdat.fi/tapahtuma/akseli-klonk-divine-12/
SUMMARY:Akseli Klonk: DIVINE!
DESCRIPTION:DIVINE! Melkein pulmunen... Diskonukketeatterinäytelmä tosiel
 ämän drag-legenda ja diskokuningatar Divinestä sekä miehestä roolin t
 akana.
CATEGORIES:Teatteri ja tanssi
LOCATION:Klonkkanäyttämö\, Hallituskatu 20\, Oulu\, Suomi
GEO:65.011926;25.476563
X-APPLE-STRUCTURED-LOCATION;VALUE=URI;X-ADDRESS=Hallituskatu 20\, Oulu\, Su
 omi;X-APPLE-RADIUS=100;X-TITLE=Klonkkanäyttämö:geo:65.011926,25.476563
END:VEVENT
BEGIN:VEVENT
UID:1-174690@kohokohdat.fi
DTSTART;TZID=Europe/Helsinki:20230217T190000
DTEND;TZID=Europe/Helsinki:20230217T190000
DTSTAMP:20230102T170200Z
URL:https://kohokohdat.fi/tapahtuma/akseli-klonk-divine-13/
SUMMARY:Akseli Klonk: DIVINE!
DESCRIPTION:DIVINE! Melkein pulmunen... Diskonukketeatterinäytelmä tosiel
 ämän drag-legenda ja diskokuningatar Divinestä sekä miehestä roolin t
 akana.
CATEGORIES:Teatteri ja tanssi
LOCATION:Klonkkanäyttämö\, Hallituskatu 20\, Oulu\, Suomi
GEO:65.011926;25.476563
X-APPLE-STRUCTURED-LOCATION;VALUE=URI;X-ADDRESS=Hallituskatu 20\, Oulu\, Su
 omi;X-APPLE-RADIUS=100;X-TITLE=Klonkkanäyttämö:geo:65.011926,25.476563
END:VEVENT
BEGIN:VEVENT
UID:1-174691@kohokohdat.fi
DTSTART;TZID=Europe/Helsinki:20230218T190000
DTEND;TZID=Europe/Helsinki:20230218T190000
DTSTAMP:20230102T170204Z
URL:https://kohokohdat.fi/tapahtuma/akseli-klonk-divine-14/
SUMMARY:Akseli Klonk: DIVINE!
DESCRIPTION:DIVINE! Melkein pulmunen... Diskonukketeatterinäytelmä tosiel
 ämän drag-legenda ja diskokuningatar Divinestä sekä miehestä roolin t
 akana.
CATEGORIES:Teatteri ja tanssi
LOCATION:Klonkkanäyttämö\, Hallituskatu 20\, Oulu\, Suomi
GEO:65.011926;25.476563
X-APPLE-STRUCTURED-LOCATION;VALUE=URI;X-ADDRESS=Hallituskatu 20\, Oulu\, Su
 omi;X-APPLE-RADIUS=100;X-TITLE=Klonkkanäyttämö:geo:65.011926,25.476563
END:VEVENT
BEGIN:VEVENT
UID:1-174692@kohokohdat.fi
DTSTART;TZID=Europe/Helsinki:20230301T190000
DTEND;TZID=Europe/Helsinki:20230301T190000
DTSTAMP:20230102T170207Z
URL:https://kohokohdat.fi/tapahtuma/akseli-klonk-divine-15/
SUMMARY:Akseli Klonk: DIVINE!
DESCRIPTION:DIVINE! Melkein pulmunen... Diskonukketeatterinäytelmä tosiel
 ämän drag-legenda ja diskokuningatar Divinestä sekä miehestä roolin t
 akana.
CATEGORIES:Teatteri ja tanssi
LOCATION:Klonkkanäyttämö\, Hallituskatu 20\, Oulu\, Suomi
GEO:65.011926;25.476563
X-APPLE-STRUCTURED-LOCATION;VALUE=URI;X-ADDRESS=Hallituskatu 20\, Oulu\, Su
 omi;X-APPLE-RADIUS=100;X-TITLE=Klonkkanäyttämö:geo:65.011926,25.476563
END:VEVENT
BEGIN:VEVENT
UID:1-174693@kohokohdat.fi
DTSTART;TZID=Europe/Helsinki:20230302T190000
DTEND;TZID=Europe/Helsinki:20230302T190000
DTSTAMP:20230102T170212Z
URL:https://kohokohdat.fi/tapahtuma/akseli-klonk-divine-16/
SUMMARY:Akseli Klonk: DIVINE!
DESCRIPTION:DIVINE! Melkein pulmunen... Diskonukketeatterinäytelmä tosiel
 ämän drag-legenda ja diskokuningatar Divinestä sekä miehestä roolin t
 akana.
CATEGORIES:Teatteri ja tanssi
LOCATION:Klonkkanäyttämö\, Hallituskatu 20\, Oulu\, Suomi
GEO:65.011926;25.476563
X-APPLE-STRUCTURED-LOCATION;VALUE=URI;X-ADDRESS=Hallituskatu 20\, Oulu\, Su
 omi;X-APPLE-RADIUS=100;X-TITLE=Klonkkanäyttämö:geo:65.011926,25.476563
END:VEVENT
BEGIN:VEVENT
UID:1-174694@kohokohdat.fi
DTSTART;TZID=Europe/Helsinki:20230303T190000
DTEND;TZID=Europe/Helsinki:20230303T190000
DTSTAMP:20230102T170216Z
URL:https://kohokohdat.fi/tapahtuma/akseli-klonk-divine-17/
SUMMARY:Akseli Klonk: DIVINE!
DESCRIPTION:DIVINE! Melkein pulmunen... Diskonukketeatterinäytelmä tosiel
 ämän drag-legenda ja diskokuningatar Divinestä sekä miehestä roolin t
 akana.
CATEGORIES:Teatteri ja tanssi
LOCATION:Klonkkanäyttämö\, Hallituskatu 20\, Oulu\, Suomi
GEO:65.011926;25.476563
X-APPLE-STRUCTURED-LOCATION;VALUE=URI;X-ADDRESS=Hallituskatu 20\, Oulu\, Su
 omi;X-APPLE-RADIUS=100;X-TITLE=Klonkkanäyttämö:geo:65.011926,25.476563
END:VEVENT
BEGIN:VEVENT
UID:1-174695@kohokohdat.fi
DTSTART;TZID=Europe/Helsinki:20230304T170000
DTEND;TZID=Europe/Helsinki:20230304T170000
DTSTAMP:20230102T170231Z
URL:https://kohokohdat.fi/tapahtuma/akseli-klonk-divine-18/
SUMMARY:Akseli Klonk: DIVINE!
DESCRIPTION:DIVINE! Melkein pulmunen... Diskonukketeatterinäytelmä tosiel
 ämän drag-legenda ja diskokuningatar Divinestä sekä miehestä roolin t
 akana.
CATEGORIES:Teatteri ja tanssi
LOCATION:Klonkkanäyttämö\, Hallituskatu 20\, Oulu\, Suomi
GEO:65.011926;25.476563
X-APPLE-STRUCTURED-LOCATION;VALUE=URI;X-ADDRESS=Hallituskatu 20\, Oulu\, Su
 omi;X-APPLE-RADIUS=100;X-TITLE=Klonkkanäyttämö:geo:65.011926,25.476563
END:VEVENT
BEGIN:VEVENT
UID:1-194424@kohokohdat.fi
DTSTART;TZID=Europe/Helsinki:20240302T210000
DTEND;TZID=Europe/Helsinki:20240302T210000
DTSTAMP:20240228T092152Z
URL:https://kohokohdat.fi/tapahtuma/the-billyboys-the-sultans/
SUMMARY:Ilta bluesille: Ismo Haavisto One Man Band\, Andres Roots (EST)
DESCRIPTION:
ATTACH;FMTTYPE=image/jpeg:https://kohokohdat.fi/wp-content/uploads/2024/02
 /andres-roots-keikat-hameenlinna.jpg
CATEGORIES:Keikat
LOCATION:Klonkkanäyttämö\, Hallituskatu 20\, Oulu\, Suomi
GEO:65.011926;25.476563
X-APPLE-STRUCTURED-LOCATION;VALUE=URI;X-ADDRESS=Hallituskatu 20\, Oulu\, Su
 omi;X-APPLE-RADIUS=100;X-TITLE=Klonkkanäyttämö:geo:65.011926,25.476563
END:VEVENT
BEGIN:VEVENT
UID:1-194425@kohokohdat.fi
DTSTART;TZID=Europe/Helsinki:20240314T180000
DTEND;TZID=Europe/Helsinki:20240314T180000
DTSTAMP:20240228T091440Z
URL:https://kohokohdat.fi/tapahtuma/edgars-rubenis-lva-jukka-nissinen-kado
 nnut-manner-ja-joakim-oinas/
SUMMARY:Edgars Rubenis (LVA)\, Jukka Nissinen\, Kadonnut Manner ja Joakim O
 inas
DESCRIPTION:
CATEGORIES:Keikat
LOCATION:Klonkkanäyttämö\, Hallituskatu 20\, Oulu\, Suomi
GEO:65.011926;25.476563
X-APPLE-STRUCTURED-LOCATION;VALUE=URI;X-ADDRESS=Hallituskatu 20\, Oulu\, Su
 omi;X-APPLE-RADIUS=100;X-TITLE=Klonkkanäyttämö:geo:65.011926,25.476563
END:VEVENT
BEGIN:VEVENT
UID:1-194426@kohokohdat.fi
DTSTART;TZID=Europe/Helsinki:20240316T160000
DTEND;TZID=Europe/Helsinki:20240316T160000
DTSTAMP:20240228T091530Z
URL:https://kohokohdat.fi/tapahtuma/ylimuonion-urheiluteatteri-palavien-pi
 hlajien-rannat/
SUMMARY:Ylimuonion urheiluteatteri: Palavien pihlajien rannat
DESCRIPTION:
CATEGORIES:Teatteri ja tanssi
LOCATION:Klonkkanäyttämö\, Hallituskatu 20\, Oulu\, Suomi
GEO:65.011926;25.476563
X-APPLE-STRUCTURED-LOCATION;VALUE=URI;X-ADDRESS=Hallituskatu 20\, Oulu\, Su
 omi;X-APPLE-RADIUS=100;X-TITLE=Klonkkanäyttämö:geo:65.011926,25.476563
END:VEVENT
BEGIN:VEVENT
UID:1-194427@kohokohdat.fi
DTSTART;TZID=Europe/Helsinki:20240316T210000
DTEND;TZID=Europe/Helsinki:20240316T210000
DTSTAMP:20240228T092222Z
URL:https://kohokohdat.fi/tapahtuma/maritta-kuula-janne-lastumaki-duo/
SUMMARY:Maritta Kuula & Janne Lastumäki duo
DESCRIPTION:
ATTACH;FMTTYPE=image/jpeg:https://kohokohdat.fi/wp-content/uploads/2024/02
 /maritta-kuula-keikat.jpg
CATEGORIES:Keikat
LOCATION:Klonkkanäyttämö\, Hallituskatu 20\, Oulu\, Suomi
GEO:65.011926;25.476563
X-APPLE-STRUCTURED-LOCATION;VALUE=URI;X-ADDRESS=Hallituskatu 20\, Oulu\, Su
 omi;X-APPLE-RADIUS=100;X-TITLE=Klonkkanäyttämö:geo:65.011926,25.476563
END:VEVENT
BEGIN:VEVENT
UID:1-194429@kohokohdat.fi
DTSTART;TZID=Europe/Helsinki:20240322T140000
DTEND;TZID=Europe/Helsinki:20240322T140000
DTSTAMP:20240228T091828Z
URL:https://kohokohdat.fi/tapahtuma/heikki-lund-suruttomain-seurakunta/
SUMMARY:Heikki Lund: Suruttomain seurakunta
DESCRIPTION:
CATEGORIES:Keikat
LOCATION:Klonkkanäyttämö\, Hallituskatu 20\, Oulu\, Suomi
GEO:65.011926;25.476563
X-APPLE-STRUCTURED-LOCATION;VALUE=URI;X-ADDRESS=Hallituskatu 20\, Oulu\, Su
 omi;X-APPLE-RADIUS=100;X-TITLE=Klonkkanäyttämö:geo:65.011926,25.476563
END:VEVENT
BEGIN:VEVENT
UID:1-194428@kohokohdat.fi
DTSTART;TZID=Europe/Helsinki:20240322T183000
DTEND;TZID=Europe/Helsinki:20240322T183000
DTSTAMP:20240228T091559Z
URL:https://kohokohdat.fi/tapahtuma/the-billyboys-the-sultans-2/
SUMMARY:Heikki Lund: Suruttomain seurakunta
DESCRIPTION:
CATEGORIES:Keikat
LOCATION:Klonkkanäyttämö\, Hallituskatu 20\, Oulu\, Suomi
GEO:65.011926;25.476563
X-APPLE-STRUCTURED-LOCATION;VALUE=URI;X-ADDRESS=Hallituskatu 20\, Oulu\, Su
 omi;X-APPLE-RADIUS=100;X-TITLE=Klonkkanäyttämö:geo:65.011926,25.476563
END:VEVENT
BEGIN:VEVENT
UID:1-194430@kohokohdat.fi
DTSTART;TZID=Europe/Helsinki:20240323T170000
DTEND;TZID=Europe/Helsinki:20240323T170000
DTSTAMP:20240228T091837Z
URL:https://kohokohdat.fi/tapahtuma/heikki-lund-suruttomain-seurakunta-2/
SUMMARY:Heikki Lund: Suruttomain seurakunta
DESCRIPTION:
CATEGORIES:Keikat
LOCATION:Klonkkanäyttämö\, Hallituskatu 20\, Oulu\, Suomi
GEO:65.011926;25.476563
X-APPLE-STRUCTURED-LOCATION;VALUE=URI;X-ADDRESS=Hallituskatu 20\, Oulu\, Su
 omi;X-APPLE-RADIUS=100;X-TITLE=Klonkkanäyttämö:geo:65.011926,25.476563
END:VEVENT
BEGIN:VEVENT
UID:1-194432@kohokohdat.fi
DTSTART;TZID=Europe/Helsinki:20240406T190000
DTEND;TZID=Europe/Helsinki:20240406T190000
DTSTAMP:20240228T092101Z
URL:https://kohokohdat.fi/tapahtuma/kokkolan-kaupunginteatteri-rockkari/
SUMMARY:Kokkolan kaupunginteatteri: RockKari
DESCRIPTION:ROCKKARI - Koominen monologi menestymisen vaikeudesta\nNäytelm
 än päähenkilö Kari the Doom Juvonen on Pussy Stuff bändin liideri\, k
 osketinsoittaja-vokalisti ja oman elämänsä kuningas\, joka menneinä vu
 osina kirjoitti täysin sattumalta bändilleen hittibiisin. Tuon hittibiis
 in siivittämänä nelihenkinen Pussy Stuff kiersi maailmaan metropoleja. 
 Nykyään noin 55-vuotias Kari elää yksin tarinoidensa kanssa pienessä 
 kylässä jossain päin Espanjan maaseutua. Kun manageri yllättäin soitt
 aa\, tarjoutuu Karille viimeinen mahdollisuus esittää hittibiisinsä\, S
 leeping Deep\, vielä kerran.
ATTACH;FMTTYPE=image/jpeg:https://kohokohdat.fi/wp-content/uploads/2024/02
 /rockari-teatteri.jpg
CATEGORIES:Teatteri ja tanssi
LOCATION:Klonkkanäyttämö\, Hallituskatu 20\, Oulu\, Suomi
GEO:65.011926;25.476563
X-APPLE-STRUCTURED-LOCATION;VALUE=URI;X-ADDRESS=Hallituskatu 20\, Oulu\, Su
 omi;X-APPLE-RADIUS=100;X-TITLE=Klonkkanäyttämö:geo:65.011926,25.476563
END:VEVENT
BEGIN:VEVENT
UID:1-194431@kohokohdat.fi
DTSTART;TZID=Europe/Helsinki:20240406T210000
DTEND;TZID=Europe/Helsinki:20240406T210000
DTSTAMP:20240228T092253Z
URL:https://kohokohdat.fi/tapahtuma/jussi-syren-and-the-groundbreakers/
SUMMARY:Jussi Syren And The Groundbreakers
DESCRIPTION:
ATTACH;FMTTYPE=image/jpeg:https://kohokohdat.fi/wp-content/uploads/2024/02
 /jussi-syren-keikat.jpg
CATEGORIES:Keikat
LOCATION:Klonkkanäyttämö\, Hallituskatu 20\, Oulu\, Suomi
GEO:65.011926;25.476563
X-APPLE-STRUCTURED-LOCATION;VALUE=URI;X-ADDRESS=Hallituskatu 20\, Oulu\, Su
 omi;X-APPLE-RADIUS=100;X-TITLE=Klonkkanäyttämö:geo:65.011926,25.476563
END:VEVENT
BEGIN:VEVENT
UID:1-194433@kohokohdat.fi
DTSTART;TZID=Europe/Helsinki:20240427T140000
DTEND;TZID=Europe/Helsinki:20240427T140000
DTSTAMP:20240228T092117Z
URL:https://kohokohdat.fi/tapahtuma/kokkolan-kaupunginteatteri-rockkari-2/
SUMMARY:Kokkolan kaupunginteatteri: RockKari
DESCRIPTION:ROCKKARI - Koominen monologi menestymisen vaikeudesta\nNäytelm
 än päähenkilö Kari the Doom Juvonen on Pussy Stuff bändin liideri\, k
 osketinsoittaja-vokalisti ja oman elämänsä kuningas\, joka menneinä vu
 osina kirjoitti täysin sattumalta bändilleen hittibiisin. Tuon hittibiis
 in siivittämänä nelihenkinen Pussy Stuff kiersi maailmaan metropoleja. 
 Nykyään noin 55-vuotias Kari elää yksin tarinoidensa kanssa pienessä 
 kylässä jossain päin Espanjan maaseutua. Kun manageri yllättäin soitt
 aa\, tarjoutuu Karille viimeinen mahdollisuus esittää hittibiisinsä\, S
 leeping Deep\, vielä kerran.
ATTACH;FMTTYPE=image/jpeg:https://kohokohdat.fi/wp-content/uploads/2024/02
 /rockari-teatteri.jpg
CATEGORIES:Teatteri ja tanssi
LOCATION:Klonkkanäyttämö\, Hallituskatu 20\, Oulu\, Suomi
GEO:65.011926;25.476563
X-APPLE-STRUCTURED-LOCATION;VALUE=URI;X-ADDRESS=Hallituskatu 20\, Oulu\, Su
 omi;X-APPLE-RADIUS=100;X-TITLE=Klonkkanäyttämö:geo:65.011926,25.476563
END:VEVENT
BEGIN:VEVENT
UID:1-194434@kohokohdat.fi
DTSTART;TZID=Europe/Helsinki:20240427T170000
DTEND;TZID=Europe/Helsinki:20240427T170000
DTSTAMP:20240228T092125Z
URL:https://kohokohdat.fi/tapahtuma/kokkolan-kaupunginteatteri-rockkari-3/
SUMMARY:Kokkolan kaupunginteatteri: RockKari
DESCRIPTION:ROCKKARI - Koominen monologi menestymisen vaikeudesta\nNäytelm
 än päähenkilö Kari the Doom Juvonen on Pussy Stuff bändin liideri\, k
 osketinsoittaja-vokalisti ja oman elämänsä kuningas\, joka menneinä vu
 osina kirjoitti täysin sattumalta bändilleen hittibiisin. Tuon hittibiis
 in siivittämänä nelihenkinen Pussy Stuff kiersi maailmaan metropoleja. 
 Nykyään noin 55-vuotias Kari elää yksin tarinoidensa kanssa pienessä 
 kylässä jossain päin Espanjan maaseutua. Kun manageri yllättäin soitt
 aa\, tarjoutuu Karille viimeinen mahdollisuus esittää hittibiisinsä\, S
 leeping Deep\, vielä kerran.
ATTACH;FMTTYPE=image/jpeg:https://kohokohdat.fi/wp-content/uploads/2024/02
 /rockari-teatteri.jpg
CATEGORIES:Teatteri ja tanssi
LOCATION:Klonkkanäyttämö\, Hallituskatu 20\, Oulu\, Suomi
GEO:65.011926;25.476563
X-APPLE-STRUCTURED-LOCATION;VALUE=URI;X-ADDRESS=Hallituskatu 20\, Oulu\, Su
 omi;X-APPLE-RADIUS=100;X-TITLE=Klonkkanäyttämö:geo:65.011926,25.476563
END:VEVENT
BEGIN:VTIMEZONE
TZID:Europe/Helsinki
X-LIC-LOCATION:Europe/Helsinki
BEGIN:STANDARD
DTSTART:20221030T030000
TZOFFSETFROM:+0300
TZOFFSETTO:+0200
TZNAME:EET
END:STANDARD
BEGIN:DAYLIGHT
DTSTART:20230326T040000
TZOFFSETFROM:+0200
TZOFFSETTO:+0300
TZNAME:EEST
END:DAYLIGHT
BEGIN:STANDARD
DTSTART:20231029T030000
TZOFFSETFROM:+0300
TZOFFSETTO:+0200
TZNAME:EET
END:STANDARD
BEGIN:DAYLIGHT
DTSTART:20240331T040000
TZOFFSETFROM:+0200
TZOFFSETTO:+0300
TZNAME:EEST
END:DAYLIGHT
END:VTIMEZONE
END:VCALENDAR