BEGIN:VCALENDAR
VERSION:2.0
PRODID:-//wp-events-plugin.com//7.2.3.1//EN
TZID:Europe/Helsinki
X-WR-TIMEZONE:Europe/Helsinki
BEGIN:VEVENT
UID:1-171815@kohokohdat.fi
DTSTART;TZID=Europe/Helsinki:20221218T180000
DTEND;TZID=Europe/Helsinki:20221218T180000
DTSTAMP:20221128T072232Z
URL:https://kohokohdat.fi/tapahtuma/aarnen-ja-tuomaksen-joulukonsertti/
SUMMARY:Aarnen ja Tuomaksen joulukonsertti
DESCRIPTION:Aarnen ja Tuomaksen joulu -joulukonsertti Oulun Karjasillan kir
 kossa sunnuntaina 18.12. yhdistää ensimmäistä kertaa joulumusiikin ä
 ärelle kaksi suosittua suomalaista oopperalaulajaa.\nMerkittävää kansa
 invälistä uraa tekevän tenori Tuomas Katajala ja yhden sukupolvensa ky
 sytyimmistä ooppera- ja konserttilaulajista\, baritoni Aarne Pelkonen mus
 isoivat yhdessä urkuvirtuoosi Ilpo Laspaksen sekä rakastetun saksofonist
 in\, Jukka Perkon kanssa.\n\nHarvinainen konsertti pitää sisällään ka
 iken mitä tarvitaan perinteiseen joulutunnelmaan: kynttilöiden loisteen\
 , tunnelmalliset tulkinnat sekä tietysti rakastetut joululaulut. Tilaisuu
 den kesto 70 min.
ATTACH;FMTTYPE=image/jpeg:https://kohokohdat.fi/wp-content/uploads/2022/11
 /aarnen-ja-tuomaksen-joulukonsertti-oulussa.jpg
CATEGORIES:Keikat,Klassinen
LOCATION:Karjasillan kirkko\, Nokelantie 39\, Oulu\, Suomi
GEO:64.997469;25.490697
X-APPLE-STRUCTURED-LOCATION;VALUE=URI;X-ADDRESS=Nokelantie 39\, Oulu\, Suom
 i;X-APPLE-RADIUS=100;X-TITLE=Karjasillan kirkko:geo:64.997469,25.490697
END:VEVENT
BEGIN:VEVENT
UID:1-202342@kohokohdat.fi
DTSTART;TZID=Europe/Helsinki:20241212T180000
DTEND;TZID=Europe/Helsinki:20241212T180000
DTSTAMP:20241012T084003Z
URL:https://kohokohdat.fi/tapahtuma/saara-aallon-joulukonsertti-oulussa/
SUMMARY:Saara Aallon joulukonsertti Oulussa
DESCRIPTION:Saara Aalto kiertää Suomea joulun 2024 alla ja saapuu Oulun t
 unnelmalliseen Karjasillan kirkkoon esiintymään torstaina 12.12.\nJouluk
 onserttikiertueella kuullaan hienoimpia joululauluja Suomesta ja maailmalt
 a Saaran enkelimäisen äänen ja upeiden muusikoiden tulkitsemana.\n\n&nb
 sp\;
ATTACH;FMTTYPE=image/jpeg:https://kohokohdat.fi/wp-content/uploads/2022/09
 /saara-aalto-joulukonsertti-696x464-1.jpg
CATEGORIES:Keikat
LOCATION:Karjasillan kirkko\, Nokelantie 39\, Oulu\, Suomi
GEO:64.997469;25.490697
X-APPLE-STRUCTURED-LOCATION;VALUE=URI;X-ADDRESS=Nokelantie 39\, Oulu\, Suom
 i;X-APPLE-RADIUS=100;X-TITLE=Karjasillan kirkko:geo:64.997469,25.490697
END:VEVENT
BEGIN:VTIMEZONE
TZID:Europe/Helsinki
X-LIC-LOCATION:Europe/Helsinki
BEGIN:STANDARD
DTSTART:20221030T030000
TZOFFSETFROM:+0300
TZOFFSETTO:+0200
TZNAME:EET
END:STANDARD
BEGIN:DAYLIGHT
DTSTART:20230326T040000
TZOFFSETFROM:+0200
TZOFFSETTO:+0300
TZNAME:EEST
END:DAYLIGHT
BEGIN:STANDARD
DTSTART:20231029T030000
TZOFFSETFROM:+0300
TZOFFSETTO:+0200
TZNAME:EET
END:STANDARD
BEGIN:DAYLIGHT
DTSTART:20240331T040000
TZOFFSETFROM:+0200
TZOFFSETTO:+0300
TZNAME:EEST
END:DAYLIGHT
BEGIN:STANDARD
DTSTART:20241027T030000
TZOFFSETFROM:+0300
TZOFFSETTO:+0200
TZNAME:EET
END:STANDARD
END:VTIMEZONE
END:VCALENDAR