BEGIN:VCALENDAR
VERSION:2.0
PRODID:-//wp-events-plugin.com//7.2.3.1//EN
TZID:Europe/Helsinki
X-WR-TIMEZONE:Europe/Helsinki
BEGIN:VEVENT
UID:7-158960@kohokohdat.fi
DTSTART;TZID=Europe/Helsinki:20221008T180000
DTEND;TZID=Europe/Helsinki:20221008T180000
DTSTAMP:20260420T204831Z
URL:
SUMMARY:The Cure Helsingissä
DESCRIPTION:Maailman suosituimpiin vaihtoehtorock-yhtyeisiin lukeutuva brit
 tiläinen The Cure konsertoi Helsingin Jäähallissa 8.10.2022 osana Euroo
 pan-kiertuettaan.\nKonsertin lämmittelijänä nähdään skotlantilainen 
 post-punk ja indierock -yhtye The Twilight Sad.\n\nLipunmyynti konserttiin
  Ticketmasterissa.\n\nEnsimmäisen keikkansa vuonna 1978 soittanut englant
 ilainen The Cure on yksi maailman arvostetuimmista vaihtoehtorock-yhtyeist
 ä. Bändin suurimmat hitit\, kuten ”Just Like Heaven”\, ”Friday I
 ’m In Love”\, “Boys Don’t Cry”\, “Lullaby”\, “Close To Me
 ”\, “The Lovecats” ja “Doing The Unstuck”\, lukeutuvat kaikkien 
 tuntemiin rockin klassikkoihin.\n\n\nVuonna 1976 perustettu The Cure on 
 yksi modernin musiikin kivijalkoja\, jonka vaikutus ei rajoitu goottirocki
 in\, jonka alkuräjähdyksessä laulaja-lauluntekijä Robert Smithin bä
 ndi näytteli tärkeää roolia. The Cure oli myös ensimmäisiä globaali
 ksi hittikoneeksi kasvaneita vaihtoehtobändejä.\n\nPörrötukkaisen Rob
 ert Smithin luotsaama yhtye onkin tehnyt lähtemättömän vaikutuksen luk
 uisiin fanisukupolviin uransa varrella. Yhä aktiivisesti keikkaileva ja u
 utta materiaalia julkaiseva yhtye on kiertänyt viime vuosina maailmaa ja 
 esiintynyt mm. viisi iltaa peräjälkeen Sydneyn oopperatalolla Australias
 sa sekä heittänyt 25 festivaalikeikkaa kolmen kuukauden aikana.\n\nEuroo
 pan-kiertue käsittää yhteensä 44 keikkaa 22 eri maassa. Viimeisin albu
 mi ”4:13 Dream” ilmestyi vuonna 2008\, jolle saadaan jatkoa 2022 aikan
 a. Suomessa yhtye on konsertoinut muutamia kertoja ennen ensi vuoden Hartw
 all Arenan keikkaa. Edellisen kerran bändi esiintyi täällä vuoden 2019
  Flow Festivalilla\, sitä edelliset esiintymiset olivat Hartwall Arenalla
  vuonna 2016 ja Provinssirockissa vuonna 1996.
LOCATION:\, \, 
X-APPLE-STRUCTURED-LOCATION;VALUE=URI;X-ADDRESS=\, ;X-APPLE-RADIUS=100;X-TI
 TLE=:geo:0,0
END:VEVENT
BEGIN:VTIMEZONE
TZID:Europe/Helsinki
X-LIC-LOCATION:Europe/Helsinki
BEGIN:DAYLIGHT
DTSTART:20220327T040000
TZOFFSETFROM:+0200
TZOFFSETTO:+0300
TZNAME:EEST
END:DAYLIGHT
END:VTIMEZONE
END:VCALENDAR