BEGIN:VCALENDAR
VERSION:2.0
PRODID:-//wp-events-plugin.com//7.2.3.1//EN
TZID:Europe/Helsinki
X-WR-TIMEZONE:Europe/Helsinki
BEGIN:VEVENT
UID:7-181263@kohokohdat.fi
DTSTART;TZID=Europe/Helsinki:20231103T180000
DTEND;TZID=Europe/Helsinki:20231103T180000
DTSTAMP:20260422T053955Z
URL:
SUMMARY:Stam1na
DESCRIPTION:Uransa kymmenennen albumin syksyllä julkaiseva metalliyhtye St
 am1na esiintyy Helsingin Jäähallin Black Boxissa perjantaina 3.11.2023. 
 Stam1nan lisäksi Jäähalliin saapuu kolme lämmittelijäbändiä: kotima
 inen Diablo\, ruotsalainen Corroded sekä ensimmäistä kertaa Suomessa vi
 eraileva hollantilainen Dear Mother.\nKonsertin lipunmyynti on käynnissä
  Ticketmasterissa\nBlack Boxin jo vuonna 2018 loppuunmyynyt lemiläinen me
 talliyhtye Stam1na heittää tulevan syksyn ainoan Helsingin keikkansa Jä
 ähallin Black Boxissa perjantaina marraskuun 3. päivä. Suomen tunnetuim
 piin metalliyhtyeisiin lukeutuvan Stam1nan lisäksi jäähallissa nähdä
 än kolme muuta bändiä. Black Boxin keikka on osa syyskuun lopussa uuden
  X-albuminsa julkaisevan Stam1nan tulevaa kiertuetta\, joka julkistetaan k
 okonaisuudessaan kesäkuun alussa.\n\nhttps://www.youtube.com/watch?v=oy6k
 X758n5c\nKonsertin lipunmyynti on käynnissä Ticketmasterissa\n– Stam1n
 a säveltää usein boksin ulkopuolelta\, mutta esiinnymme tiukasti sisäp
 uolella! Syksyn kiertueesta tulee monella mittakaavalla yhtyeemme suurin j
 a näyttävin. Helsingin keikka tulee olemaan se isoin ja lesoin\, yhtye k
 ertoo.\n\nSTAM1NA on yksi Suomen tunnetuimmista metalliyhtyeistä ja se on
  niittänyt mainetta myös ulkomailla. Yhtye on voittanut urallaan mm. vii
 si Emma-palkintoa ja saanut lukuisia kulta- ja platinalevyjä. Lemin oma m
 etalliylpeys julkaisee uransa kymmenennen albumin´X’ 29.9.2023. Janne J
 outsenniemen tuottamalta albumilta on jo ilmestynyt Vereen piirretty viiva
  -single\, jonka voit kuunnella täältä. Tulevana syksynä Stam1nan yli 
 27 vuoden ura paketoidaan luettavaan muotoon\, kun Like Kustannus julkaise
 e bändin historiikin. Ari Väntäsen kirjoittama Muistipalatsi julkaistaa
 n 27. syyskuuta 2023. Kesän 2023 Stam1na keikkaillee festivaaleilla. Hels
 ingin Jäähallissa Stam1nalla on ollut aiemmin kaksi omaa keikkaa: loppuu
 nmyyty Raja -albumin juhlakeikka Black Boxissa vuonna 2018 ja vuonna 2021 
 yhtye esiintyi Jäähallissa Viimeinen Atlantis -juhlakeikan tiimoilta yli
  4500 ihmiselle.\n\nhttps://www.youtube.com/watch?v=ISZ7qB_7CLk\n\nCORRODE
 D on yksi Ruotsin suurimmista metallibändeistä.\n\nCOAL-nimellä toimint
 ansa aloittanut Corroded julkaisi esikoisalbuminsa Eleven Shades of Black 
 vuonna 2009. Airbournen\, Painin ja Avenged Sevenfoldin kanssa kiertänyt 
 ruotsalaisyhtye on metallipiireissä tunnettu nimi ympäri Eurooppaa. Suom
 essakin jo aiemmin esiintynyt Corroded julkaisi toistaiseksi viimeisimmän
  albuminsa ’Bitter’ vuonna 2019.\n\nhttps://www.youtube.com/watch?v=gU
 CW2caH0nk\n\nDEAR MOTHER on hollantilaisen kitaristin Merel Bechtoldin ja 
 tšekkiläisen laulajan David Pearin perustama yhtye\, jonka johtoajatus o
 n ollut tehdä ja soittaa kaksikon rakastamaa musiikkia ilman turhia musii
 killisia raja-aitoja. Yhtye julkaisi jo kolme miljoonaa striimiä keränne
 en Bulletproof -esikoisalbuminsa joukkorahoituksen turvin vuonna 2021. Dea
 r Mother on toistaiseksi keikkaillut lähinnä Keski-Euroopassa\, mutta t
 ämän vuoden puolella yhtye on esiintynyt myös maailman suurimmalla heav
 y metal -risteilyllä\, 70 000 Tons of Metal\, USA:ssa. Marraskuinen Black
  Boxin keikka on viisihenkiseksi tänä vuonna kasvaneen Dear Motherin ens
 iesiintyminen Suomessa. Bändi on ilmoittanut julkaisevansa uuden EP:n vuo
 den 2024 aikana.\nKONSERTTI:\nStam1na (FI)\n+ supports Corroded (SE)\, Dea
 r Mother (NL) + myöhemmin julkistettava neljäs yhtye\nPe 3.11.2023\, Bla
 ck Box\, Helsingin Jäähalli\nOvet klo 17:30\, ikäraja K-18\nLIPUT:\nLip
 ut nyt myynnissä Ticketmasterissa.\nLiput palvelumaksuineen alkaen 52 eur
 oa.
LOCATION:\, \, 
X-APPLE-STRUCTURED-LOCATION;VALUE=URI;X-ADDRESS=\, ;X-APPLE-RADIUS=100;X-TI
 TLE=:geo:0,0
END:VEVENT
BEGIN:VTIMEZONE
TZID:Europe/Helsinki
X-LIC-LOCATION:Europe/Helsinki
BEGIN:STANDARD
DTSTART:20231029T030000
TZOFFSETFROM:+0300
TZOFFSETTO:+0200
TZNAME:EET
END:STANDARD
END:VTIMEZONE
END:VCALENDAR