BEGIN:VCALENDAR
VERSION:2.0
PRODID:-//wp-events-plugin.com//7.2.3.1//EN
TZID:Europe/Helsinki
X-WR-TIMEZONE:Europe/Helsinki
BEGIN:VEVENT
UID:7-177616@kohokohdat.fi
DTSTART;TZID=Europe/Helsinki:20230703T190000
DTEND;TZID=Europe/Helsinki:20230703T190000
DTSTAMP:20260422T101745Z
URL:
SUMMARY:Ravintola Oivan maanantaiklubi
DESCRIPTION:Maanantaiklubi on kriittisen keskustelun ja kulttuurin avoin ko
 htaamispaikka kunkin kuukauden ensimmäisenä maanantaina klo 19 Ravintola
  Oivassa\, Helsingin Kalliossa.\nKeskustelutapahtuman vetäjinä toimivat 
 Yrjö Hakanen ja Maria Malmström.\n\nMaanantaiklubin tarina alkaa syksyst
 ä 2001 Helsingin Kluuvista ja on jatkunut VR:n Makasiinien kautta Kallioo
 n.\n\nhttps://www.youtube.com/watch?v=6RbTG5C38i8
END:VEVENT
BEGIN:VTIMEZONE
TZID:Europe/Helsinki
X-LIC-LOCATION:Europe/Helsinki
BEGIN:DAYLIGHT
DTSTART:20230326T040000
TZOFFSETFROM:+0200
TZOFFSETTO:+0300
TZNAME:EEST
END:DAYLIGHT
END:VTIMEZONE
END:VCALENDAR