BEGIN:VCALENDAR
VERSION:2.0
PRODID:-//wp-events-plugin.com//7.2.3.1//EN
TZID:Europe/Helsinki
X-WR-TIMEZONE:Europe/Helsinki
BEGIN:VEVENT
UID:2-215594@kohokohdat.fi
DTSTART;TZID=Europe/Helsinki:20260522T200000
DTEND;TZID=Europe/Helsinki:20260522T200000
DTSTAMP:20260420T064036Z
URL:https://kohokohdat.fi/tampere/tapahtuma/prestige-bloodride-enemynside-
 ita-dethrone-2/
SUMMARY:PRESTIGE\, BLOODRIDE\, ENEMYNSIDE (ITA)\, DETHRONE
DESCRIPTION:ENEMYNSIDE (ITA)\n\nIllan kansainvälisestä annista vastaa Roo
 masta saapuva Enemynside. Yhtye on toiminut aktiivisesti vuodesta 1999 ja 
 rakentanut mainettaan kiertämällä Eurooppaa genren suurnimien kanssa. H
 eidän uusin julkaisunsa\, marraskuussa 2025 ilmestynyt EP ”In The Shado
 ws of Unrest”\, esittelee bändin\, joka hallitsee sekä perinteisen thr
 ashin että modernimman\, melankolisemman metallin vivahteet.\n\nhttps://w
 ww.facebook.com/Enemynside\n\nhttps://www.youtube.com/watch?v=8-8LZRegs0Q\
 n\nPRESTIGE\n\nSuomalaisen thrash metallin uranuurtaja Prestige palaa koti
 kentälleen Tampereelle. Vuonna 1987 perustettu yhtye oli mukana nostamass
 a genren suosiota Suomessa jo 80-luvun lopulla\, ja heidän varhaistuotant
 onsa on säilyttänyt asemansa genren klassikkona. Pitkän tauon jälkeen 
 yhtye palasi vahvasti parrasvaloihin vuonna 2021 julkaistulla Reveal The R
 avage -albumillaan\, joka osoitti yhtyeen olevan kovemmassa iskussa kuin k
 oskaan.\n\nhttps://www.youtube.com/watch?v=hXPkwqCzeHY\n\nhttps://www.face
 book.com/Prestigemetalband\n\nBLOODRIDE\n\nPitkän linjan thrash metal -ry
 kmentti Bloodride julkaisi viidennen albuminsa ”Deafening” heinäkuuss
 a 2025 italialaisen Wormholedeath Recordsin kautta. Uutta levyä on juhlit
 tu keikoilla kotomaassa ja Euroopassa ja tänä iltana on Bar Kotelon vuor
 o. Luvassa vauhtia ja vaarallisia tilanteita!\n\nhttps://www.facebook.com/
 bloodride\n\nhttps://youtu.be/_PB6C6Id2M0?si=qPZF8tKQqNzGRWTS\n\nDETHRONE\
 n\nTamperelaisen metallin kulttinimi Dethrone on toiminut jo vuodesta 1986
  lähtien. Yhtye herätti aikoinaan laajaa huomiota erityisesti debyyttial
 bumillaan Let the Day Begin\, joka esitteli kuulijoille tinkimättömän j
 a raskaan näkemyksen thrash metallista. Dethrone tuo lavalle vuosikymment
 en kokemuksen ja vankan soittotaidon\, joka on hioutunut osaksi Tampereen 
 metallihistoriaa.\n\nhttps://www.youtube.com/watch?v=qvTrFW0n2k8\n\nhttps:
 //www.facebook.com/DethroneFIN\n\n20:00 Ovet auki\n\n21:00 DETHRONE\n\n22:
 00 ENEMYNSIDE (ITA)\n\n23:00 BLOODRIDE\n\n24:00 PRESTIGE\n\nLiput 12/15€
 \n\n&nbsp\;\n\nDethronen uusi kokoonpano on varmistunut. Kokoonpanoon on l
 iittynyt Peero Lakanen\, joka on tunnettu Menticide -bändistä. Thrash ja
  death -metallia soittanut kokoonpano toimi aikoinaan vuosina 1988-1992 ja
  on suomalaisen thrash-metallin ensimmäistä aaltoa. Bändi julkasi vuonn
 a 1990 Domestic Violence ja Enforcer -singlet. Menticide oli mukana myös 
 Speed Metal Partyn paluussa vuonna 2018. Peeron\, joka on bändin jäsente
 n vanha ystävä\, soitin on basso\, joten muitakin muutoksia on siis tulo
 ssa. Kalle Terästö siirtyy kitaraan. Kitara on Terästön ykkössoitin j
 a tarkoituksena on kehittää bändin livesoundia uuteen suuntaan.\nPäät
 ös jatkaa soittamista Jukka Rajamäen yllättävän poismenon jälkeen ol
 i bändin yhteinen. ”Viimeinen tauko kesti 25 vuotta. Sen jälkeen uudel
 leen soittamaan opetteleminen oli niin tuskallinen prosessi\, että paremp
 i kuin ei lopeteta. Sitä Jukkakin haluaisi”\, toteaa bändin laulusolis
 ti Niko Airaksinen ja jatkaa:\n”Musiikista on tullut niin rakas harrastu
 s\, että siitä luopuminen on tällä hetkellä mahdotonta.”\nBändin e
 nsimmäinen paluukeikka on toukokuussa Bar Kotelossa Tampereella ja seuraa
 vaksi bändi nähdään kesäkuussa Lepakkomiehessä Finnish Heavy Metal M
 aniacs -festivaalilla. Elokuussa on sitten taas vuorossa bändin kotifesti
 vaali: perinteikäs Speed Metal Party.
ATTACH;FMTTYPE=image/jpeg:https://kohokohdat.fi/wp-content/uploads/sites/2
 /2026/04/Dethrone-metallikeikat-Tampereella.jpg
CATEGORIES:Keikat
END:VEVENT
BEGIN:VTIMEZONE
TZID:Europe/Helsinki
X-LIC-LOCATION:Europe/Helsinki
BEGIN:DAYLIGHT
DTSTART:20260329T040000
TZOFFSETFROM:+0200
TZOFFSETTO:+0300
TZNAME:EEST
END:DAYLIGHT
END:VTIMEZONE
END:VCALENDAR