BEGIN:VCALENDAR
VERSION:2.0
PRODID:-//wp-events-plugin.com//7.2.3.1//EN
TZID:Europe/Helsinki
X-WR-TIMEZONE:Europe/Helsinki
BEGIN:VEVENT
UID:3-202360@kohokohdat.fi
DTSTART;TZID=Europe/Helsinki;VALUE=DATE:20250121
DTEND;TZID=Europe/Helsinki;VALUE=DATE:20250122
DTSTAMP:20241128T075028Z
URL:https://kohokohdat.fi/helsinki/tapahtuma/pantera/
SUMMARY:Pantera
DESCRIPTION:Heavy metalli-ikoni PANTERA esiintyy 21.1.2025 Helsingin Jääh
 allissa\, josta kiertue jatkuu Tukohomaan. Tapahtuma on mahdollisesti lopp
 uunvarattu.\nKiertue jatkuu Amsterdamissa\, Berliinissä\, Pariisissa. Alk
 uperäiset jäsenet\, laulaja Philip H. Anselmo ja basisti Rex Brown\, sek
 ä kitaristi Zakk Wylde ja rumpali Charlie Benante\, jatkavat edesmenneide
 n perustajajäsenten\, rumpali Vinnie Paulin ja kitaristi Dimebag Darrelli
 n elämän juhlaa.\n\nKiertue seuraa Panteran aiemmin ilmoittamia Yhdistyn
 een kuningaskunnan ja Irlannin päivämääriä ja heidän voittoisaa Head
 line-esityksiä tämän vuoden Download Festivalilla\, josta Metal Talk Ma
 gazine sanoi: “Panteran ensimmäinen esiintyminen Isossa-Britanniassa ka
 hteenkymmeneen vuoteen oli kuin ukkonen ja jätti tuhannet kerjäämään 
 lisää.” Bändi tuki myös Metallicaa Pohjois-Amerikan stadionkiertueel
 la.\n\n
ATTACH;FMTTYPE=image/jpeg:https://kohokohdat.fi/wp-content/uploads/sites/3
 /2024/10/Pantera-event-cover-1-uai-1032x688-1.jpg
CATEGORIES:Festivaalit,Keikat
LOCATION:\, \, 
X-APPLE-STRUCTURED-LOCATION;VALUE=URI;X-ADDRESS=\, ;X-APPLE-RADIUS=100;X-TI
 TLE=:geo:0,0
END:VEVENT
BEGIN:VTIMEZONE
TZID:Europe/Helsinki
X-LIC-LOCATION:Europe/Helsinki
BEGIN:STANDARD
DTSTART:20241027T030000
TZOFFSETFROM:+0300
TZOFFSETTO:+0200
TZNAME:EET
END:STANDARD
END:VTIMEZONE
END:VCALENDAR