BEGIN:VCALENDAR
VERSION:2.0
PRODID:-//wp-events-plugin.com//7.2.3.1//EN
TZID:Europe/Helsinki
X-WR-TIMEZONE:Europe/Helsinki
BEGIN:VEVENT
UID:2-215643@kohokohdat.fi
DTSTART;TZID=Europe/Helsinki:20260501T110000
DTEND;TZID=Europe/Helsinki:20260501T110000
DTSTAMP:20260421T180249Z
URL:https://kohokohdat.fi/tampere/tapahtuma/old-matesin-vappubrunssi/
SUMMARY:Old Matesin vappubrunssi
DESCRIPTION:Old Matesin vappubrunssi 2026 sisältää raikkaita salaatteja\
 , katkarapu Skagenia\, keväistä lohipiirakkaa\, paahtopaistia\, ylikyps
 ää porsaankylkeä\, nakkeja\, lihapyöryköitä\, kasvisvartaita sekä m
 akeaksi kakkuja\, marjamelbaa ja vappumunkkeja.\nKylmästä pöydästä\nV
 ihersalaattia\nSitrusvinaigrettiä\nPerunasalaattia\nCaesarsalaattia\nKatk
 arapu Skagen\nMarinoituja kasviksia\nFetadippiä\nPinaattihummusta\nJogurt
 tia\nMarinoituja marjoja\nHedelmiä\n\nLämpimästä pöydästä\nKeväist
 ä lohipiirakkaa\nPaahtopaistia\nYlikypsää porsaankylkeä\nNakkeja\nLiha
 pyöryköitä\nUunimunakasta\nKasvisvartaita\n\nJälkiruoat\nLajitelma kak
 kuja\nMarjamelbaa\nVappumunkkeja\n\nLeivät\nCroissantteja\nValkosipulilei
 pää\nPatonkia\nCocktail-riisipiirakoita\nLevitteitä\nBrunssia on saatav
 illa klo 11-15 ja pöytävarauksella saa huomattavan alennuksen.\n\nVaraa:
  𝐭𝐚𝐦𝐩𝐞𝐫𝐞@𝐨𝐥𝐝𝐦𝐚𝐭𝐞𝐬.𝐟𝐢
ATTACH;FMTTYPE=image/jpeg:https://kohokohdat.fi/wp-content/uploads/sites/2
 /2023/11/old-mates-ruokapaikka-lahella-tampere-talo-nokia-arena.jpg
CATEGORIES:Ravintolat
END:VEVENT
BEGIN:VTIMEZONE
TZID:Europe/Helsinki
X-LIC-LOCATION:Europe/Helsinki
BEGIN:DAYLIGHT
DTSTART:20260329T040000
TZOFFSETFROM:+0200
TZOFFSETTO:+0300
TZNAME:EEST
END:DAYLIGHT
END:VTIMEZONE
END:VCALENDAR