BEGIN:VCALENDAR
VERSION:2.0
PRODID:-//wp-events-plugin.com//7.2.3.1//EN
TZID:Europe/Helsinki
X-WR-TIMEZONE:Europe/Helsinki
BEGIN:VEVENT
UID:3-202361@kohokohdat.fi
DTSTART;TZID=Europe/Helsinki;VALUE=DATE:20250205
DTEND;TZID=Europe/Helsinki;VALUE=DATE:20250206
DTSTAMP:20241014T123912Z
URL:https://kohokohdat.fi/helsinki/tapahtuma/nothing-but-thieves/
SUMMARY:Nothing But Thieves
DESCRIPTION:Brittiläinen Nothing But Thieves on tämän hetken kuumimpia r
 ock-yhtyeitä maailmassa ja yhtye esiintyy Helsingin jäähallissa keskivi
 ikkona 5.2.2025.\nEnergisistä keikoistaan tunnettu Nothing But Thieves p
 äätti vuoden 2023 loppuunmyytyyn Iso-Britannian ja Irlannin kiertueeseen
 \, joka sisälsi mm. kaksi iltaa Lontoon Wembley Areenalla ja kolme iltaa 
 Manchester Apollossa. Viime vuoden Welcome To The DCC World Tour -kiertuee
 llaan yhtye soitti myös loppuunmyytyjä keikkoja Pohjois-Amerikassa sekä
  Australiassa. Euroopassa yhtye soitti mm. kaksi loppuunmyytyä keikkaa Am
 sterdamin Ziggo Domessa.\n\n&nbsp\;\n\nhttps://www.youtube.com/watch?v=TzT
 v976ghws
ATTACH;FMTTYPE=image/jpeg:https://kohokohdat.fi/wp-content/uploads/sites/3
 /2024/10/NBT-uai-705x470-1.jpg
CATEGORIES:Festivaalit,Keikat
LOCATION:\, \, 
X-APPLE-STRUCTURED-LOCATION;VALUE=URI;X-ADDRESS=\, ;X-APPLE-RADIUS=100;X-TI
 TLE=:geo:0,0
END:VEVENT
BEGIN:VTIMEZONE
TZID:Europe/Helsinki
X-LIC-LOCATION:Europe/Helsinki
BEGIN:STANDARD
DTSTART:20241027T030000
TZOFFSETFROM:+0300
TZOFFSETTO:+0200
TZNAME:EET
END:STANDARD
END:VTIMEZONE
END:VCALENDAR