BEGIN:VCALENDAR
VERSION:2.0
PRODID:-//wp-events-plugin.com//7.2.3.1//EN
TZID:Europe/Helsinki
X-WR-TIMEZONE:Europe/Helsinki
BEGIN:VEVENT
UID:3-202378@kohokohdat.fi
DTSTART;TZID=Europe/Helsinki;VALUE=DATE:20250207
DTEND;TZID=Europe/Helsinki;VALUE=DATE:20250208
DTSTAMP:20241015T051740Z
URL:https://kohokohdat.fi/helsinki/tapahtuma/mokoma-3/
SUMMARY:Mokoma
DESCRIPTION:Suomimetallin kärkiyhtyeisiin lukeutuva Mokoma juhlii tähäna
 stisen uransa menestyneintä albumiaan Helsingin Jäähallin Black Boxissa
  7.2.2025.\nLähes päivälleen 10 vuotta aiemmin ilmestynyt Elävien kirj
 oihin -albumi oli vuoden 2015 menestyneimpiä metallialbumeita\, mutta poi
 kkeuksellisen tärkeäksi julkaisuksi se nousi teemansa vuoksi: albumikoko
 naisuus kertoo masennuksesta ja siitä selviytymisestä. Laulaja-sanoittaj
 a Marko Annalan omasta masennushistoriasta kumpuava teema kosketti masennu
 ksen kanssa kamppailevia ihmisiä laajasti\, myös Mokoman uskollisen fani
 porukan ulkopuolella.\n\n– Elävien kirjoihin räjäytti potin. Olimme v
 akiinnuttaneet asemamme keikkajyränä ja marginaalimusiikin kärkinimenä
 \, mutta EK nosti meidät uudelle tasolle. Monet palaset loksahtivat album
 illa paikalleen: levyn ihon alle menevä kerronta\, uudistunut tuotanto\, 
 ja Japanista haettu itsevarmuus musiikkimme kansainvälisestä laadusta\, 
 laulaja Marko Annala kertoo.\n\nBlack Boxin juhlakonsertti on Mokoman hist
 orian suurin oma keikka. Konsertissa kuullaan ja koetaan nimikkoalbumin li
 säksi iso liuta Mokoman keikkaklassikoita vuosien varrelta.
ATTACH;FMTTYPE=image/jpeg:https://kohokohdat.fi/wp-content/uploads/sites/3
 /2018/12/mokoma-keikat.jpg
CATEGORIES:Festivaalit,Keikat
LOCATION:\, \, 
X-APPLE-STRUCTURED-LOCATION;VALUE=URI;X-ADDRESS=\, ;X-APPLE-RADIUS=100;X-TI
 TLE=:geo:0,0
END:VEVENT
BEGIN:VTIMEZONE
TZID:Europe/Helsinki
X-LIC-LOCATION:Europe/Helsinki
BEGIN:STANDARD
DTSTART:20241027T030000
TZOFFSETFROM:+0300
TZOFFSETTO:+0200
TZNAME:EET
END:STANDARD
END:VTIMEZONE
END:VCALENDAR