BEGIN:VCALENDAR
VERSION:2.0
PRODID:-//wp-events-plugin.com//7.2.3.1//EN
TZID:Europe/Helsinki
X-WR-TIMEZONE:Europe/Helsinki
BEGIN:VEVENT
UID:7-158977@kohokohdat.fi
DTSTART;TZID=Europe/Helsinki:20220219T190000
DTEND;TZID=Europe/Helsinki:20220219T190000
DTSTAMP:20260421T005031Z
URL:
SUMMARY:PERUTTU: Jussi Hakulinen - Yön Viimeinen Varietee
DESCRIPTION:Jussi Hakulinen – Yön viimeinen varietee -kiertue kokoaa Yö
 -yhtyeen ystävät Helsingin Jäähalliin lauantaina 19.2.2022.\nYölle ja
  edesmenneelle Olli Lindholmille kunnianosoituksena järjestettävä konse
 rtti Tampereella on osa kolmen keikan konserttikiertuetta.\n\nJussi Hakuli
 nen oli mukana Yön Hartwall Areenan keikalla vierailijana vuonna 2011\, m
 utta areenaluokan esiintymispaikat ovat hänelle silti erityislaatuinen as
 ia.\n\n– Onhan se uutta minulle\, mutta onneksi biisit ovat omia niin ni
 iden kanssa uskaltaa minne vaan\, hän toteaa.\n\nJussi Hakulinen muistele
 e Yön 40-vuotista uraa lämmöllä ja toteaa vuosikymmenten olleen hyvin 
 värikästä menoa kaikin puolin.\n\n– Nyt kuitenkin on mielestäni aika
  laittaa homma pakettiin\, kun alkuperäisiä soittajia ei ole yhtään mu
 kana\, ja Olli Lindholmin poismeno vaikuttaa tähän asiaan tietenkin\, Ju
 ssi Hakulinen kertoo.\n\nHakulisen kynästä on lähtöisin suuri osa Yön
  ensimmäisten hittilevyjen suurimmista biiseistä\, joista kruununjalokiv
 i on tietenkin Joutsenlaulu\, jossa Jussi myös toimi laulajana. Muita are
 enakiertueella kuultavia Hakulisen kynäilemiä jättihittejä ovat muun m
 uassa Likaiset legendat\, Särkynyt enkeli\, Kuorotyttö\, Rakkaus on lumi
 valkoinen\, Hän tanssi kanssa enkeleiden\, Kiitos ja kunnia sekä Yhden i
 llan varietee.
LOCATION:\, \, 
X-APPLE-STRUCTURED-LOCATION;VALUE=URI;X-ADDRESS=\, ;X-APPLE-RADIUS=100;X-TI
 TLE=:geo:0,0
END:VEVENT
BEGIN:VTIMEZONE
TZID:Europe/Helsinki
X-LIC-LOCATION:Europe/Helsinki
BEGIN:STANDARD
DTSTART:20211031T030000
TZOFFSETFROM:+0300
TZOFFSETTO:+0200
TZNAME:EET
END:STANDARD
END:VTIMEZONE
END:VCALENDAR