BEGIN:VCALENDAR
VERSION:2.0
PRODID:-//wp-events-plugin.com//7.2.3.1//EN
TZID:Europe/Helsinki
X-WR-TIMEZONE:Europe/Helsinki
BEGIN:VEVENT
UID:3-194552@kohokohdat.fi
DTSTART;TZID=Europe/Helsinki:20240604T180000
DTEND;TZID=Europe/Helsinki:20240604T180000
DTSTAMP:20240304T140443Z
URL:https://kohokohdat.fi/helsinki/tapahtuma/journey-usa/
SUMMARY:Journey (USA)
DESCRIPTION:Vuonna 1973 San Franciscossa perustettu legendaarinen rock-yhty
 e Journey tekee odotetun ensiesiintymisensä Suomessa tulevana kesänä. K
 aikkien aikojen suosituimpiin amerikkalaisiin rock-yhtyeisiin kuuluva Jour
 ney valtaa Helsingin jäähallin lavan tiistaina 4. kesäkuuta 2024.\nJour
 ney\, yksi Yhdysvaltojen merkittävimmistä yhtyeistä\, on saavuttanut 19
  Top 40 singleä ja 25 kulta- ja platinalevyä. Bändin The Greatest Hits 
 -albumi on myynyt 15-kertaisesta platinaa. Tunnettu hiteistään kuten Don
 't Stop Believin' ja Faithfully\, Journey on saanut lukuisia tunnustuksia\
 , mukaan lukien tähden Hollywoodin Walk of Famelle\, paikan Hollywood Bow
 l Hall of Famessa vuonna 2015 ja Rock and Roll Hall of Famessa vuonna 2017
 . Bändistä tehtiin myös dokumenttielokuva\, Don't Stop Believin': Every
 man's Journey\, vuonna 2012.\n\nhttps://www.youtube.com/watch?v=0WwNYY-rqI
 Y\n\nSuomen ensimmäisen Journey-konsertin liput tulevat myyntiin torstain
 a 7. maaliskuuta klo 11. Suomessa liput myy Ticketmaster.\n\nKONSERTTI:\nJ
 ourney (USA)\nTi 4.6.2024 Helsingin jäähalli\nOvet klo 18\n\nLIPUT:\nMyy
 ntiin torstaina 7.3. klo 11 Ticketmasterissa.\n\nLiput palvelumaksuineen a
 lkaen 69\,90 €
ATTACH;FMTTYPE=image/jpeg:https://kohokohdat.fi/wp-content/uploads/sites/3
 /2024/03/helsingin-jaahallin-keikat-Journey-2024.jpg
CATEGORIES:Festivaalit,Keikat
LOCATION:\, \, 
X-APPLE-STRUCTURED-LOCATION;VALUE=URI;X-ADDRESS=\, ;X-APPLE-RADIUS=100;X-TI
 TLE=:geo:0,0
END:VEVENT
BEGIN:VTIMEZONE
TZID:Europe/Helsinki
X-LIC-LOCATION:Europe/Helsinki
BEGIN:DAYLIGHT
DTSTART:20240331T040000
TZOFFSETFROM:+0200
TZOFFSETTO:+0300
TZNAME:EEST
END:DAYLIGHT
END:VTIMEZONE
END:VCALENDAR