BEGIN:VCALENDAR
VERSION:2.0
PRODID:-//wp-events-plugin.com//7.2.3.1//EN
TZID:Europe/Helsinki
X-WR-TIMEZONE:Europe/Helsinki
BEGIN:VEVENT
UID:7-161150@kohokohdat.fi
DTSTART;TZID=Europe/Helsinki:20220621T190000
DTEND;TZID=Europe/Helsinki:20220621T190000
DTSTAMP:20260421T163024Z
URL:
SUMMARY:Jesus Christ Superstar
DESCRIPTION:Jesus Christ Superstar on maailmanlaajuinen ilmiö\, joka on vi
 ihdyttänyt yleisöjä yli 40 vuoden ajan.\nAndrew Lloyd Webberin ja Tim R
 icen kirjoittama menestysmusikaali on ajaton teos\, joka sijoittuu poikkeu
 kselliseen ja yleisesti tunnettuun tapahtumasarjaan\, mutta nähdään Juu
 das Iskariotin silmin.\n\nTäysin laulun kautta kerrottu tarina tarkastele
 e henkilökohtaisia suhteita ja kamppailuja Jeesuksen\, Juudaksen\, Maria 
 Magdaleenan\, Jeesuksen opetuslasten ja seuraajiensa sekä Rooman valtakun
 nan välillä. Jeesuksen roolin esittää Ruotsin suuri musikaalitähti Pe
 ter Jöback ja Juudaksena nähdään The Ark -yhtyeen keulakuva Ola Salo.\
 n\nhttps://www.youtube.com/watch?v=_gffBhaM2Ss
LOCATION:\, \, 
X-APPLE-STRUCTURED-LOCATION;VALUE=URI;X-ADDRESS=\, ;X-APPLE-RADIUS=100;X-TI
 TLE=:geo:0,0
END:VEVENT
BEGIN:VTIMEZONE
TZID:Europe/Helsinki
X-LIC-LOCATION:Europe/Helsinki
BEGIN:DAYLIGHT
DTSTART:20220327T040000
TZOFFSETFROM:+0200
TZOFFSETTO:+0300
TZNAME:EEST
END:DAYLIGHT
END:VTIMEZONE
END:VCALENDAR