BEGIN:VCALENDAR
VERSION:2.0
PRODID:-//wp-events-plugin.com//7.2.3.1//EN
TZID:Europe/Helsinki
X-WR-TIMEZONE:Europe/Helsinki
BEGIN:VEVENT
UID:7-151857@kohokohdat.fi
DTSTART;TZID=Europe/Helsinki:20210102T110000
DTEND;TZID=Europe/Helsinki:20210102T110000
DTSTAMP:20260422T215438Z
URL:
SUMMARY:Ismo Hölttö – Kohtaamisia 1960-luvun Helsingissä
DESCRIPTION:Minihameet ja moppitukat\, purkutyömaat ja betonilähiöt\, it
 sevarmat kaupunkilaiset ja maalta muuttaneiden hämmennys. Ismo Hölttö v
 alokuvasi 1960-luvun Helsinkiä ja helsinkiläisiä ikuistaen muutosten ja
  myllerrysten vuosikymmenen arjen tasolla. Taitavan ihmiskuvaajan teoksist
 a on koottu näyttely\, joka avautuu Hakasalmen huvilassa 16.10.2020.\nhtt
 ps://kohokohdat.fi/helsinki/hakasalmen-huvilan-uusi-nayttely/
END:VEVENT
BEGIN:VTIMEZONE
TZID:Europe/Helsinki
X-LIC-LOCATION:Europe/Helsinki
BEGIN:STANDARD
DTSTART:20201025T030000
TZOFFSETFROM:+0300
TZOFFSETTO:+0200
TZNAME:EET
END:STANDARD
END:VTIMEZONE
END:VCALENDAR