BEGIN:VCALENDAR
VERSION:2.0
PRODID:-//wp-events-plugin.com//7.2.3.1//EN
TZID:Europe/Helsinki
X-WR-TIMEZONE:Europe/Helsinki
BEGIN:VEVENT
UID:2-214989@kohokohdat.fi
DTSTART;TZID=Europe/Helsinki:20260417T210000
DTEND;TZID=Europe/Helsinki:20260417T210000
DTSTAMP:20260403T090525Z
URL:https://kohokohdat.fi/tampere/tapahtuma/huurre-live-stenari/
SUMMARY:HUURRE LIVE: Stenari
DESCRIPTION:Public House Huurteessa starttasi toissa keväällä juurimusii
 kin kuukausiklubi Gumbo Club\, josta on tullut iso menestys. Toisinaan rav
 intoloitsija Juha Kannisto innostuu buukkaamaan myös muita live-esiintyji
 ä. Keväällä 2026 Huurteen live-illoissa ollaan nähty myös trubaduure
 ja.\nStenari laulaa vanhan vuoden pois ja tuo uuden tilalle countryn ja we
 sternin merkeissä. Illan aikana kuullaan huikea määrä countryklassikoi
 ta. Niitä Stenarilla on soittolistassaan yli 350. Stenari tunnetaan mahta
 vasta äänestään sekä äijämäisen aidosta country-olemuksestaan. Lup
 sakalla tavallaan hän siivittää biisejä mukavilla tarinoilla artisteis
 ta\, biiseistä tai mistä vaan.\n\nStenari on countrylaulaja joka on kuin
  elävä legenda cowboy-maailmassa. Hänen sielunsa on sidottu syvälle Am
 erikan maaseudun sydämeen\, ja hänen äänensä kantaa tarinoita menneil
 tä ajoilta.\nYli 350 countryklassikon settilistalla hän on kuin elävä 
 tietosanakirja\, joka kertoo tarinoita kaukaisilta ranchilta ja avoimilta 
 maanteiltä.\nhttps://www.youtube.com/watch?v=AckQrCLn-CA\nHuurre Live -kl
 ubi on yksi Tampereen harvoja tapahtumia\, joissa voit nauttia ruoasta ja 
 livemusiikista saman pöydän ääressä.\nVARAA PÖYTÄ\nHuurteen iltaan 
 kannattaa jättää auto kotiin ja päästellä ratikalla ravintolan etuov
 elle. Esiintyjät ovat olleet usein paikallisia yhtyeitä bluesin\, folkin
  sekä Manserockinkin äänimaailmoista. Huurteessa on hieno lava\, ja sil
 le ovat nousseet muun muassa yhtyeet Lazymen Blues Band\, Groove Machine\,
  Folkjykä &amp\; Kuntoutujat\, Slomen Trickery\,  Flatbroke Trio ja Rock
 house Strutters. Public House Huurre 10-vuotissynttäreillä vuonna 2025 k
 oettiin viimeksi ravintolan luottoesiintyjä Kormus. Synttäreillä Kormus
 -klupin vieraana oli Jussi Selo.\n\nKeikoille on yleensä aina ilmainen p
 ääsy.\n\nhttps://youtube.com/watch?v=-ZVqy0w41aE\n\nhttps://www.youtube.
 com/watch?v=GapZSayXjuc
ATTACH;FMTTYPE=image/jpeg:https://kohokohdat.fi/wp-content/uploads/sites/2
 /2023/03/stenari-keikat-tampere.jpg
CATEGORIES:Jazz,Keikat
LOCATION:\, \, 
X-APPLE-STRUCTURED-LOCATION;VALUE=URI;X-ADDRESS=\, ;X-APPLE-RADIUS=100;X-TI
 TLE=:geo:0,0
END:VEVENT
BEGIN:VTIMEZONE
TZID:Europe/Helsinki
X-LIC-LOCATION:Europe/Helsinki
BEGIN:DAYLIGHT
DTSTART:20260329T040000
TZOFFSETFROM:+0200
TZOFFSETTO:+0300
TZNAME:EEST
END:DAYLIGHT
END:VTIMEZONE
END:VCALENDAR