BEGIN:VCALENDAR
VERSION:2.0
PRODID:-//wp-events-plugin.com//7.2.3.1//EN
TZID:Europe/Helsinki
X-WR-TIMEZONE:Europe/Helsinki
BEGIN:VEVENT
UID:2-214619@kohokohdat.fi
DTSTART;TZID=Europe/Helsinki:20260314T200000
DTEND;TZID=Europe/Helsinki:20260314T200000
DTSTAMP:20260313T095342Z
URL:https://kohokohdat.fi/tampere/tapahtuma/huurre-live-atte-truba/
SUMMARY:HUURRE LIVE: Atte Truba
DESCRIPTION:Public House Huurteessa starttasi toissa keväällä juurimusii
 kin kuukausiklubi Gumbo Club\, josta on tullut iso menestys. Toisinaan rav
 intoloitsija Juha Kannisto innostuu buukkaamaan myös muita live-esiintyji
 ä. Keväällä 2026 Huurteen live-illoissa nähdään myös trubaduureja.
 \nTänä viikonloppuna Huurteen lavalle nousee Trubaduuri Atte Truba.\n\nH
 uurre Live -klubi on yksi Tampereen harvoja tapahtumia\, joissa voit nautt
 ia ruoasta ja livemusiikista saman pöydän ääressä.\nVARAA PÖYTÄ\nHu
 urteen iltaan kannattaa jättää auto kotiin ja päästellä ratikalla ra
 vintolan etuovelle. Esiintyjät ovat olleet usein paikallisia yhtyeitä bl
 uesin\, folkin sekä Manserockinkin äänimaailmoista. Huurteessa on hieno
  lava\, ja sille ovat nousseet muun muassa yhtyeet Lazymen Blues Band\, Gr
 oove Machine\, Folkjykä &amp\; Kuntoutujat\, Slomen Trickery\,  Flatbrok
 e Trio ja Rockhouse Strutters. Public House Huurre 10-vuotissynttäreillä
  vuonna 2025 koettiin viimeksi ravintolan luottoesiintyjä Kormus. Synttä
 reillä Kormus-klupin vieraana oli Jussi Selo.\n\nKeikoille on yleensä ai
 na ilmainen pääsy.\n\nhttps://youtube.com/watch?v=-ZVqy0w41aE\n\nhttps:/
 /www.youtube.com/watch?v=GapZSayXjuc
ATTACH;FMTTYPE=image/jpeg:https://kohokohdat.fi/wp-content/uploads/sites/2
 /2025/08/huurre-keikat-tampere.jpg
CATEGORIES:Keikat
LOCATION:\, \, 
X-APPLE-STRUCTURED-LOCATION;VALUE=URI;X-ADDRESS=\, ;X-APPLE-RADIUS=100;X-TI
 TLE=:geo:0,0
END:VEVENT
BEGIN:VTIMEZONE
TZID:Europe/Helsinki
X-LIC-LOCATION:Europe/Helsinki
BEGIN:STANDARD
DTSTART:20251026T030000
TZOFFSETFROM:+0300
TZOFFSETTO:+0200
TZNAME:EET
END:STANDARD
END:VTIMEZONE
END:VCALENDAR