BEGIN:VCALENDAR
VERSION:2.0
PRODID:-//wp-events-plugin.com//7.2.3.1//EN
TZID:Europe/Helsinki
X-WR-TIMEZONE:Europe/Helsinki
BEGIN:VEVENT
UID:3-201430@kohokohdat.fi
DTSTART;TZID=Europe/Helsinki:20250314T183000
DTEND;TZID=Europe/Helsinki:20250314T183000
DTSTAMP:20240901T064115Z
URL:https://kohokohdat.fi/helsinki/tapahtuma/hifk-karpat-20/
SUMMARY:HIFK - Kärpät
DESCRIPTION:HIFK kotipelit pelataan Nordenskiöldinkadun varrella sijaitsev
 assa Helsingin jäähallissa.\nSM-liigan vanhin joukkue on voittanut mesta
 ruuden viimeksi vuonna 2011. Finaalissa joukkue pelasi viimeksi vuonna 201
 6\, jolloin tuloksena oli hopeaa. HIFK on yksi neljästä SM-liigajoukkue
 esta\, joka on ollut tauotta mukana Liigan ensimmäisestä kaudesta asti.\
 n\n\nLUE LISÄÄ\nhttps://kohokohdat.fi/helsinki/hifk-kotipelit-helsingin-
 jaahallissa/
ATTACH;FMTTYPE=image/jpeg:https://kohokohdat.fi/wp-content/uploads/sites/3
 /2019/09/hifk-ottelu.jpg
CATEGORIES:Urheilu
LOCATION:\, \, 
X-APPLE-STRUCTURED-LOCATION;VALUE=URI;X-ADDRESS=\, ;X-APPLE-RADIUS=100;X-TI
 TLE=:geo:0,0
END:VEVENT
BEGIN:VTIMEZONE
TZID:Europe/Helsinki
X-LIC-LOCATION:Europe/Helsinki
BEGIN:STANDARD
DTSTART:20241027T030000
TZOFFSETFROM:+0300
TZOFFSETTO:+0200
TZNAME:EET
END:STANDARD
END:VTIMEZONE
END:VCALENDAR