BEGIN:VCALENDAR
VERSION:2.0
PRODID:-//wp-events-plugin.com//7.2.3.1//EN
TZID:Europe/Helsinki
X-WR-TIMEZONE:Europe/Helsinki
BEGIN:VEVENT
UID:7-169491@kohokohdat.fi
DTSTART;TZID=Europe/Helsinki:20220917T180000
DTEND;TZID=Europe/Helsinki:20220917T180000
DTSTAMP:20260420T130917Z
URL:
SUMMARY:Hajua & Energiaa: Tehosekoitin 
DESCRIPTION:Suomen rakastetuimpiin rockbändeihin lukeutuvan Tehosekoitin
  -yhtyeen odotetut paluukeikat siirtyvät vuoteen 2022. Bändi tullaan tu
 olloin näkemään useilla kesäfestareilla sekä Helsingin Jäähallin Ha
 jua &amp\; Energiaa: Estradilla -konsertissa lauantaina 17.9.2022. Festiva
 alien tarkemmista esiintymisajoista ja -paikoista\nTehosekoitin on julkais
 sut uransa aikana kuusi studioalbumia ja on noussut yhdeksi suomirockin me
 rkittävimmistä bändeistä. Yhtye tunnetaan mm. hiteistään C’mon ba
 by yeah\, Kaikki nuoret tyypit\, Asfaltti polttaa\, Pillitä Elli pillitä
 \, Maailma on sun\, Valonkantaja ja Hetken tie on kevyt. Bändin biiseist
 ä useampikin on ylittänyt striimauspalveluissa platinarajan. Lisäksi su
 ositun yhtyeen kappaleita on kuultu television laulukilpailuissa ja laulet
 tu toivelaulukirjoista.\n\nLegendaarinen bändi lopetti toimintansa vuonna
  2004. Kesällä 2009 Tehosekoitin teki muutaman keikan jäähyväiskiertu
 een\, mutta sitä lukuun ottamatta bändiä on turhaan kyselty esiintymä
 än\, kunnes se loppuvuodesta 2019 päätti palata keikkalavoille autentti
 sella aktiivivuosien kokoonpanollaan\n\nTehosekoitin 2022 on\nOtto Grundst
 röm\, laulu\nMatti Mikkola\, kitara\nHannu ’Hanski’ Kilkki\, basso\nT
 ero Sundell\, rummut\nJuha Kuoppala\, koskettimet\n\nHajua &amp\; Energiaa
 : Estradilla Tehosekoitin\nLa 17.9.2022 Helsingin Jäähalli\nOvet klo 18.
 00\, Showtime n. klo 20
LOCATION:\, \, 
X-APPLE-STRUCTURED-LOCATION;VALUE=URI;X-ADDRESS=\, ;X-APPLE-RADIUS=100;X-TI
 TLE=:geo:0,0
END:VEVENT
BEGIN:VTIMEZONE
TZID:Europe/Helsinki
X-LIC-LOCATION:Europe/Helsinki
BEGIN:DAYLIGHT
DTSTART:20220327T040000
TZOFFSETFROM:+0200
TZOFFSETTO:+0300
TZNAME:EEST
END:DAYLIGHT
END:VTIMEZONE
END:VCALENDAR