BEGIN:VCALENDAR
VERSION:2.0
PRODID:-//wp-events-plugin.com//7.2.3.1//EN
TZID:Europe/Helsinki
X-WR-TIMEZONE:Europe/Helsinki
BEGIN:VEVENT
UID:7-176679@kohokohdat.fi
DTSTART;TZID=Europe/Helsinki:20230415T180000
DTEND;TZID=Europe/Helsinki:20230415T180000
DTSTAMP:20260420T110653Z
URL:
SUMMARY:GETTOMASA
DESCRIPTION:Vastustamaton-menestysalbumin levyjulkkareita juhlitaan huhtiku
 ussa 2023 Suomen yksi tämän hetken suosituimmista artisteista\, Gettomas
 a järjestää levyjulkkarit viisi Emma Gaala -ehdokkuutta saaneelle Vastu
 stamaton-albumilleen.\nHuhtikuun 15. päivä 2023 järjestettävällä jä
 ähallikeikalla mukana nähdään genren arvostetuimpiin toimijoihin lukeu
 tuva Kube ja poikkeuksellisessa nousukiidossa oleva Costi.
LOCATION:\, \, 
X-APPLE-STRUCTURED-LOCATION;VALUE=URI;X-ADDRESS=\, ;X-APPLE-RADIUS=100;X-TI
 TLE=:geo:0,0
END:VEVENT
BEGIN:VTIMEZONE
TZID:Europe/Helsinki
X-LIC-LOCATION:Europe/Helsinki
BEGIN:DAYLIGHT
DTSTART:20230326T040000
TZOFFSETFROM:+0200
TZOFFSETTO:+0300
TZNAME:EEST
END:DAYLIGHT
END:VTIMEZONE
END:VCALENDAR