BEGIN:VCALENDAR
VERSION:2.0
PRODID:-//wp-events-plugin.com//7.2.3.1//EN
TZID:Europe/Helsinki
X-WR-TIMEZONE:Europe/Helsinki
BEGIN:VEVENT
UID:3-212873@kohokohdat.fi
DTSTART;TZID=Europe/Helsinki;VALUE=DATE:20260113
DTEND;TZID=Europe/Helsinki;VALUE=DATE:20260114
DTSTAMP:20251211T093232Z
URL:https://kohokohdat.fi/helsinki/tapahtuma/burna-boy/
SUMMARY:Burna Boy
DESCRIPTION:Grammy-palkittu\, valovoimaisena ja energisenä live-esiintyjä
 nä tunnettu Burna Boy saapuu konsertoimaan Helsingin jäähalliin tiistai
 na 13. 1.2026.\n\nNo Sign of Weakness -maailmankiertueellaan Helsingissä 
 poikkeava afrobeats-ikoni esiintyy kiertueellaan näyttävästi keskelle s
 alia rakennetulla valtavalla 360 asteen lavalla\, joka tuo yleisön osaksi
  konserttielämystä.\n\nNäytä kaikki Helsingin jäähallin keikat ja k
 onsertit\nLiput: TICKETMASTER.FI
ATTACH;FMTTYPE=image/jpeg:https://kohokohdat.fi/wp-content/uploads/sites/3
 /2025/12/Burnaboy-uai-705x470-1.jpg
CATEGORIES:Festivaalit,Keikat
LOCATION:\, \, 
X-APPLE-STRUCTURED-LOCATION;VALUE=URI;X-ADDRESS=\, ;X-APPLE-RADIUS=100;X-TI
 TLE=:geo:0,0
END:VEVENT
BEGIN:VTIMEZONE
TZID:Europe/Helsinki
X-LIC-LOCATION:Europe/Helsinki
BEGIN:STANDARD
DTSTART:20251026T030000
TZOFFSETFROM:+0300
TZOFFSETTO:+0200
TZNAME:EET
END:STANDARD
END:VTIMEZONE
END:VCALENDAR