BEGIN:VCALENDAR
VERSION:2.0
PRODID:-//wp-events-plugin.com//7.2.3.1//EN
TZID:Europe/Helsinki
X-WR-TIMEZONE:Europe/Helsinki
BEGIN:VEVENT
UID:2-42279@kohokohdat.fi
DTSTART;TZID=Europe/Helsinki;VALUE=DATE:20170203
DTEND;TZID=Europe/Helsinki;VALUE=DATE:20170212
DTSTAMP:20170203T105042Z
URL:https://kohokohdat.fi/tampere/event-recurring/blineja-tiiliholvissa/
SUMMARY:Blinejä Tiiliholvissa
DESCRIPTION:Rakastettuja blinejä tarjoillaan Ravintola Tiiliholvissa koko 
 helmikuun ajan lounasaikaan ja illallisaikaan niitä on tarjolla vielä 11
 .2.2017 asti.
ATTACH;FMTTYPE=image/jpeg:https://kohokohdat.fi/wp-content/uploads/sites/2
 /2016/07/tiiliholvi-kokit-kohokohdat.jpg
CATEGORIES:Ravintolat
LOCATION:\, \, 
X-APPLE-STRUCTURED-LOCATION;VALUE=URI;X-ADDRESS=\, ;X-APPLE-RADIUS=100;X-TI
 TLE=:geo:0,0
END:VEVENT
BEGIN:VTIMEZONE
TZID:Europe/Helsinki
X-LIC-LOCATION:Europe/Helsinki
BEGIN:STANDARD
DTSTART:20161030T030000
TZOFFSETFROM:+0300
TZOFFSETTO:+0200
TZNAME:EET
END:STANDARD
END:VTIMEZONE
END:VCALENDAR