BEGIN:VCALENDAR
VERSION:2.0
PRODID:-//wp-events-plugin.com//7.2.3.1//EN
TZID:Europe/Helsinki
X-WR-TIMEZONE:Europe/Helsinki
BEGIN:VEVENT
UID:7-176678@kohokohdat.fi
DTSTART;TZID=Europe/Helsinki:20230127T180000
DTEND;TZID=Europe/Helsinki:20230127T180000
DTSTAMP:20260420T125946Z
URL:
SUMMARY:Battle Beast
DESCRIPTION:The Circus is coming to town! Battle Beast juhlii Circus of Doo
 m -albuminsa julkaisua Suomen-kiertueella\, joka pysähtyy perjantaina 27.
  tammikuuta Helsingin jäähallin Black Boxissa. Battle Beastin suosio vai
 n jatkaa kasvuaan.
LOCATION:\, \, 
X-APPLE-STRUCTURED-LOCATION;VALUE=URI;X-ADDRESS=\, ;X-APPLE-RADIUS=100;X-TI
 TLE=:geo:0,0
END:VEVENT
BEGIN:VTIMEZONE
TZID:Europe/Helsinki
X-LIC-LOCATION:Europe/Helsinki
BEGIN:STANDARD
DTSTART:20221030T030000
TZOFFSETFROM:+0300
TZOFFSETTO:+0200
TZNAME:EET
END:STANDARD
END:VTIMEZONE
END:VCALENDAR