BEGIN:VCALENDAR
VERSION:2.0
PRODID:-//wp-events-plugin.com//7.2.3.1//EN
TZID:Europe/Helsinki
X-WR-TIMEZONE:Europe/Helsinki
BEGIN:VEVENT
UID:3-212874@kohokohdat.fi
DTSTART;TZID=Europe/Helsinki;VALUE=DATE:20260118
DTEND;TZID=Europe/Helsinki;VALUE=DATE:20260119
DTSTAMP:20260105T151228Z
URL:https://kohokohdat.fi/helsinki/tapahtuma/architects/
SUMMARY:Architects
DESCRIPTION:Helsingin jäähallin metallikonsertit 2026 alkavat tammikuussa
 \, kun kolossaalisen raskaasta soundistaan tunnettu metalcore-yhtye Archit
 ects nousee lavalle.\n\nHiljattain julkaistun The Sky\, The Earth &amp\; A
 ll Between -albumia juhlistava kiertue saavuttaa Helsingin Jäähallissa s
 unnuntaina 18. tammikuuta. Illan erityisvieraina nähdään huimassa nousu
 kiidossa oleva ranskalaisyhtye Landmvrks sekä vuoden puhutuimpiin metalli
 -ilmioihin kuuluva brittikokoonpano President.\n\nhttps://www.youtube.com/
 watch?v=8SoLPeFquLM\n\nLIPUT tähän konserttiin Lippu.fi\n\nNäytä kaikk
 i Helsingin jäähallin keikat ja konsertit\nLiput: TICKETMASTER.FI
ATTACH;FMTTYPE=image/jpeg:https://kohokohdat.fi/wp-content/uploads/sites/3
 /2025/12/arc-uai-1032x688-1.png
CATEGORIES:Festivaalit,Keikat
LOCATION:\, \, 
X-APPLE-STRUCTURED-LOCATION;VALUE=URI;X-ADDRESS=\, ;X-APPLE-RADIUS=100;X-TI
 TLE=:geo:0,0
END:VEVENT
BEGIN:VTIMEZONE
TZID:Europe/Helsinki
X-LIC-LOCATION:Europe/Helsinki
BEGIN:STANDARD
DTSTART:20251026T030000
TZOFFSETFROM:+0300
TZOFFSETTO:+0200
TZNAME:EET
END:STANDARD
END:VTIMEZONE
END:VCALENDAR