BEGIN:VCALENDAR
VERSION:2.0
PRODID:-//wp-events-plugin.com//7.2.3.1//EN
TZID:Europe/Helsinki
X-WR-TIMEZONE:Europe/Helsinki
BEGIN:VEVENT
UID:2-208288@kohokohdat.fi
DTSTART;TZID=Europe/Helsinki:20250614T200000
DTEND;TZID=Europe/Helsinki:20250614T200000
DTSTAMP:20250526T173256Z
URL:https://kohokohdat.fi/tampere/tapahtuma/alt-agency-summer-sessions-myr
 tsi-ullalintulampi/
SUMMARY:ALT Agency Summer Sessions: Myrtsi\, Ullalintulampi
DESCRIPTION:O'Connell's irlantilaispubissa pidetään kesällä 2025 ALT Ag
 ency Summer Sessions -musailtoja. Lauantaina 14.6. lavalle nousevat Myrtsi
  ja Ullalintulampi.\nMyrtsi on vaasalaissyntyisen musiikintekijä ja tuott
 aja Emma Uusi-Kokon projekti\, jota inspiroi kotitekoinen estetiikka\, poh
 jalaisuus ja myrtsiys – mököttäminen pilke silmäkulmassa. Mököttä
 misestä huolimatta musiikin ytimessä on leikki ja hauskanpito. Myrtsin l
 yriikassa yhdistyy arkifilosofinen pohdinta\, kuvailu ja suorasanaisuus ri
 pauksella ironiaa\, harmonisen melankolian ja synasoundien ilon säestykse
 llä.\n\nUllalintulampi kokoaa musiikissaan repaleiset arjen palaset yhdek
 si mössöksi\, jossa yhteen kietoutuvat lempeä turva ja sähköinen kaao
 s. Musiikki ilmaisee ylitse vyöryvää herkkyyttä ja riehaantuvaa tahtoa
 . Sanoitukset ammentavat inspiraatiota niin ilmassa kelluvasta pölystä k
 uin runoudesta kaupunkien eri kolkissa.
ATTACH;FMTTYPE=image/jpeg:https://kohokohdat.fi/wp-content/uploads/sites/2
 /2025/05/myrtsi-keikat-tampere.jpg
CATEGORIES:Keikat
LOCATION:\, \, 
X-APPLE-STRUCTURED-LOCATION;VALUE=URI;X-ADDRESS=\, ;X-APPLE-RADIUS=100;X-TI
 TLE=:geo:0,0
END:VEVENT
BEGIN:VTIMEZONE
TZID:Europe/Helsinki
X-LIC-LOCATION:Europe/Helsinki
BEGIN:DAYLIGHT
DTSTART:20250330T040000
TZOFFSETFROM:+0200
TZOFFSETTO:+0300
TZNAME:EEST
END:DAYLIGHT
END:VTIMEZONE
END:VCALENDAR