BEGIN:VCALENDAR
VERSION:2.0
PRODID:-//wp-events-plugin.com//7.2.3.1//EN
TZID:Europe/Helsinki
X-WR-TIMEZONE:Europe/Helsinki
BEGIN:VEVENT
UID:3-210122@kohokohdat.fi
DTSTART;TZID=Europe/Helsinki:20251127T170000
DTEND;TZID=Europe/Helsinki:20251127T170000
DTSTAMP:20250819T082221Z
URL:https://kohokohdat.fi/helsinki/tapahtuma/afterwork-jazz-manala-afterwo
 rk-trio-2-2025-08-28-2025-09-04-2025-09-11-2025-09-18-2025-09-25-2025-10-0
 2-2025-10-09-2025-10-16-2025-10-23-2025-10-30-2025-11-06-2025-11-13-2025-1
 1-20-2025-11-27/
SUMMARY:Afterwork Jazz: Manala Afterwork trio
DESCRIPTION:Ravintola Manalan Afterwork Jazz tuo Manala Jazz trion vieraaks
 i syksyn 2025 aikana taas useita huipputason vieraita.\nManala muuttuu New
  Yorkin mutkattomien jazzravintoloiden inspiroimaksi tapahtumapaikaksi tor
 staisin.\n\nManala Jazz trio on Arto Ikävalko pianossa\, Ville Luukkone
 n rummuissa ja Joonas Tuuri kontrabassossa.\n\nLUE LISÄÄ: Afterwork Jaz
 z Manalassa\n\nhttps://kohokohdat.fi/helsinki/afterwork-jazz-manala-jazz-t
 rio/
ATTACH;FMTTYPE=image/jpeg:https://kohokohdat.fi/wp-content/uploads/sites/3
 /2023/01/manala-jazz-trio.jpg
CATEGORIES:Jazz,Keikat
END:VEVENT
BEGIN:VTIMEZONE
TZID:Europe/Helsinki
X-LIC-LOCATION:Europe/Helsinki
BEGIN:STANDARD
DTSTART:20251026T030000
TZOFFSETFROM:+0300
TZOFFSETTO:+0200
TZNAME:EET
END:STANDARD
END:VTIMEZONE
END:VCALENDAR