BEGIN:VCALENDAR
VERSION:2.0
PRODID:-//wp-events-plugin.com//7.2.3.1//EN
TZID:Europe/Helsinki
X-WR-TIMEZONE:Europe/Helsinki
BEGIN:VEVENT
UID:2-200231@kohokohdat.fi
DTSTART;TZID=Europe/Helsinki:20240810T200000
DTEND;TZID=Europe/Helsinki:20240810T200000
DTSTAMP:20240725T082645Z
URL:https://kohokohdat.fi/tampere/tapahtuma/mysterio-buffo/
SUMMARY:Mysterio Buffo!
DESCRIPTION:Dario Fo:n legendaarinen näytelmä ensimmäistä kertaa Suomes
 sa naiskoomikon tekemänä. Spektaakkelimainen teos - neljä näytelmää 
 joissa lähemmäs 30 roolia - yhden näyttelijän näyttelemänä Tom &amp
 \; Grill -ravintolan lavalla Kalevassa. Lavalla Eeva Rantinoja.
ATTACH;FMTTYPE=image/jpeg:https://kohokohdat.fi/tampere/wp-content/uploads
 /sites/2/2024/07/EV100098_7_768x470.jpg
CATEGORIES:Keikat,Stand up
LOCATION:Tom & Grill Kaleva\, Pellervonkatu 9\, Tampere\, Suomi
X-APPLE-STRUCTURED-LOCATION;VALUE=URI;X-ADDRESS=Pellervonkatu 9\, Tampere\,
  Suomi;X-APPLE-RADIUS=100;X-TITLE=Tom & Grill Kaleva:geo:0,0
END:VEVENT
BEGIN:VEVENT
UID:2-205338@kohokohdat.fi
DTSTART;TZID=Europe/Helsinki:20250411T190000
DTEND;TZID=Europe/Helsinki:20250411T190000
DTSTAMP:20250409T094216Z
URL:https://kohokohdat.fi/tampere/tapahtuma/stand-up-klubi-yhen-illan-jutt
 u/
SUMMARY:Stand Up -klubi Yhen Illan Juttu ”Vakkarit vaihtoon”: Amanda Hi
 ekkataipale\,  Oliver Eskelinen\,  Marko Leppänen\,  Santtu Nikula ja  Mi
 ksu Pellikka
DESCRIPTION:Stand Up -klubi Yhen Illan Juttu tuo stand up -tunnelmia Kaleva
 n Tom &amp\; Grill -ravintolaan Tampereen Kalevan uimahallin vieressä. Il
 lan mc:nä toimii Jaakko Antila ja päävieraina nähdään:\nAmanda Hiekk
 ataipale\n\nOliver Eskelinen\n\nMarko Leppänen\n\nSanttu Nikula ja\n\nVuo
 den tulokas 2024 -kisan voittaja Miksu Pellikka!\n\n&nbsp\;\n\nPääesiint
 yjänä illassa on Kaisa Pylkkänen! Kaisa on kävelevä paradoksi: keski-
 ikäinen teini\, anarkisti kontrollifriikki\, ja itseironinen feministi\, 
 joka kadehtii peniksiä. Onneksi tästä kaikesta on vain hyötyä\, kun t
 ehdään komiikkaa. Kaisa on myös tv:stä tuttu ( mm. Maikkarin Komediakl
 ubi ja Nelosen Stand up!). Kaisa on muuten käsikirjoittanut useita suosit
 tuja sarjoja\, mainittakoon näistä vaikka Uutishuone ja Itse valtiaat.\n
 \nIllan MC:nä toimii Jaakko Antila\, Suomen hauskin 191-senttinen koomikk
 o. Jaakon komiikka on kuin "Seitsemän veljestä" olisi kirjoitettu känni
 ssä ja läpällä (kuitenkin toinen käsi raamatulla). Yksi asia on varma
 a: Jaakko jää taatusti mieleen.
ATTACH;FMTTYPE=image/jpeg:https://kohokohdat.fi/tampere/wp-content/uploads
 /sites/2/2022/09/jaakko-antila-stand-up.jpg
CATEGORIES:Keikat,Stand up
LOCATION:Tom & Grill Kaleva\, Pellervonkatu 9\, Tampere\, Suomi
X-APPLE-STRUCTURED-LOCATION;VALUE=URI;X-ADDRESS=Pellervonkatu 9\, Tampere\,
  Suomi;X-APPLE-RADIUS=100;X-TITLE=Tom & Grill Kaleva:geo:0,0
END:VEVENT
BEGIN:VEVENT
UID:2-209819@kohokohdat.fi
DTSTART;TZID=Europe/Helsinki:20250802T200000
DTEND;TZID=Europe/Helsinki:20250802T200000
DTSTAMP:20250801T090607Z
URL:https://kohokohdat.fi/tampere/tapahtuma/tomgrill-stand-up-veera-luhtal
 a-arto-kilponen-nitu-kaur/
SUMMARY:Tom&Grill stand up:  Veera Luhtala\, Arto Kilponen Nitu Kaur\, ...
DESCRIPTION:
CATEGORIES:Keikat,Stand up
LOCATION:Tom & Grill Kaleva\, Pellervonkatu 9\, Tampere\, Suomi
X-APPLE-STRUCTURED-LOCATION;VALUE=URI;X-ADDRESS=Pellervonkatu 9\, Tampere\,
  Suomi;X-APPLE-RADIUS=100;X-TITLE=Tom & Grill Kaleva:geo:0,0
END:VEVENT
BEGIN:VTIMEZONE
TZID:Europe/Helsinki
X-LIC-LOCATION:Europe/Helsinki
BEGIN:DAYLIGHT
DTSTART:20240331T040000
TZOFFSETFROM:+0200
TZOFFSETTO:+0300
TZNAME:EEST
END:DAYLIGHT
BEGIN:STANDARD
DTSTART:20241027T030000
TZOFFSETFROM:+0300
TZOFFSETTO:+0200
TZNAME:EET
END:STANDARD
BEGIN:DAYLIGHT
DTSTART:20250330T040000
TZOFFSETFROM:+0200
TZOFFSETTO:+0300
TZNAME:EEST
END:DAYLIGHT
END:VTIMEZONE
END:VCALENDAR