BEGIN:VCALENDAR
VERSION:2.0
PRODID:-//wp-events-plugin.com//7.2.3.1//EN
TZID:Europe/Helsinki
X-WR-TIMEZONE:Europe/Helsinki
BEGIN:VEVENT
UID:2-214159@kohokohdat.fi
DTSTART;TZID=Europe/Helsinki:20260209T190000
DTEND;TZID=Europe/Helsinki:20260209T190000
DTSTAMP:20260209T131201Z
URL:https://kohokohdat.fi/tampere/tapahtuma/pamela-kilpelainen-heikki-sarm
 anto-band/
SUMMARY:Lingonperry Liveklubi: Pamela Kilpeläinen & Heikki Sarmanto Band
DESCRIPTION:Lingonperry Liveklubi on ArtXperiencen ja Tampereen Ylioppilast
 eatterin yhteistyönä järjestettävä\, viikoittainen musiikintekijöide
 n ja -kuuntelijoiden sekä muiden kulttuurialojen kohtauspaikka\, jossa es
 iintyvät ensisijaisesti Lingonperry-alustan artistit.
ATTACH;FMTTYPE=image/jpeg:https://kohokohdat.fi/tampere/wp-content/uploads
 /sites/2/2023/05/pamela-kilpelainen-keikat2.jpg
CATEGORIES:Keikat
LOCATION:Tampereen Ylioppilasteatteri\, Itsenäisyydenkatu 12\, Tampere\, S
 uomi
GEO:61.498893;23.782918
X-APPLE-STRUCTURED-LOCATION;VALUE=URI;X-ADDRESS=Itsenäisyydenkatu 12\, Tam
 pere\, Suomi;X-APPLE-RADIUS=100;X-TITLE=Tampereen Ylioppilasteatteri:geo:6
 1.498893,23.782918
END:VEVENT
BEGIN:VEVENT
UID:2-214161@kohokohdat.fi
DTSTART;TZID=Europe/Helsinki:20260406T190000
DTEND;TZID=Europe/Helsinki:20260406T190000
DTSTAMP:20260209T131308Z
URL:https://kohokohdat.fi/tampere/tapahtuma/lingonperry-liveklubi-martin-a
 lvarado-the-voice-of-buenos-aires/
SUMMARY:Lingonperry Liveklubi: Martín Alvarado ”The Voice of Buenos Aire
 s”
DESCRIPTION:Lingonperry Liveklubi on ArtXperiencen ja Tampereen Ylioppilast
 eatterin yhteistyönä järjestettävä\, viikoittainen musiikintekijöide
 n ja -kuuntelijoiden sekä muiden kulttuurialojen kohtauspaikka\, jossa es
 iintyvät ensisijaisesti Lingonperry-alustan artistit.
ATTACH;FMTTYPE=image/jpeg:https://kohokohdat.fi/tampere/wp-content/uploads
 /sites/2/2018/07/martin-alvarado-keikat.jpg
CATEGORIES:Keikat
LOCATION:Tampereen Ylioppilasteatteri\, Itsenäisyydenkatu 12\, Tampere\, S
 uomi
GEO:61.498893;23.782918
X-APPLE-STRUCTURED-LOCATION;VALUE=URI;X-ADDRESS=Itsenäisyydenkatu 12\, Tam
 pere\, Suomi;X-APPLE-RADIUS=100;X-TITLE=Tampereen Ylioppilasteatteri:geo:6
 1.498893,23.782918
END:VEVENT
BEGIN:VEVENT
UID:2-215593@kohokohdat.fi
DTSTART;TZID=Europe/Helsinki:20260504T190000
DTEND;TZID=Europe/Helsinki:20260504T190000
DTSTAMP:20260420T063449Z
URL:https://kohokohdat.fi/tampere/tapahtuma/lingonperry-x-tamjazz-quartet-
 ajaton/
SUMMARY:Lingonperry X Tamjazz: Quartet Ajaton
DESCRIPTION:Lingonperry ja TamJazz ry järjestävät yhdessä Quartet Ajatt
 oman Jazz Suomi 100 -konsertin ja jamit Tampereen Ylioppilasteatterissa ma
 anantaina 4.5.2026.\n\nQuartet Ajaton on laulaja Mia Simanaisen perustama 
 yhtye\, jossa erilaisista taustoista tulevat huippuinnovatiiviset muusikot
  punovat taitonsa yhteen. Yhtyeen arvoituksellinen soitinyhdistelmä on to
 dennäköisesti ainut laatuaan koko maailmassa! Tuttua sen sijaan löytyy 
 kvartetin uudesta ohjelmistosta\, joka sisältää kotimaisen kulttuurimme
  ikonisia sävelmiä – tangot\, sibeliukset\, kansansävelmät ja karjah
 uudot kaikuvat\, tanssivat ja möyrivät – musiikki hehkuu ja jäätää
 \, ja laittaa kuulijan veren kiertämään.\n\nQuartet Ajaton on tyylillis
 esti itsenäinen tiennäyttäjä ja sen kymmenvuotinen taival huipentuu 20
 26 albumijulkaisuun ja Jazzliiton järjestämään levynjulkaisukiertueese
 en. Yhtyeen kolmas pitkäsoitto\, Fin\, korostaa musiikin kotimaista alkup
 erää osuvasti juuri Jazz Suomi 100 -juhlavuotena. Edellisiä julkaisuja 
 Elixir (Eclipse Music 2016) ja Early Music in the Latest Way (Alba Records
  2020) seuraten\, säännöt on tehty rikottaviksi. Laulukielinä kuullaan
  suomea\, ruotsia ja englantia.\n\nMia Simanainen – laulu\nHenrik Sandå
 s – bandoneón\nKari Ikonen – Moog-syntetisaattori\nAino Juutilainen 
 – sello\n\nTamJazz on vuonna 1985 perustettu yhdistys\, jonka tavoitteen
 a on vaalia jazzin perinteitä edistämällä jazzin harrastamista ja jär
 jestämällä tilaisuuksia jazzin esittämiseen.\n\nOvet avataan 18:00.\nL
 iput ArtXperiencen lippukaupasta: 22 € (perus) / 10 € (Lingonperry-kuu
 kausitilaaja) / 17 € (TamJazz-jäsen)
ATTACH;FMTTYPE=image/jpeg:https://kohokohdat.fi/tampere/wp-content/uploads
 /sites/2/2026/04/quartet-ajaton-jazz-keikat.jpg
CATEGORIES:Jazz,Keikat
LOCATION:Tampereen Ylioppilasteatteri\, Itsenäisyydenkatu 12\, Tampere\, S
 uomi
GEO:61.498893;23.782918
X-APPLE-STRUCTURED-LOCATION;VALUE=URI;X-ADDRESS=Itsenäisyydenkatu 12\, Tam
 pere\, Suomi;X-APPLE-RADIUS=100;X-TITLE=Tampereen Ylioppilasteatteri:geo:6
 1.498893,23.782918
END:VEVENT
BEGIN:VTIMEZONE
TZID:Europe/Helsinki
X-LIC-LOCATION:Europe/Helsinki
BEGIN:STANDARD
DTSTART:20251026T030000
TZOFFSETFROM:+0300
TZOFFSETTO:+0200
TZNAME:EET
END:STANDARD
BEGIN:DAYLIGHT
DTSTART:20260329T040000
TZOFFSETFROM:+0200
TZOFFSETTO:+0300
TZNAME:EEST
END:DAYLIGHT
END:VTIMEZONE
END:VCALENDAR