BEGIN:VCALENDAR
VERSION:2.0
PRODID:-//wp-events-plugin.com//7.2.3.1//EN
TZID:Europe/Helsinki
X-WR-TIMEZONE:Europe/Helsinki
BEGIN:VEVENT
UID:2-208051@kohokohdat.fi
DTSTART;TZID=Europe/Helsinki:20250517T140000
DTEND;TZID=Europe/Helsinki:20250517T140000
DTSTAMP:20250510T135056Z
URL:https://kohokohdat.fi/tampere/tapahtuma/kirjasto-on-punk-juggling-jugu
 lars-ja-diskelma/
SUMMARY:Kirjasto on PUNK: Juggling Jugulars ja Diskelmä
DESCRIPTION:Kirjaston järjestämät punk-keikat käynnistyivät rytinäll
 ä marraskuussa ja nyt keväällä 2025 punk-keikat saavat jatkoa\, kun es
 iintymään saapuu Juggling Jugulars ja 20-vuotissyntymäpäiviään juhli
 va Diskelmä.\nVisiossa on lisäksi DIY-punk-paja\, jonka sisältö selvi
 ää myöhemmin. Diskelmä jatkaa juhlimista vielä illalla Vastavirta-klu
 billa.\nKirjasto on PUNK -klubi käynnistyi marraskuussa 2024\nhttps://www
 .youtube.com/watch?v=o19bQEym-NI\n\nhttps://www.youtube.com/watch?v=nCv13O
 JjeKw\n\nKaikkien aikojen ensimmäisinä Kirjasto on PUNK -klubin esiintyj
 inä nähtiin lauantaina 23.11.2025 pääkirjasto Metson musiikkiosastolla
  tamperelainen VAPAA MAA sekä Suomen suosituimpiin punkkibändeihin kuulu
 va KOVAA RASVAA Turun ja Helsingin seuduilta. Tapahtuma striimattiin Metso
  STUDIOn toimesta ja sitä pystyi seuraamaan myös etänä Tampereen kaupu
 nginkirjaston YouTube-kanavalla.\n\nhttps://www.youtube.com/@TampereenKirj
 asto\n\nTapahtuman järjestäjänä toimii kirjastossa toimiva Janne "Jane
 " Hertell\, joka on itsekin tunnettu useasta punkyhtyeestä. Hän soittaa 
 koskettimia muun muassa Purkkapäivässä\, joka on kiertänyt useammat ta
 mperelaiset musiikkiklubit.\n\nKirjasto on PUNK -livemusiikkitapahtuma toi
 mii samaan tapaan kuin Metso LIVEkin\, eli samana iltana voi saman esiinty
 jän nähdä toisessakin paikassa.  Vastavirta-Klubin lavalla nähdäänk
 in vielä saman päivän illalla KOVAA RASVAA.\n\n– Meillä on hyvä yht
 eistyö Vastavirta-Klubin kanssa. Voimme katsoa\, mitä bändejä on tulos
 sa esiintymään klubille Tampereen ulkopuolelta ja ottaa niitä soittamaa
 n tänne kaiken ikäisille iltapäivällä\, kertoo Hertell.\n\nKatso Vast
 avirta-klubin keikat\n\nhttps://kohokohdat.fi/tampere/vastavirta-klubin-ke
 ikat/\n\nhttps://www.youtube.com/watch?v=HkMuTuRW3TI\n\n[caption id="attac
 hment_407455" align="aligncenter" width="720"] Purkkapaiva. Kuva: Janne Po
 ikolainen[/caption]
CATEGORIES:Keikat
LOCATION:Tampereen pääkirjasto Metso\, Pirkankatu 2\, Tampere\, 33210\, S
 uomi
X-APPLE-STRUCTURED-LOCATION;VALUE=URI;X-ADDRESS=Pirkankatu 2\, Tampere\, 33
 210\, Suomi;X-APPLE-RADIUS=100;X-TITLE=Tampereen pääkirjasto Metso:geo:0
 ,0
END:VEVENT
BEGIN:VEVENT
UID:2-203067@kohokohdat.fi
DTSTART;TZID=Europe/Helsinki:20251007T180000
DTEND;TZID=Europe/Helsinki:20251007T180000
DTSTAMP:20250924T102400Z
URL:https://kohokohdat.fi/tampere/tapahtuma/metso-live-valtteri-laurell-po
 yhonen/
SUMMARY:Metso LIVE: Knipi
DESCRIPTION:Laulaja-lauluntekijä Zachris ”Knipi” Stierncreutz nähdä
 än lokakuun Metso LIVE -klubilla tiistaina 7.10.2025.\nKnipi on kirjoitta
 nut pitkällä urallaan lukuisia kappaleita itselleen\, Egotripille ja use
 ille muille tunnetuille kotimaisille artisteille. Ensimmäinen sooloalbumi
  Knipi ilmestyi vuonna 2019. Tommi E. Virtasen kirjoittamassa teoksessa Kn
 ipi – Kuinka vangita perhonen (2025) muusikko kertoo ajatuksiaan luovuud
 esta\, inspiraatiosta ja uransa vaiheista.
ATTACH;FMTTYPE=image/jpeg:https://kohokohdat.fi/tampere/wp-content/uploads
 /sites/2/2021/12/knipi.jpg
CATEGORIES:Keikat
LOCATION:Tampereen pääkirjasto Metso\, Pirkankatu 2\, Tampere\, 33210\, S
 uomi
X-APPLE-STRUCTURED-LOCATION;VALUE=URI;X-ADDRESS=Pirkankatu 2\, Tampere\, 33
 210\, Suomi;X-APPLE-RADIUS=100;X-TITLE=Tampereen pääkirjasto Metso:geo:0
 ,0
END:VEVENT
BEGIN:VEVENT
UID:2-203068@kohokohdat.fi
DTSTART;TZID=Europe/Helsinki:20251018T140000
DTEND;TZID=Europe/Helsinki:20251018T140000
DTSTAMP:20250924T103038Z
URL:https://kohokohdat.fi/tampere/tapahtuma/kirjasto-on-punk-1-kovaa-rasva
 a-ja-vapaa-maa/
SUMMARY:Kirjasto on PUNK: Tappajatomaatit ja Pojat
DESCRIPTION:Hardcore vaihtuu ramopunkkiin\, kun Joey Luumäen luotsaama Tap
 pajatomaatit ja Miika Söderholmin Pojat esiintyvät musiikkiosastolla.\n
ATTACH;FMTTYPE=image/jpeg:https://kohokohdat.fi/tampere/wp-content/uploads
 /sites/2/2024/11/pojat-punk-bandi-keikat.jpg
CATEGORIES:Keikat
LOCATION:Tampereen pääkirjasto Metso\, Pirkankatu 2\, Tampere\, 33210\, S
 uomi
X-APPLE-STRUCTURED-LOCATION;VALUE=URI;X-ADDRESS=Pirkankatu 2\, Tampere\, 33
 210\, Suomi;X-APPLE-RADIUS=100;X-TITLE=Tampereen pääkirjasto Metso:geo:0
 ,0
END:VEVENT
BEGIN:VEVENT
UID:2-214614@kohokohdat.fi
DTSTART;TZID=Europe/Helsinki:20260424T180000
DTEND;TZID=Europe/Helsinki:20260424T180000
DTSTAMP:20260402T132928Z
URL:https://kohokohdat.fi/tampere/tapahtuma/kirjasto-on-punk-roskis-ja-pur
 kkapaiva/
SUMMARY:Kirjasto on PUNK: Roskis ja Purkkapäivä
DESCRIPTION:Kirjaston järjestämät punk-keikat käynnistyivät rytinäll
 ä viime marraskuussa ja nyt keväällä 2026 punk-keikat saavat jatkoa\, 
 kun esiintymään saapuu Roskis ja Purkkapäivä.\nRoskis on vuonna 2024 
 perustettu punkbändi Tampereelta. Sen jäsenet ovat 10–15-vuotiaita. Bi
 isit kertovat esimerkiksi ilmastonmuutoksesta\, vallasta\, hampaidenpesust
 a\, aikuisten tyhmyydestä ja räkää syövistä käärmeistä. Roskis on
  esiintynyt Rauhanasemalla\, Pispalan karnevaaleilla\, Pethausissa ja usea
 sti Vastavirta-klubilla.\n\nPurkkapäivä on tamperelainen pop-punk-bändi
 \, joka kuvailee musiikkiaan hedelmäiseksi makusekoitukseksi. Tarttuvat m
 elodiat ja energinen livemeininki viiden hengen keikkakokoonpanon kera men
 ee raskaammankin tossun alle.\nKirjasto on PUNK -klubi käynnistyi marrask
 uussa 2024\nhttps://www.youtube.com/watch?v=o19bQEym-NI\n\nhttps://www.you
 tube.com/watch?v=nCv13OJjeKw\n\nKaikkien aikojen ensimmäisinä Kirjasto o
 n PUNK -klubin esiintyjinä nähtiin lauantaina 23.11.2025 pääkirjasto M
 etson musiikkiosastolla tamperelainen VAPAA MAA sekä Suomen suosituimpiin
  punkkibändeihin kuuluva KOVAA RASVAA Turun ja Helsingin seuduilta. Tapah
 tuma striimattiin Metso STUDIOn toimesta ja sitä pystyi seuraamaan myös 
 etänä Tampereen kaupunginkirjaston YouTube-kanavalla.\n\nhttps://www.you
 tube.com/@TampereenKirjasto\n\nTapahtuman järjestäjänä toimii kirjasto
 ssa toimiva Janne "Jane" Hertell\, joka on itsekin tunnettu useasta punkyh
 tyeestä. Hän soittaa koskettimia muun muassa Purkkapäivässä\, joka on
  kiertänyt useammat tamperelaiset musiikkiklubit.\n\nKirjasto on PUNK -li
 vemusiikkitapahtuma toimii samaan tapaan kuin Metso LIVEkin\, eli samana i
 ltana voi saman esiintyjän nähdä toisessakin paikassa.  Vastavirta-Klu
 bin lavalla nähdäänkin vielä saman päivän illalla KOVAA RASVAA.\n\n
 – Meillä on hyvä yhteistyö Vastavirta-Klubin kanssa. Voimme katsoa\, 
 mitä bändejä on tulossa esiintymään klubille Tampereen ulkopuolelta j
 a ottaa niitä soittamaan tänne kaiken ikäisille iltapäivällä\, kerto
 o Hertell.\n\nKatso Vastavirta-klubin keikat\n\nhttps://kohokohdat.fi/tamp
 ere/vastavirta-klubin-keikat/\n\nhttps://www.youtube.com/watch?v=HkMuTuRW3
 TI\n\n[caption id="attachment_407455" align="aligncenter" width="720"] Pur
 kkapaiva. Kuva: Janne Poikolainen[/caption]
ATTACH;FMTTYPE=image/jpeg:https://kohokohdat.fi/tampere/wp-content/uploads
 /sites/2/2024/11/purkkapaiva-keikat-tampere.png
CATEGORIES:Keikat
LOCATION:Tampereen pääkirjasto Metso\, Pirkankatu 2\, Tampere\, 33210\, S
 uomi
X-APPLE-STRUCTURED-LOCATION;VALUE=URI;X-ADDRESS=Pirkankatu 2\, Tampere\, 33
 210\, Suomi;X-APPLE-RADIUS=100;X-TITLE=Tampereen pääkirjasto Metso:geo:0
 ,0
END:VEVENT
BEGIN:VTIMEZONE
TZID:Europe/Helsinki
X-LIC-LOCATION:Europe/Helsinki
BEGIN:DAYLIGHT
DTSTART:20250330T040000
TZOFFSETFROM:+0200
TZOFFSETTO:+0300
TZNAME:EEST
END:DAYLIGHT
BEGIN:STANDARD
DTSTART:20251026T030000
TZOFFSETFROM:+0300
TZOFFSETTO:+0200
TZNAME:EET
END:STANDARD
BEGIN:DAYLIGHT
DTSTART:20260329T040000
TZOFFSETFROM:+0200
TZOFFSETTO:+0300
TZNAME:EEST
END:DAYLIGHT
END:VTIMEZONE
END:VCALENDAR