BEGIN:VCALENDAR
VERSION:2.0
PRODID:-//wp-events-plugin.com//7.2.3.1//EN
TZID:Europe/Helsinki
X-WR-TIMEZONE:Europe/Helsinki
BEGIN:VEVENT
UID:2-183080@kohokohdat.fi
DTSTART;TZID=Europe/Helsinki;VALUE=DATE:20230909
DTEND;TZID=Europe/Helsinki;VALUE=DATE:20230911
DTSTAMP:20230905T081623Z
URL:https://kohokohdat.fi/tampere/tapahtuma/tammelantorin-street-food-ja-k
 ylajuhla/
SUMMARY:Street Food Festival
DESCRIPTION:Perinteisellä Tammelantorilla järjestetään Street Food Fest
 ival viikonloppuna. Katuruokatapahtumassa on luvassa herkkuja maailmalta j
 a menevää musaa molempina päivinä.\nKaturuokaa Deluxe Tampereen Tammel
 antorilla. Tuoksut maailmalta täyttävät torin heti lauantaina aamupäiv
 ästä alkaen\, grillit käyvät kuumana ja savu kohoaa teltoista. Makea m
 aailmakin saapuu ilahduttamaan niin isoja kuin pieniäkin.\nLive-musiikkia
  molempina päivinä telttakatoksessa. Duo Eyal and Venla esiintyvät laua
 ntaina klo 17 alkaen ja sunnuntai huipentuu musikaalisesti Ben Matthewsin 
 ympärille Tampere International Music Jamin mukaansa tempaavaan esityksee
 n. Heidän ryhmänsä tekee musikaalisen kattauksen koko sunnuntaiksi\, he
 ti klo 11 alkaen\n\n\n\n&nbsp\;\n\n&nbsp\;
ATTACH;FMTTYPE=image/jpeg:https://kohokohdat.fi/tampere/wp-content/uploads
 /sites/2/2023/07/la-duo-eyal-venla-keikat.png
CATEGORIES:Festivaalit,Keikat,Ravintolat
LOCATION:Tammelantori\, Tammelantori\, Tampere\, Suomi
GEO:61.502371;23.779581
X-APPLE-STRUCTURED-LOCATION;VALUE=URI;X-ADDRESS=Tammelantori\, Tampere\, Su
 omi;X-APPLE-RADIUS=100;X-TITLE=Tammelantori:geo:61.502371,23.779581
END:VEVENT
BEGIN:VTIMEZONE
TZID:Europe/Helsinki
X-LIC-LOCATION:Europe/Helsinki
BEGIN:DAYLIGHT
DTSTART:20230326T040000
TZOFFSETFROM:+0200
TZOFFSETTO:+0300
TZNAME:EEST
END:DAYLIGHT
END:VTIMEZONE
END:VCALENDAR