BEGIN:VCALENDAR
VERSION:2.0
PRODID:-//wp-events-plugin.com//7.2.3.1//EN
TZID:Europe/Helsinki
X-WR-TIMEZONE:Europe/Helsinki
BEGIN:VEVENT
UID:2-180084@kohokohdat.fi
DTSTART;TZID=Europe/Helsinki:20230422T120000
DTEND;TZID=Europe/Helsinki:20230423T164500
DTSTAMP:20230404T111702Z
URL:https://kohokohdat.fi/tampere/tapahtuma/hot-rod-rock-show-2023-aron-co
 ol-company-paaesiintyjat-aarne-tenkanen-tempuntekijat-everture/
SUMMARY:Hot Rod & Rock Show 2023: Aron & Cool Company\, Pääesiintyjät\, 
 Aarne Tenkanen & Tempuntekijät\, Everture
DESCRIPTION:Vuosittainen Hot Rod &amp\; Rock Show tulee taas Tampereen Täh
 tiAreenalle\, jossa upeiden autojen lisäksi nähdään live-esiintyjiä.\
 nLauantain kohokohta on  Aron &amp\; Cool Company\, jonka vokalistina nä
 hdään Pirkanmaan oma Elvis. Päivän muut esiintyjät ovat Pääesiintyj
 ät sekä Aarne Tenkanen &amp\; Tempuntekijät.\n\n\n\nHot Rod &amp\; Rock
  Show päivitetty ohjelma:\n\nLauantai\nEverture klo 12.00-12.45\nAron &am
 p\; Cool Company klo 13.15-14.00\nPääesiintyjät klo 14.30-15.15\nAarne 
 Tenkanen &amp\; Tempuntekijät klo16.00-16.45\n\nHot Rod &amp\; Rock Show 
 järjestetään tänä vuonna 22.-23.4.2023\n\nhttps://kohokohdat.fi/tampe
 re/tapahtuma/hot-rod-rock-show-tampere/\n\n&nbsp\;
ATTACH;FMTTYPE=image/jpeg:https://kohokohdat.fi/tampere/wp-content/uploads
 /sites/2/2022/11/joulukonsertti-elvis.jpg
CATEGORIES:Keikat
LOCATION:TähtiAreena\, Ilmailunkatu 20\, Tampere\, Suomi
GEO:61.464099;23.732477
X-APPLE-STRUCTURED-LOCATION;VALUE=URI;X-ADDRESS=Ilmailunkatu 20\, Tampere\,
  Suomi;X-APPLE-RADIUS=100;X-TITLE=TähtiAreena:geo:61.464099,23.732477
END:VEVENT
BEGIN:VTIMEZONE
TZID:Europe/Helsinki
X-LIC-LOCATION:Europe/Helsinki
BEGIN:DAYLIGHT
DTSTART:20230326T040000
TZOFFSETFROM:+0200
TZOFFSETTO:+0300
TZNAME:EEST
END:DAYLIGHT
END:VTIMEZONE
END:VCALENDAR