BEGIN:VCALENDAR
VERSION:2.0
PRODID:-//wp-events-plugin.com//7.2.3.1//EN
TZID:Europe/Helsinki
X-WR-TIMEZONE:Europe/Helsinki
BEGIN:VEVENT
UID:2-207792@kohokohdat.fi
DTSTART;TZID=Europe/Helsinki:20250510T110000
DTEND;TZID=Europe/Helsinki:20250510T110000
DTSTAMP:20260420T225548Z
URL:https://kohokohdat.fi/tampere/event-recurring/stahlberg-keskustorin-vi
 ikonloppubrunssi/
SUMMARY:Ståhlberg Keskustorin viikonloppubrunssi
DESCRIPTION:Ståhlberg Keskustori tarjoilee viikonloppubrunssia lauantaisin
  ja sunnuntaisin.\n\nBrunssia tarjoillaan klo 11:00-15:00 ja kattausajat o
 vat 11:00 ja 13:00.
ATTACH;FMTTYPE=image/jpeg:https://kohokohdat.fi/tampere/wp-content/uploads
 /sites/2/2022/05/keskustori-kesaravintolat.jpg
CATEGORIES:Ravintolat
LOCATION:Ståhlberg Keskustori\, Keskustori 7\, Tampere\, Suomi
X-APPLE-STRUCTURED-LOCATION;VALUE=URI;X-ADDRESS=Keskustori 7\, Tampere\, Su
 omi;X-APPLE-RADIUS=100;X-TITLE=Ståhlberg Keskustori:geo:0,0
END:VEVENT
BEGIN:VEVENT
UID:2-207793@kohokohdat.fi
DTSTART;TZID=Europe/Helsinki:20250511T110000
DTEND;TZID=Europe/Helsinki:20250511T110000
DTSTAMP:20260420T225548Z
URL:https://kohokohdat.fi/tampere/event-recurring/stahlberg-keskustorin-vi
 ikonloppubrunssi/
SUMMARY:Ståhlberg Keskustorin viikonloppubrunssi
DESCRIPTION:Ståhlberg Keskustori tarjoilee viikonloppubrunssia lauantaisin
  ja sunnuntaisin.\n\nBrunssia tarjoillaan klo 11:00-15:00 ja kattausajat o
 vat 11:00 ja 13:00.
ATTACH;FMTTYPE=image/jpeg:https://kohokohdat.fi/tampere/wp-content/uploads
 /sites/2/2022/05/keskustori-kesaravintolat.jpg
CATEGORIES:Ravintolat
LOCATION:Ståhlberg Keskustori\, Keskustori 7\, Tampere\, Suomi
X-APPLE-STRUCTURED-LOCATION;VALUE=URI;X-ADDRESS=Keskustori 7\, Tampere\, Su
 omi;X-APPLE-RADIUS=100;X-TITLE=Ståhlberg Keskustori:geo:0,0
END:VEVENT
BEGIN:VEVENT
UID:2-207798@kohokohdat.fi
DTSTART;TZID=Europe/Helsinki:20250531T110000
DTEND;TZID=Europe/Helsinki:20250531T110000
DTSTAMP:20260420T225548Z
URL:https://kohokohdat.fi/tampere/event-recurring/stahlberg-keskustorin-vi
 ikonloppubrunssi/
SUMMARY:Ståhlberg Keskustorin viikonloppubrunssi
DESCRIPTION:Ståhlberg Keskustori tarjoilee viikonloppubrunssia lauantaisin
  ja sunnuntaisin.\n\nBrunssia tarjoillaan klo 11:00-15:00 ja kattausajat o
 vat 11:00 ja 13:00.
ATTACH;FMTTYPE=image/jpeg:https://kohokohdat.fi/tampere/wp-content/uploads
 /sites/2/2022/05/keskustori-kesaravintolat.jpg
CATEGORIES:Ravintolat
LOCATION:Ståhlberg Keskustori\, Keskustori 7\, Tampere\, Suomi
X-APPLE-STRUCTURED-LOCATION;VALUE=URI;X-ADDRESS=Keskustori 7\, Tampere\, Su
 omi;X-APPLE-RADIUS=100;X-TITLE=Ståhlberg Keskustori:geo:0,0
END:VEVENT
BEGIN:VEVENT
UID:2-207799@kohokohdat.fi
DTSTART;TZID=Europe/Helsinki:20250601T110000
DTEND;TZID=Europe/Helsinki:20250601T110000
DTSTAMP:20260420T225548Z
URL:https://kohokohdat.fi/tampere/event-recurring/stahlberg-keskustorin-vi
 ikonloppubrunssi/
SUMMARY:Ståhlberg Keskustorin viikonloppubrunssi
DESCRIPTION:Ståhlberg Keskustori tarjoilee viikonloppubrunssia lauantaisin
  ja sunnuntaisin.\n\nBrunssia tarjoillaan klo 11:00-15:00 ja kattausajat o
 vat 11:00 ja 13:00.
ATTACH;FMTTYPE=image/jpeg:https://kohokohdat.fi/tampere/wp-content/uploads
 /sites/2/2022/05/keskustori-kesaravintolat.jpg
CATEGORIES:Ravintolat
LOCATION:Ståhlberg Keskustori\, Keskustori 7\, Tampere\, Suomi
X-APPLE-STRUCTURED-LOCATION;VALUE=URI;X-ADDRESS=Keskustori 7\, Tampere\, Su
 omi;X-APPLE-RADIUS=100;X-TITLE=Ståhlberg Keskustori:geo:0,0
END:VEVENT
BEGIN:VEVENT
UID:2-207800@kohokohdat.fi
DTSTART;TZID=Europe/Helsinki:20250607T110000
DTEND;TZID=Europe/Helsinki:20250607T110000
DTSTAMP:20260420T225548Z
URL:https://kohokohdat.fi/tampere/event-recurring/stahlberg-keskustorin-vi
 ikonloppubrunssi/
SUMMARY:Ståhlberg Keskustorin viikonloppubrunssi
DESCRIPTION:Ståhlberg Keskustori tarjoilee viikonloppubrunssia lauantaisin
  ja sunnuntaisin.\n\nBrunssia tarjoillaan klo 11:00-15:00 ja kattausajat o
 vat 11:00 ja 13:00.
ATTACH;FMTTYPE=image/jpeg:https://kohokohdat.fi/tampere/wp-content/uploads
 /sites/2/2022/05/keskustori-kesaravintolat.jpg
CATEGORIES:Ravintolat
LOCATION:Ståhlberg Keskustori\, Keskustori 7\, Tampere\, Suomi
X-APPLE-STRUCTURED-LOCATION;VALUE=URI;X-ADDRESS=Keskustori 7\, Tampere\, Su
 omi;X-APPLE-RADIUS=100;X-TITLE=Ståhlberg Keskustori:geo:0,0
END:VEVENT
BEGIN:VEVENT
UID:2-207856@kohokohdat.fi
DTSTART;TZID=Europe/Helsinki:20251220T110000
DTEND;TZID=Europe/Helsinki:20251220T110000
DTSTAMP:20260420T225548Z
URL:https://kohokohdat.fi/tampere/event-recurring/stahlberg-keskustorin-vi
 ikonloppubrunssi/
SUMMARY:Ståhlberg Keskustorin viikonloppubrunssi
DESCRIPTION:Ståhlberg Keskustori tarjoilee viikonloppubrunssia lauantaisin
  ja sunnuntaisin.\n\nBrunssia tarjoillaan klo 11:00-15:00 ja kattausajat o
 vat 11:00 ja 13:00.
ATTACH;FMTTYPE=image/jpeg:https://kohokohdat.fi/tampere/wp-content/uploads
 /sites/2/2022/05/keskustori-kesaravintolat.jpg
CATEGORIES:Ravintolat
LOCATION:Ståhlberg Keskustori\, Keskustori 7\, Tampere\, Suomi
X-APPLE-STRUCTURED-LOCATION;VALUE=URI;X-ADDRESS=Keskustori 7\, Tampere\, Su
 omi;X-APPLE-RADIUS=100;X-TITLE=Ståhlberg Keskustori:geo:0,0
END:VEVENT
BEGIN:VEVENT
UID:2-207857@kohokohdat.fi
DTSTART;TZID=Europe/Helsinki:20251221T110000
DTEND;TZID=Europe/Helsinki:20251221T110000
DTSTAMP:20260420T225548Z
URL:https://kohokohdat.fi/tampere/event-recurring/stahlberg-keskustorin-vi
 ikonloppubrunssi/
SUMMARY:Ståhlberg Keskustorin viikonloppubrunssi
DESCRIPTION:Ståhlberg Keskustori tarjoilee viikonloppubrunssia lauantaisin
  ja sunnuntaisin.\n\nBrunssia tarjoillaan klo 11:00-15:00 ja kattausajat o
 vat 11:00 ja 13:00.
ATTACH;FMTTYPE=image/jpeg:https://kohokohdat.fi/tampere/wp-content/uploads
 /sites/2/2022/05/keskustori-kesaravintolat.jpg
CATEGORIES:Ravintolat
LOCATION:Ståhlberg Keskustori\, Keskustori 7\, Tampere\, Suomi
X-APPLE-STRUCTURED-LOCATION;VALUE=URI;X-ADDRESS=Keskustori 7\, Tampere\, Su
 omi;X-APPLE-RADIUS=100;X-TITLE=Ståhlberg Keskustori:geo:0,0
END:VEVENT
BEGIN:VEVENT
UID:2-207858@kohokohdat.fi
DTSTART;TZID=Europe/Helsinki:20251227T110000
DTEND;TZID=Europe/Helsinki:20251227T110000
DTSTAMP:20260420T225548Z
URL:https://kohokohdat.fi/tampere/event-recurring/stahlberg-keskustorin-vi
 ikonloppubrunssi/
SUMMARY:Ståhlberg Keskustorin viikonloppubrunssi
DESCRIPTION:Ståhlberg Keskustori tarjoilee viikonloppubrunssia lauantaisin
  ja sunnuntaisin.\n\nBrunssia tarjoillaan klo 11:00-15:00 ja kattausajat o
 vat 11:00 ja 13:00.
ATTACH;FMTTYPE=image/jpeg:https://kohokohdat.fi/tampere/wp-content/uploads
 /sites/2/2022/05/keskustori-kesaravintolat.jpg
CATEGORIES:Ravintolat
LOCATION:Ståhlberg Keskustori\, Keskustori 7\, Tampere\, Suomi
X-APPLE-STRUCTURED-LOCATION;VALUE=URI;X-ADDRESS=Keskustori 7\, Tampere\, Su
 omi;X-APPLE-RADIUS=100;X-TITLE=Ståhlberg Keskustori:geo:0,0
END:VEVENT
BEGIN:VEVENT
UID:2-207859@kohokohdat.fi
DTSTART;TZID=Europe/Helsinki:20251228T110000
DTEND;TZID=Europe/Helsinki:20251228T110000
DTSTAMP:20260420T225548Z
URL:https://kohokohdat.fi/tampere/event-recurring/stahlberg-keskustorin-vi
 ikonloppubrunssi/
SUMMARY:Ståhlberg Keskustorin viikonloppubrunssi
DESCRIPTION:Ståhlberg Keskustori tarjoilee viikonloppubrunssia lauantaisin
  ja sunnuntaisin.\n\nBrunssia tarjoillaan klo 11:00-15:00 ja kattausajat o
 vat 11:00 ja 13:00.
ATTACH;FMTTYPE=image/jpeg:https://kohokohdat.fi/tampere/wp-content/uploads
 /sites/2/2022/05/keskustori-kesaravintolat.jpg
CATEGORIES:Ravintolat
LOCATION:Ståhlberg Keskustori\, Keskustori 7\, Tampere\, Suomi
X-APPLE-STRUCTURED-LOCATION;VALUE=URI;X-ADDRESS=Keskustori 7\, Tampere\, Su
 omi;X-APPLE-RADIUS=100;X-TITLE=Ståhlberg Keskustori:geo:0,0
END:VEVENT
BEGIN:VTIMEZONE
TZID:Europe/Helsinki
X-LIC-LOCATION:Europe/Helsinki
BEGIN:DAYLIGHT
DTSTART:20250330T040000
TZOFFSETFROM:+0200
TZOFFSETTO:+0300
TZNAME:EEST
END:DAYLIGHT
BEGIN:STANDARD
DTSTART:20251026T030000
TZOFFSETFROM:+0300
TZOFFSETTO:+0200
TZNAME:EET
END:STANDARD
END:VTIMEZONE
END:VCALENDAR