BEGIN:VCALENDAR
VERSION:2.0
PRODID:-//wp-events-plugin.com//7.2.3.1//EN
TZID:Europe/Helsinki
X-WR-TIMEZONE:Europe/Helsinki
BEGIN:VEVENT
UID:2-182634@kohokohdat.fi
DTSTART;TZID=Europe/Helsinki;VALUE=DATE:20250419
DTEND;TZID=Europe/Helsinki;VALUE=DATE:20250420
DTSTAMP:20250415T083611Z
URL:https://kohokohdat.fi/tampere/tapahtuma/sorifest/
SUMMARY:Sorifest 2025
DESCRIPTION:Sorifest on kevätkauden isoin tapahtuma ja show\, joka nähdä
 än vuosittain Nekalassa.\nSorifest on Sorin Sirkuksen keväinen show\, jo
 ssa  lajikirjo on laaja. Lavalla nähdään jongleerausta\, käsilläseis
 ontaa\, pariakrobatiaa\, pyramideja ja paljon muuta.\nTapahtuman kesto on 
 noin 3\,5 tuntia\, ja se sisältää kaksi väliaikaa.\nLue tarkemmin Sori
 n Sirkuksen omilta sivuilta.
ATTACH;FMTTYPE=image/jpeg:https://kohokohdat.fi/tampere/wp-content/uploads
 /sites/2/2022/12/sorin-sirkus-tampere-tapahtumat.jpg
CATEGORIES:Elämykset &amp; huvit,Festivaalit
LOCATION:Sorin Sirkus\, Ahlmanintie 63\, Tampere\, Suomi
GEO:61.478161;23.790687
X-APPLE-STRUCTURED-LOCATION;VALUE=URI;X-ADDRESS=Ahlmanintie 63\, Tampere\, 
 Suomi;X-APPLE-RADIUS=100;X-TITLE=Sorin Sirkus:geo:61.478161,23.790687
END:VEVENT
BEGIN:VTIMEZONE
TZID:Europe/Helsinki
X-LIC-LOCATION:Europe/Helsinki
BEGIN:DAYLIGHT
DTSTART:20250330T040000
TZOFFSETFROM:+0200
TZOFFSETTO:+0300
TZNAME:EEST
END:DAYLIGHT
END:VTIMEZONE
END:VCALENDAR