BEGIN:VCALENDAR
VERSION:2.0
PRODID:-//wp-events-plugin.com//7.2.3.1//EN
TZID:Europe/Helsinki
X-WR-TIMEZONE:Europe/Helsinki
BEGIN:VEVENT
UID:2-180317@kohokohdat.fi
DTSTART;TZID=Europe/Helsinki:20230415T210000
DTEND;TZID=Europe/Helsinki:20230415T210000
DTSTAMP:20230413T070223Z
URL:https://kohokohdat.fi/tampere/tapahtuma/tero-vaara-soolona/
SUMMARY:Tero Vaara soolona
DESCRIPTION:Tero Vaara tarjoilee yleisölleen Mamba hittejä vuosien varrel
 ta ja samalla kuulemme tarinoita biisien takaa.
ATTACH;FMTTYPE=image/jpeg:https://kohokohdat.fi/tampere/wp-content/uploads
 /sites/2/2020/09/tero-vaara-keikat.jpg
CATEGORIES:Keikat
LOCATION:SORELLA CELLAR CLUB: keikat ja tapahtumat\, Vuolteenkatu 20\, Tamp
 ere\, Suomi
GEO:61.494608;23.771758
X-APPLE-STRUCTURED-LOCATION;VALUE=URI;X-ADDRESS=Vuolteenkatu 20\, Tampere\,
  Suomi;X-APPLE-RADIUS=100;X-TITLE=SORELLA CELLAR CLUB: keikat ja tapahtuma
 t:geo:61.494608,23.771758
END:VEVENT
BEGIN:VEVENT
UID:2-180318@kohokohdat.fi
DTSTART;TZID=Europe/Helsinki:20230506T210000
DTEND;TZID=Europe/Helsinki:20230506T210000
DTSTAMP:20230420T173306Z
URL:https://kohokohdat.fi/tampere/tapahtuma/katri-ylander-2/
SUMMARY:Katri Ylander
DESCRIPTION:Katri Ylander esiintyy Sorellan Cellar Clubilla lauantai-iltana
  6.5.2023.
ATTACH;FMTTYPE=image/jpeg:https://kohokohdat.fi/tampere/wp-content/uploads
 /sites/2/2022/07/Katri-Ylander-keikka.jpg
CATEGORIES:Keikat
LOCATION:SORELLA CELLAR CLUB: keikat ja tapahtumat\, Vuolteenkatu 20\, Tamp
 ere\, Suomi
GEO:61.494608;23.771758
X-APPLE-STRUCTURED-LOCATION;VALUE=URI;X-ADDRESS=Vuolteenkatu 20\, Tampere\,
  Suomi;X-APPLE-RADIUS=100;X-TITLE=SORELLA CELLAR CLUB: keikat ja tapahtuma
 t:geo:61.494608,23.771758
END:VEVENT
BEGIN:VEVENT
UID:2-183078@kohokohdat.fi
DTSTART;TZID=Europe/Helsinki:20230729T180000
DTEND;TZID=Europe/Helsinki:20230729T180000
DTSTAMP:20230727T080711Z
URL:https://kohokohdat.fi/tampere/tapahtuma/jape-gronroos/
SUMMARY:Jape Grönroos
DESCRIPTION:Tamperelaistunut Stand up -koomikko Jape Grönroos juhlistaa 20
 -vuotista uraansa ensi vuonna ensimmäisellä sooloesityksellään. Ennen 
 tätä esityksen materiaalia kirjoitetaan ja koeponnistetaan treenikeikoil
 la.\nPaikaksi valikoitui tunnelmallinen ja intiimi ravintola Sorella\, jok
 a sijaitsee aivan Tampereen ytimessä Nokia Areenan kupeessa. Ensimmäisen
  sooloesityksen ensimmäinen treeniesitys on lauantaina 29.7. klo 18:00\n\
 nOvet avataan tuntia ennen.\nEsityksen kesto on noin tunti ja esityksessä
  on väliaika.\n\n&nbsp\;\nLue lisää Jape Grönroosista\nhttps://kohokoh
 dat.fi/tampere/stand-up-cellar/
ATTACH;FMTTYPE=image/jpeg:https://kohokohdat.fi/tampere/wp-content/uploads
 /sites/2/2015/11/jape-gronroos.jpg
CATEGORIES:Keikat,Stand up
LOCATION:SORELLA CELLAR CLUB: keikat ja tapahtumat\, Vuolteenkatu 20\, Tamp
 ere\, Suomi
GEO:61.494608;23.771758
X-APPLE-STRUCTURED-LOCATION;VALUE=URI;X-ADDRESS=Vuolteenkatu 20\, Tampere\,
  Suomi;X-APPLE-RADIUS=100;X-TITLE=SORELLA CELLAR CLUB: keikat ja tapahtuma
 t:geo:61.494608,23.771758
END:VEVENT
BEGIN:VEVENT
UID:2-184862@kohokohdat.fi
DTSTART;TZID=Europe/Helsinki:20230915T180000
DTEND;TZID=Europe/Helsinki:20230915T180000
DTSTAMP:20230908T083603Z
URL:https://kohokohdat.fi/tampere/tapahtuma/k40-disco-dj-pasi/
SUMMARY:K40 DISCO: DJ PASI
DESCRIPTION:Sorella Cellar Clubilla juhlitaan perjantaina K40-discon pyört
 eissä. Paikalla DJ Pasi soittamassa parhaimmat biisit.\n\n&nbsp\;
CATEGORIES:Keikat
LOCATION:SORELLA CELLAR CLUB: keikat ja tapahtumat\, Vuolteenkatu 20\, Tamp
 ere\, Suomi
GEO:61.494608;23.771758
X-APPLE-STRUCTURED-LOCATION;VALUE=URI;X-ADDRESS=Vuolteenkatu 20\, Tampere\,
  Suomi;X-APPLE-RADIUS=100;X-TITLE=SORELLA CELLAR CLUB: keikat ja tapahtuma
 t:geo:61.494608,23.771758
END:VEVENT
BEGIN:VEVENT
UID:2-184863@kohokohdat.fi
DTSTART;TZID=Europe/Helsinki:20231006T210000
DTEND;TZID=Europe/Helsinki:20231006T210000
DTSTAMP:20230902T120350Z
URL:https://kohokohdat.fi/tampere/tapahtuma/annika-eklund-duo/
SUMMARY:ANNIKA EKLUND DUO
DESCRIPTION:\n\n&nbsp\;
ATTACH;FMTTYPE=image/jpeg:https://kohokohdat.fi/tampere/wp-content/uploads
 /sites/2/2020/08/annika-eklund-keikat.jpg
CATEGORIES:Keikat
LOCATION:SORELLA CELLAR CLUB: keikat ja tapahtumat\, Vuolteenkatu 20\, Tamp
 ere\, Suomi
GEO:61.494608;23.771758
X-APPLE-STRUCTURED-LOCATION;VALUE=URI;X-ADDRESS=Vuolteenkatu 20\, Tampere\,
  Suomi;X-APPLE-RADIUS=100;X-TITLE=SORELLA CELLAR CLUB: keikat ja tapahtuma
 t:geo:61.494608,23.771758
END:VEVENT
BEGIN:VEVENT
UID:2-184864@kohokohdat.fi
DTSTART;TZID=Europe/Helsinki:20231111T210000
DTEND;TZID=Europe/Helsinki:20231111T210000
DTSTAMP:20230902T120423Z
URL:https://kohokohdat.fi/tampere/tapahtuma/antti-reini-valoa-kiertue/
SUMMARY:ANTTI REINI – VALOA KIERTUE
DESCRIPTION:\n\n&nbsp\;
ATTACH;FMTTYPE=image/jpeg:https://kohokohdat.fi/tampere/wp-content/uploads
 /sites/2/2021/12/antti-reini-keikat.jpg
CATEGORIES:Keikat
LOCATION:SORELLA CELLAR CLUB: keikat ja tapahtumat\, Vuolteenkatu 20\, Tamp
 ere\, Suomi
GEO:61.494608;23.771758
X-APPLE-STRUCTURED-LOCATION;VALUE=URI;X-ADDRESS=Vuolteenkatu 20\, Tampere\,
  Suomi;X-APPLE-RADIUS=100;X-TITLE=SORELLA CELLAR CLUB: keikat ja tapahtuma
 t:geo:61.494608,23.771758
END:VEVENT
BEGIN:VTIMEZONE
TZID:Europe/Helsinki
X-LIC-LOCATION:Europe/Helsinki
BEGIN:DAYLIGHT
DTSTART:20230326T040000
TZOFFSETFROM:+0200
TZOFFSETTO:+0300
TZNAME:EEST
END:DAYLIGHT
BEGIN:STANDARD
DTSTART:20231029T030000
TZOFFSETFROM:+0300
TZOFFSETTO:+0200
TZNAME:EET
END:STANDARD
END:VTIMEZONE
END:VCALENDAR