BEGIN:VCALENDAR
VERSION:2.0
PRODID:-//wp-events-plugin.com//7.2.3.1//EN
TZID:Europe/Helsinki
X-WR-TIMEZONE:Europe/Helsinki
BEGIN:VEVENT
UID:2-209060@kohokohdat.fi
DTSTART;TZID=Europe/Helsinki;VALUE=DATE:20250613
DTEND;TZID=Europe/Helsinki;VALUE=DATE:20250614
DTSTAMP:20250608T134442Z
URL:https://kohokohdat.fi/tampere/tapahtuma/radio-nova-festivaali-2025-2/
SUMMARY:Radio Nova Festivaali 2025
DESCRIPTION:Radio Nova Festivaali järjestetään kesällä 2025 Tampereen 
 Santalahden rantapuistossa ajalla 13.–14.6.2025. Festivaalin pääesiint
 yjiä ovat muun muassa Rita Ora\, Jason Derulo\, Alvaro Soler\, Jenni Vart
 iainen ja Vesterinen Yhtyeineen. Festivaalin ohjelmiston viimeisimpinä li
 säyksinä julkaistiin huhtikuussa Turisti sekä hollantilainen huippu-DJ 
 Sam Feldt.\nRADIO NOVA -LAVA\n13:05 BEHM\n15:00 Alvaro Soler (ESP)\n16:40 
 Sexmane\n18:50 Juha Tapio\n20:50 Sam Feldt (NL)\n23:00 Rita Ora (UK)\nRadi
 o Nova -lava sponsored by lentoontampereelta.fi\nPUISTOLAVA\n14:10 Turisti
 \n16:05 Blanka (POL)\n17:45 Robin Packalen\n19:55 INNA (ROM)\n21:55 Elasti
 nen\n21:40 Jenny Berggren from Ace of Base (SWE)\nLUE LISÄÄ: Radio Nova 
 Festivaali 2025\nhttps://kohokohdat.fi/tampere/tapahtuma/radio-nova-festiv
 aali/\n
ATTACH;FMTTYPE=image/jpeg:https://kohokohdat.fi/tampere/wp-content/uploads
 /sites/2/2024/12/rita-ora-konsertti-tampere.jpg
CATEGORIES:Keikat
LOCATION:Santalahden rantapuisto\, Sahansaarenkatu\, Tampere\, Suomi
X-APPLE-STRUCTURED-LOCATION;VALUE=URI;X-ADDRESS=Sahansaarenkatu\, Tampere\,
  Suomi;X-APPLE-RADIUS=100;X-TITLE=Santalahden rantapuisto:geo:0,0
END:VEVENT
BEGIN:VEVENT
UID:2-203211@kohokohdat.fi
DTSTART;TZID=Europe/Helsinki;VALUE=DATE:20260612
DTEND;TZID=Europe/Helsinki;VALUE=DATE:20260614
DTSTAMP:20260326T084241Z
URL:https://kohokohdat.fi/tampere/tapahtuma/radio-nova-festivaali/
SUMMARY:Radio Nova Festivaali (Festivaali tauolla 2026)
DESCRIPTION:Radio Nova Festivaali järjestettiin viime kesänä Tampereen S
 antalahden rantapuistossa ajalla 13.–14.6.2025. Festivaalin pääesiinty
 jiä olivat muun muassa Rita Ora\, Jason Derulo\, Alvaro Soler\, Jenni Var
 tiainen ja Vesterinen Yhtyeineen. Festivaalin ohjelmiston viimeisimpinä l
 isäyksinä julkaistiin huhtikuussa Turisti sekä hollantilainen huippu-DJ
  Sam Feldt.\n\nAamulehden mukaan festivaalitapahtumaa ei järjestetä kes
 ällä 2026. Katso tästä lisää kesäfestareita Tampereella kesällä 2
 026\n\n[caption id="attachment_408522" align="alignnone" width="720"] Huip
 pusuosittu Radio Nova Festivaali järjestetään upeissa maisemissa Tamper
 een Santalahden rantapuistossa 13.–14. kesäkuuta 2025.[/caption]\n\nTap
 ahtuma juhlittiin  upeissa puitteissa Tampereen Santalahden rantapuistoss
 a\, kävelymatkan päässä kaupungin keskustasta ja aivan Särkänniemen 
 kupeessa.\n\nValtavan suosion saavuttanut festivaali järjestettiin ensimm
 äisen kerran Helsingin Suvilahdessa 2023.\n\n[gallery columns="2" link="f
 ile" size="medium" ids="408554\,408523"]\nKansainvälisiä ja kotimaisia t
 ähtiä Tampereella\nBrittiläinen Rita Ora on kansainvälistä menestys
 tä niittänyt laulaja-lauluntekijä\, joka on pysynyt listojen kärjessä
  jo yli vuosikymmenen. Oran kappaleet ovat keränneet kymmeniä miljardeja
  striimejä\, minkä lisäksi hänellä on ennätykselliset 13 Top 10 -sin
 gleä Iso-Britanniassa. Ora tunnetaan myös vaikuttavista yhteistöistää
 n muiden muassa Aviciin\, Tïeston\, Iggy Azaelan\, Cardi B:n ja Charli xc
 x:n kanssa.\n\nJason Derulo on noussut 2000-luvun suosituimpien hip-hop/p
 op-artistien joukkoon hittibiiseillään Talk Dirty\, Trumpets\, Want To 
 Want Me ja Wiggle – ikonista Whatcha Say -läpimurtoa unohtamatta. 
 Artistin nokkelasti genrerajoja rikkovia kappaleita värittävät hunajais
 et r&amp\;b-vokaalit ja tanssittavat rytmit aina EDM-vaikutteista afrobeat
 s-poljentoon. Radio Nova Festivaalin lavalle Derulo astelee kauan odotettu
  uunituore studioalbumi Nu King taskussaan.\n\nLisäksi Radio Nova Festi
 vaalin lavalla nähdään muun muassa aurinkoisista ja mukaansatempaavista
  latinopop-hiteistään tunnettu Alvaro Soler (ESP)\, ensimmäisenä euro
 oppalaisena naisartistina yli miljardin Youtubessa striimannut INNA (ROM)
 \, Euroviisuista maailmalle ponnistanut BLANKA (POL)\, sekä kotimaiset h
 uippunimet Jenni Vartiainen\, BEHM\, Gasellit\, Robin Packalen ja Ve
 sterinen Yhtyeineen. Retroperjantain ensimmäinen julkistus on eurodance-
 yhtye Vengaboys (NL). Ohjelma täydentyy myöhemmin muilla kansainvälisi
 llä ja kotimaisilla huippuartisteilla.\n\nVaikuttavan läpimurron kotimai
 sella rapmusiikkikentällä tehnyt Turisti oli Suomen kuunnelluin artist
 i Spotifyssa vuonna 2024. Maan parhaita lavaesiintymisiä tarjoava artisti
  todisti loppuunmyydyllä ROADMAN-albumikiertueellaan syksyllä 2024\, ett
 ä hän ei ole pelkästään artisti – hän on ilmiö. Turisti oli Emma-
 gaalassa ehdolla neljässä kategoriassa ja vei kotiin rap-Emman.\n\nhttps
 ://www.youtube.com/watch?v=euTMApF2KH4\n\n– On mahtavaa päästä Tamper
 eelle aloittamaan festarikesä 2025 – Santalahden rantapuisto on todella
  hieno paikka festarille. Meillä on valtavasti ihania kuuntelijoita ja od
 otamme innolla\, että pääsemme juhlimaan yhdessä heidän kanssaan\, i
 loitsevat Radio Novan iltapäivästä tutut Esko Eerikäinen ja Suvi Hartl
 in.\n\nKeskeinen tapahtuma-alue rantamaisemissa\n\nRadio Nova Festivaali j
 uhlitaan upeissa puitteissa Tampereen Santalahden rantapuistossa\, joka on
  nyt ensimmäistä kertaa suurtapahtumakäytössä. Festivaalialueen kahde
 n lavan ohjelmiston ohella rantapuisto nurmikkoalueineen ja järvinäköal
 oineen tarjoaa unohtumattomia elämyksiä. VIP-alue asettuu loistavalle pa
 ikalle tarjoten laajennetut palvelut sekä hyvän näköyhteyden päälava
 lle. Festivaalille pääsee kätevästi kävellen Tampereen keskustasta\, 
 mutta alueelle on mahdollista saapua myös julkisen tai kevyen liikenteen 
 välineillä.\n\n– Santalahden rantapuisto Näsijärven rannalla tarjoaa
  erinomaiset puitteet tälle Tampereelle saapuvalle suurtapahtumalle\, ja 
 uusin tapahtumapaikkamme pääsee esille täydessä potentiaalissaan. Toiv
 omme\, että festarikävijät ympäri Suomen löytävät tiensä Tampereel
 le kesäkuussa\, iloitsee Tampereen kaupungin tapahtumajohtaja Perttu Pe
 sä.\n\nYhteistyöt Särkänniemen\, Nyssen ja Lapland Hotelsin kanssa\n\n
 Yhteistyöt ovat merkittävä osa festivaalin asiakaskokemusta. Festivaali
 lippuun kuuluu lisäksi Särkänniemi-ranneke sunnuntaille 15.6.2025\, tap
 ahtuman ajan matkustusoikeus Tampereen joukkoliikenteessä (Nysse) ostetun
  lipun mukaisesti sekä Lapland Hotelsin tarjoama -majoitustarjous.\n\nLip
 ut\n\nRadio Nova Festivaalin liput ovat nyt myynnissä. Radio Nova tarjoaa
  nopeimmille kampanjahintaisia 2 päivän Ystävälippuja\, joita on myynn
 issä rajoitettu erä alk. 129\,90 €. Tämän jälkeen myyntiin tulevat 
 2 päivän Early bird -liput alk. 149\,90 €. 2 päivän VIP-liput ovat n
 yt myynnissä alk. 249\,90 €. Liput kannattaa hankkia ajoissa\, sillä h
 innat nousevat porrastetusti festivaalin lähestyessä.
ATTACH;FMTTYPE=image/jpeg:https://kohokohdat.fi/tampere/wp-content/uploads
 /sites/2/2024/12/radio-nova-festivaali-tampere.jpg
CATEGORIES:Festivaalit
LOCATION:Santalahden rantapuisto\, Sahansaarenkatu\, Tampere\, Suomi
X-APPLE-STRUCTURED-LOCATION;VALUE=URI;X-ADDRESS=Sahansaarenkatu\, Tampere\,
  Suomi;X-APPLE-RADIUS=100;X-TITLE=Santalahden rantapuisto:geo:0,0
END:VEVENT
BEGIN:VTIMEZONE
TZID:Europe/Helsinki
X-LIC-LOCATION:Europe/Helsinki
BEGIN:DAYLIGHT
DTSTART:20250330T040000
TZOFFSETFROM:+0200
TZOFFSETTO:+0300
TZNAME:EEST
END:DAYLIGHT
BEGIN:STANDARD
DTSTART:20251026T030000
TZOFFSETFROM:+0300
TZOFFSETTO:+0200
TZNAME:EET
END:STANDARD
BEGIN:DAYLIGHT
DTSTART:20260329T040000
TZOFFSETFROM:+0200
TZOFFSETTO:+0300
TZNAME:EEST
END:DAYLIGHT
END:VTIMEZONE
END:VCALENDAR