BEGIN:VCALENDAR
VERSION:2.0
PRODID:-//wp-events-plugin.com//7.2.3.1//EN
TZID:Europe/Helsinki
X-WR-TIMEZONE:Europe/Helsinki
BEGIN:VEVENT
UID:2-212510@kohokohdat.fi
DTSTART;TZID=Europe/Helsinki:20251122T230000
DTEND;TZID=Europe/Helsinki:20251122T230000
DTSTAMP:20251118T164159Z
URL:https://kohokohdat.fi/tampere/tapahtuma/virve-rosti-freeman-ja-menneis
 yyden-vangit/
SUMMARY:Virve Rosti\, Freeman  ja Menneisyyden vangit
DESCRIPTION:Menneisyyden vangit -yhtye perustettiin vuonna 1991\, kun kaksi
  suosittua artistia Virve Rosti ja Freeman tapasivat sattumalta ja päätt
 ivät yhdistää voimansa.\n\nKummankin laulajan ura on alkanut jo 70-luvu
 lla. Nuori laulajalahjakkuus Virve "Vicky" Rosti nousi kansansuosioon jo v
 uonna 1974 olleessaan vasta 16-vuotias\, kun hän voitti Suomen Iskelmäla
 ulumestaruuskilpailut. Virven hittejä ovat Kun Chicago Kuoli\, Tuolta Saa
 puu Charlie Brown\, Oon Voimissain\, Sata Salamaa\, Leikitään vain muuta
 mia mainitakseen.\n\nLeo "Freeman" Friman on mies hittien Ajetaan tandemil
 la\, Kaksi lensi yli käenpesän ja Osuuskaupan Jane\, takana. Freeman ker
 too kerran laskeneensa\, että hän olisi laulanut Ajetaan tandemilla -kap
 paleen 5 000 kertaa\, "mutta en kertaakaan liikaa.”\n\nShowtime 22.00 al
 kaen.\nOvet klo 21.00 / liput 10€\n\n&nbsp\;
ATTACH;FMTTYPE=image/jpeg:https://kohokohdat.fi/tampere/wp-content/uploads
 /sites/2/2022/12/virve-rosti-menneisyyden-vangit-keikat.jpg
CATEGORIES:Keikat
LOCATION:Rymy-Eetu Tampere\,  Hämeenkatu 10\, Tampere\, Suomi
X-APPLE-STRUCTURED-LOCATION;VALUE=URI;X-ADDRESS= Hämeenkatu 10\, Tampere\,
  Suomi;X-APPLE-RADIUS=100;X-TITLE=Rymy-Eetu Tampere:geo:0,0
END:VEVENT
BEGIN:VTIMEZONE
TZID:Europe/Helsinki
X-LIC-LOCATION:Europe/Helsinki
BEGIN:STANDARD
DTSTART:20251026T030000
TZOFFSETFROM:+0300
TZOFFSETTO:+0200
TZNAME:EET
END:STANDARD
END:VTIMEZONE
END:VCALENDAR