BEGIN:VCALENDAR
VERSION:2.0
PRODID:-//wp-events-plugin.com//7.2.3.1//EN
TZID:Europe/Helsinki
X-WR-TIMEZONE:Europe/Helsinki
BEGIN:VEVENT
UID:2-183077@kohokohdat.fi
DTSTART;TZID=Europe/Helsinki:20230812T180000
DTEND;TZID=Europe/Helsinki:20230812T180000
DTSTAMP:20230810T103905Z
URL:https://kohokohdat.fi/tampere/tapahtuma/los-antonios-2/
SUMMARY:Los Antonios
DESCRIPTION:Los Antonios on ulkoilmakeikalla Pyynikin Brewhousen kesäteras
 silla lauantaina 12.8.2023.\nLos Antonios soittaa latinomusiikin hitit eri
  vuosikymmeniltä ja menevää cumbia-tyylin musiikkia kattavalla soitinko
 koonpanolla. Mukana mm. saksofoni\, kitarat\, koskettimet ja perkussiot. H
 yväntuulista lattaritunnelmaa ja latinorytmejä viikonloppuun.\n\nSääva
 raus 
ATTACH;FMTTYPE=image/jpeg:https://kohokohdat.fi/tampere/wp-content/uploads
 /sites/2/2022/09/los-antonios-keikat.jpg
CATEGORIES:Jazz,Keikat
LOCATION:Pyynikin Brewhouse\, Verkatehtaankatu 2\, Tampere\, Suomi
GEO:61.4969777;23.766272399999934
X-APPLE-STRUCTURED-LOCATION;VALUE=URI;X-ADDRESS=Verkatehtaankatu 2\, Tamper
 e\, Suomi;X-APPLE-RADIUS=100;X-TITLE=Pyynikin Brewhouse:geo:61.4969777,23.
 766272399999934
END:VEVENT
BEGIN:VEVENT
UID:2-188523@kohokohdat.fi
DTSTART;TZID=Europe/Helsinki;VALUE=DATE:20231206
DTEND;TZID=Europe/Helsinki;VALUE=DATE:20231207
DTSTAMP:20231206T075440Z
URL:https://kohokohdat.fi/tampere/tapahtuma/pyynikin-brewhouse-juhlamenu-5
 -vuotta-2/
SUMMARY:Pyynikin Brewhouse itsenäisyyspäivän menu
DESCRIPTION:Pyynikin Brewhouse täytti äskettäin 6 vuotta ja juhlii itsen
 äisyyspäivää. Juhlapäivänä on tarjolla myös itsenäisyyspäivän m
 enu.\n
ATTACH;FMTTYPE=image/jpeg:https://kohokohdat.fi/tampere/wp-content/uploads
 /sites/2/2019/02/brewhouse-sali-kohokohdat.jpg
CATEGORIES:Ravintolat
LOCATION:Pyynikin Brewhouse\, Verkatehtaankatu 2\, Tampere\, Suomi
GEO:61.4969777;23.766272399999934
X-APPLE-STRUCTURED-LOCATION;VALUE=URI;X-ADDRESS=Verkatehtaankatu 2\, Tamper
 e\, Suomi;X-APPLE-RADIUS=100;X-TITLE=Pyynikin Brewhouse:geo:61.4969777,23.
 766272399999934
END:VEVENT
BEGIN:VEVENT
UID:2-180950@kohokohdat.fi
DTSTART;TZID=Europe/Helsinki:20250511T120000
DTEND;TZID=Europe/Helsinki:20250511T120000
DTSTAMP:20250506T094247Z
URL:https://kohokohdat.fi/tampere/tapahtuma/pyynikin-brewhousen-aitienpaiv
 a/
SUMMARY:Pyynikin Brewhousen äitienpäivä
DESCRIPTION:Pyynikin Brewhousen  Tammerkosken partaalla juhlii äitienpäi
 vää sunnuntaina 11.5.2025. Klo 12 alkaen tarjolla on kolme kattausta äi
 tienpäivä menun nauttimiseen\, jonka yksi kohokohta on kakkubuffet. Äid
 eistä parhaimmat saavat lasillisen kuohuvaa merkkipäivän kunniaksi.\nÄ
 itienpäivämenu 2025\nALKUUN\nPyynikin Beef carpaccio (L\, G)\nCarpacciot
 a tarjoiltuna limeaiolin kera\nTahmelan Toast Skagen (L\, G pyydettäessä
 )\nKlassinen katkarapuskagen tarjoiltuna saarisolaisleipien kera\nKoskenra
 nnan Caprese (L\, G)\nMozzarellaa\, tomaattia ja basilikaa balsamicon kera
 \nPÄÄRUOAKSI\nVerkarannan Kuhaa (L\, G)\nPaistettua kuhaa\, uusia peruno
 ita ja parsaa voikastikkeella tarjoiltuna\nFinlaysonin Pippuripihvi (L\, G
 )\nGrillattu 180 g härän sisäfilépihvi jallupippurikastikkeen\, valkos
 ipuliperunoiden ja kauden kasvisten kera.\nJÄLKIRUOAKSI\nKakkubuffet\nVal
 ikoima erilaisia kakkuja ja irtomakeisia sekä macaronseja\n\nLUE MYÖS TA
 PAHTUMATIEDOT\n\nÄitienpäivämenussa on valittavana mieluinen alku- ja p
 ääruoka. Jälkiruoaksi on tarjolla herkullinen kakkubuffet\, mikä sisä
 ltää erilaisia kakkuja\, irtomakeisia sekä macaronseja. Lisäksi äidei
 stä parhaimmat saavat lasillisen kuohuvaa merkkipäivän kunniaksi.\nÄit
 ienpäivän menu tarjoillaan 11.5.2025 ja kattaukset ovat klo 12.00\, 14.1
 5 ja 16.15. Muistathan varauksen yhteydessä mainita\, mitkä alku- ja pä
 äruoat nautitaan.\n\nVaraa pöytä kätevästi linkin kautta https://www.
 pyynikinbrewhouse.fi/aitienpaiva/\n\n\n\nhttps://kohokohdat.fi/tampere/kuh
 aa-pyttipannua-ja-muita-perinteisia-tamperelaisherkkuja-brewhousen-lautasi
 lla/
ATTACH;FMTTYPE=image/jpeg:https://kohokohdat.fi/tampere/wp-content/uploads
 /sites/2/2022/11/brewhouse-kuhaa-ravintolass.jpg
CATEGORIES:Ravintolat
LOCATION:Pyynikin Brewhouse\, Verkatehtaankatu 2\, Tampere\, Suomi
GEO:61.4969777;23.766272399999934
X-APPLE-STRUCTURED-LOCATION;VALUE=URI;X-ADDRESS=Verkatehtaankatu 2\, Tamper
 e\, Suomi;X-APPLE-RADIUS=100;X-TITLE=Pyynikin Brewhouse:geo:61.4969777,23.
 766272399999934
END:VEVENT
BEGIN:VTIMEZONE
TZID:Europe/Helsinki
X-LIC-LOCATION:Europe/Helsinki
BEGIN:DAYLIGHT
DTSTART:20230326T040000
TZOFFSETFROM:+0200
TZOFFSETTO:+0300
TZNAME:EEST
END:DAYLIGHT
BEGIN:STANDARD
DTSTART:20231029T030000
TZOFFSETFROM:+0300
TZOFFSETTO:+0200
TZNAME:EET
END:STANDARD
BEGIN:DAYLIGHT
DTSTART:20240331T040000
TZOFFSETFROM:+0200
TZOFFSETTO:+0300
TZNAME:EEST
END:DAYLIGHT
BEGIN:STANDARD
DTSTART:20241027T030000
TZOFFSETFROM:+0300
TZOFFSETTO:+0200
TZNAME:EET
END:STANDARD
BEGIN:DAYLIGHT
DTSTART:20250330T040000
TZOFFSETFROM:+0200
TZOFFSETTO:+0300
TZNAME:EEST
END:DAYLIGHT
END:VTIMEZONE
END:VCALENDAR