BEGIN:VCALENDAR
VERSION:2.0
PRODID:-//wp-events-plugin.com//7.2.3.1//EN
TZID:Europe/Helsinki
X-WR-TIMEZONE:Europe/Helsinki
BEGIN:VEVENT
UID:2-208290@kohokohdat.fi
DTSTART;TZID=Europe/Helsinki;VALUE=DATE:20250603
DTEND;TZID=Europe/Helsinki;VALUE=DATE:20250604
DTSTAMP:20260420T132638Z
URL:https://kohokohdat.fi/tampere/event-recurring/niemi-kapeen-savusauna-l
 ampenee/
SUMMARY:Niemi-Kapeen Savusauna lämpenee
DESCRIPTION:Niemi-Kapee sijaitsee Näsijärven rannalla Tampereen Teiskossa
 . Uiminen sekä vilvoittelu on mahdollista saunottelun lomassa. Saunojen l
 öylyt lämmittää jo parinkymmenen vuoden kokemuksella saunamestari Rain
 e Vähätalo.\n\n\nYleiset savusaunavuorot on avattu jälleen varattaviksi
 . Lue lisää tapahtumapaikan kotisivuilta.\n\n\n\nKESÄN 2025 YLEISET SAU
 NAVUOROT TIISTAISIN\n3.6. klo 16.00-18.00\n\n3.6. klo 18.30-20.30\n\n17.6.
  klo 16.00-18.00\n\n17.6. klo 18.30-20.30\n\n1.7. klo 16.00-18.00\n\n1.7. 
 klo 18.30-20.30\n\n15.7. klo 16.00-18.00\n\n15.7. klo 18.30-20.30\n\nLUE L
 ISÄÄ: Niemi-Kapeen sauna\n\nhttps://kohokohdat.fi/tampere/savusauna-rant
 asaunat-niemi-kapeen-saunoissa-on-leppeat-loylyt/\n\n&nbsp\;
ATTACH;FMTTYPE=image/jpeg:https://kohokohdat.fi/tampere/wp-content/uploads
 /sites/2/2021/05/savusauna-tampere.jpg
CATEGORIES:Elämykset &amp; huvit
LOCATION:Niemi-Kapeen tila\, Niemi-kapee\, Tampere\, Suomi
GEO:61.815054;23.837736
X-APPLE-STRUCTURED-LOCATION;VALUE=URI;X-ADDRESS=Niemi-kapee\, Tampere\, Suo
 mi;X-APPLE-RADIUS=100;X-TITLE=Niemi-Kapeen tila:geo:61.815054,23.837736
END:VEVENT
BEGIN:VEVENT
UID:2-208291@kohokohdat.fi
DTSTART;TZID=Europe/Helsinki;VALUE=DATE:20250617
DTEND;TZID=Europe/Helsinki;VALUE=DATE:20250618
DTSTAMP:20260420T132638Z
URL:https://kohokohdat.fi/tampere/event-recurring/niemi-kapeen-savusauna-l
 ampenee/
SUMMARY:Niemi-Kapeen Savusauna lämpenee
DESCRIPTION:Niemi-Kapee sijaitsee Näsijärven rannalla Tampereen Teiskossa
 . Uiminen sekä vilvoittelu on mahdollista saunottelun lomassa. Saunojen l
 öylyt lämmittää jo parinkymmenen vuoden kokemuksella saunamestari Rain
 e Vähätalo.\n\n\nYleiset savusaunavuorot on avattu jälleen varattaviksi
 . Lue lisää tapahtumapaikan kotisivuilta.\n\n\n\nKESÄN 2025 YLEISET SAU
 NAVUOROT TIISTAISIN\n3.6. klo 16.00-18.00\n\n3.6. klo 18.30-20.30\n\n17.6.
  klo 16.00-18.00\n\n17.6. klo 18.30-20.30\n\n1.7. klo 16.00-18.00\n\n1.7. 
 klo 18.30-20.30\n\n15.7. klo 16.00-18.00\n\n15.7. klo 18.30-20.30\n\nLUE L
 ISÄÄ: Niemi-Kapeen sauna\n\nhttps://kohokohdat.fi/tampere/savusauna-rant
 asaunat-niemi-kapeen-saunoissa-on-leppeat-loylyt/\n\n&nbsp\;
ATTACH;FMTTYPE=image/jpeg:https://kohokohdat.fi/tampere/wp-content/uploads
 /sites/2/2021/05/savusauna-tampere.jpg
CATEGORIES:Elämykset &amp; huvit
LOCATION:Niemi-Kapeen tila\, Niemi-kapee\, Tampere\, Suomi
GEO:61.815054;23.837736
X-APPLE-STRUCTURED-LOCATION;VALUE=URI;X-ADDRESS=Niemi-kapee\, Tampere\, Suo
 mi;X-APPLE-RADIUS=100;X-TITLE=Niemi-Kapeen tila:geo:61.815054,23.837736
END:VEVENT
BEGIN:VEVENT
UID:2-208292@kohokohdat.fi
DTSTART;TZID=Europe/Helsinki;VALUE=DATE:20250701
DTEND;TZID=Europe/Helsinki;VALUE=DATE:20250702
DTSTAMP:20260420T132638Z
URL:https://kohokohdat.fi/tampere/event-recurring/niemi-kapeen-savusauna-l
 ampenee/
SUMMARY:Niemi-Kapeen Savusauna lämpenee
DESCRIPTION:Niemi-Kapee sijaitsee Näsijärven rannalla Tampereen Teiskossa
 . Uiminen sekä vilvoittelu on mahdollista saunottelun lomassa. Saunojen l
 öylyt lämmittää jo parinkymmenen vuoden kokemuksella saunamestari Rain
 e Vähätalo.\n\n\nYleiset savusaunavuorot on avattu jälleen varattaviksi
 . Lue lisää tapahtumapaikan kotisivuilta.\n\n\n\nKESÄN 2025 YLEISET SAU
 NAVUOROT TIISTAISIN\n3.6. klo 16.00-18.00\n\n3.6. klo 18.30-20.30\n\n17.6.
  klo 16.00-18.00\n\n17.6. klo 18.30-20.30\n\n1.7. klo 16.00-18.00\n\n1.7. 
 klo 18.30-20.30\n\n15.7. klo 16.00-18.00\n\n15.7. klo 18.30-20.30\n\nLUE L
 ISÄÄ: Niemi-Kapeen sauna\n\nhttps://kohokohdat.fi/tampere/savusauna-rant
 asaunat-niemi-kapeen-saunoissa-on-leppeat-loylyt/\n\n&nbsp\;
ATTACH;FMTTYPE=image/jpeg:https://kohokohdat.fi/tampere/wp-content/uploads
 /sites/2/2021/05/savusauna-tampere.jpg
CATEGORIES:Elämykset &amp; huvit
LOCATION:Niemi-Kapeen tila\, Niemi-kapee\, Tampere\, Suomi
GEO:61.815054;23.837736
X-APPLE-STRUCTURED-LOCATION;VALUE=URI;X-ADDRESS=Niemi-kapee\, Tampere\, Suo
 mi;X-APPLE-RADIUS=100;X-TITLE=Niemi-Kapeen tila:geo:61.815054,23.837736
END:VEVENT
BEGIN:VEVENT
UID:2-208293@kohokohdat.fi
DTSTART;TZID=Europe/Helsinki;VALUE=DATE:20250715
DTEND;TZID=Europe/Helsinki;VALUE=DATE:20250716
DTSTAMP:20260420T132638Z
URL:https://kohokohdat.fi/tampere/event-recurring/niemi-kapeen-savusauna-l
 ampenee/
SUMMARY:Niemi-Kapeen Savusauna lämpenee
DESCRIPTION:Niemi-Kapee sijaitsee Näsijärven rannalla Tampereen Teiskossa
 . Uiminen sekä vilvoittelu on mahdollista saunottelun lomassa. Saunojen l
 öylyt lämmittää jo parinkymmenen vuoden kokemuksella saunamestari Rain
 e Vähätalo.\n\n\nYleiset savusaunavuorot on avattu jälleen varattaviksi
 . Lue lisää tapahtumapaikan kotisivuilta.\n\n\n\nKESÄN 2025 YLEISET SAU
 NAVUOROT TIISTAISIN\n3.6. klo 16.00-18.00\n\n3.6. klo 18.30-20.30\n\n17.6.
  klo 16.00-18.00\n\n17.6. klo 18.30-20.30\n\n1.7. klo 16.00-18.00\n\n1.7. 
 klo 18.30-20.30\n\n15.7. klo 16.00-18.00\n\n15.7. klo 18.30-20.30\n\nLUE L
 ISÄÄ: Niemi-Kapeen sauna\n\nhttps://kohokohdat.fi/tampere/savusauna-rant
 asaunat-niemi-kapeen-saunoissa-on-leppeat-loylyt/\n\n&nbsp\;
ATTACH;FMTTYPE=image/jpeg:https://kohokohdat.fi/tampere/wp-content/uploads
 /sites/2/2021/05/savusauna-tampere.jpg
CATEGORIES:Elämykset &amp; huvit
LOCATION:Niemi-Kapeen tila\, Niemi-kapee\, Tampere\, Suomi
GEO:61.815054;23.837736
X-APPLE-STRUCTURED-LOCATION;VALUE=URI;X-ADDRESS=Niemi-kapee\, Tampere\, Suo
 mi;X-APPLE-RADIUS=100;X-TITLE=Niemi-Kapeen tila:geo:61.815054,23.837736
END:VEVENT
BEGIN:VTIMEZONE
TZID:Europe/Helsinki
X-LIC-LOCATION:Europe/Helsinki
BEGIN:DAYLIGHT
DTSTART:20250330T040000
TZOFFSETFROM:+0200
TZOFFSETTO:+0300
TZNAME:EEST
END:DAYLIGHT
END:VTIMEZONE
END:VCALENDAR