BEGIN:VCALENDAR
VERSION:2.0
PRODID:-//wp-events-plugin.com//7.2.3.1//EN
TZID:Europe/Helsinki
X-WR-TIMEZONE:Europe/Helsinki
BEGIN:VEVENT
UID:2-214607@kohokohdat.fi
DTSTART;TZID=Europe/Helsinki:20260311T193000
DTEND;TZID=Europe/Helsinki:20260311T193000
DTSTAMP:20260310T105353Z
URL:https://kohokohdat.fi/tampere/tapahtuma/nekalabin-avajaisviikko-kielo-
 karkkainen/
SUMMARY:Nekalabin avajaisviikko: Kielo Kärkkäinen
DESCRIPTION:Nekalabin avajaisjuhlia vietetään 11.-15.3.2026 ja tiedossa o
 n myös keikkoja. Livelaboratorio Tampere Oy:n hallinnoimassa Nekalan kort
 tiliravintolassa on aina ilmainen sisäänpääsy.\n\nKielo Kärkkäinen o
 n lumoava laulaja ja lauluntekijä\, jonka syvä ja monivivahteinen ääni
  kutkuttelee ihmisyyden syvimpiä sopukoita. Kärkkäisen viides sooloalbu
 mi Kuin tarttuisi kädestä julkaistaan maaliskuussa 2026. Nekalabin avaja
 isviikolla Kielo esiintyy duona yhtyeensä kitaristin Matti Salon kanssa.\
 n\nKatso koko ohjelmisto nekalabin kotisivuilta.
ATTACH;FMTTYPE=image/jpeg:https://kohokohdat.fi/tampere/wp-content/uploads
 /sites/2/2025/12/kielo-karkkainen-keikat.jpg
CATEGORIES:Keikat
LOCATION:Nekalab\, Lounaantie 2\, Tampere\, 33800\, Suomi
X-APPLE-STRUCTURED-LOCATION;VALUE=URI;X-ADDRESS=Lounaantie 2\, Tampere\, 33
 800\, Suomi;X-APPLE-RADIUS=100;X-TITLE=Nekalab:geo:0,0
END:VEVENT
BEGIN:VEVENT
UID:2-214608@kohokohdat.fi
DTSTART;TZID=Europe/Helsinki:20260312T180000
DTEND;TZID=Europe/Helsinki:20260312T180000
DTSTAMP:20260312T085930Z
URL:https://kohokohdat.fi/tampere/tapahtuma/nekalabin-avajaisviikko-juha-k
 ansa-etelan-tahdit/
SUMMARY:Nekalabin avajaisviikko: Nekala LIVE: Timo Kämäräinen (soolo)
DESCRIPTION:Nekalabin avajaisjuhlia vietetään 11.-15.3.2026 ja tiedossa o
 n myös keikkoja. Livelaboratorio Tampere Oy:n hallinnoimassa Nekalan kort
 tiliravintolassa on aina ilmainen sisäänpääsy.\n\nTimo Kämäräinen o
 n monipuolinen musiikintekijä\, joka tunnetaan etenkin moniulotteisesta k
 itarismistaan. Kämäräinen on myös kirjoittanut paljon lauluja ja säve
 ltänyt instrumentaalimusiikkia. Kämäräinen on uransa aikana toiminut m
 onipuolisesti freelancerina tyylisuuntien ulottuessa aina rockista moderni
 n jazzin kautta nykymusiikkiteoksiin isojen orkesterien kanssa.\n\nNekala 
 LIVE on Tampereen kaupunginkirjaston ohjelmaa Nekalan kulttuurikeskuksen a
 vajaisviikolla. Nekalan kirjasto on to 12.3. avoinna klo 19.30 asti.\n\nKa
 tso koko ohjelmisto nekalabin kotisivuilta ja tutustu myös Ravintola Neka
 labiin.\n\n\n\n&nbsp\;\n\n\n\n\n\n\n\n\n\n\nNäytä tämä julkaisu Instag
 ramissa\n\n\n\n\n\n\n\n\n\n\n\n\n\n\n\n\n\n\n\n\n\n\n&nbsp\;\nHenkilön Ne
 kalan kulttuurikeskus Nekalab (@nekalabtampere) jakama julkaisu\n\n\n
ATTACH;FMTTYPE=image/jpeg:https://kohokohdat.fi/tampere/wp-content/uploads
 /sites/2/2026/03/timo-kamarainen-keikalla-tampereella.jpg
CATEGORIES:Jazz,Keikat
LOCATION:Nekalab\, Lounaantie 2\, Tampere\, 33800\, Suomi
X-APPLE-STRUCTURED-LOCATION;VALUE=URI;X-ADDRESS=Lounaantie 2\, Tampere\, 33
 800\, Suomi;X-APPLE-RADIUS=100;X-TITLE=Nekalab:geo:0,0
END:VEVENT
BEGIN:VEVENT
UID:2-214610@kohokohdat.fi
DTSTART;TZID=Europe/Helsinki:20260312T193000
DTEND;TZID=Europe/Helsinki:20260312T193000
DTSTAMP:20260312T092936Z
URL:https://kohokohdat.fi/tampere/tapahtuma/nekalabin-avajaisviikko-nekala
 -live-olva/
SUMMARY:Nekalabin avajaisviikko: Nekala LIVE: Olva
DESCRIPTION:Nekalabin avajaisjuhlia vietetään 11.-15.3.2026 ja tiedossa o
 n myös keikkoja. Livelaboratorio Tampere Oy:n hallinnoimassa Nekalan kort
 tiliravintolassa on aina ilmainen sisäänpääsy.\n\nKlo 19:30 Olva Laulu
 ntekijä Olva esittää suomenkielistä indiefolkia\, jossa hoivataan hyö
 nteisiä\, laskeskellaan loppurahoja ja matkustetaan metrolla halki linnun
 radan. Olvan intiimi ja haavoittuvainen ilmaisu käärii kuulijan pehmoise
 en melankoliaan\, jossa saa hengähtää\, luovuttaa ja olla itselleen arm
 ollinen.\n\nKatso koko ohjelmisto nekalabin kotisivuilta.\n\n\n\n&nbsp\;\n
 \n\n\n\n\n\n\n\n\n\nNäytä tämä julkaisu Instagramissa\n\n\n\n\n\n\n\n\
 n\n\n\n\n\n\n\n\n\n\n\n\n\n\n&nbsp\;\nHenkilön Nekalan kulttuurikeskus Ne
 kalab (@nekalabtampere) jakama julkaisu\n\n\n
ATTACH;FMTTYPE=image/jpeg:https://kohokohdat.fi/tampere/wp-content/uploads
 /sites/2/2026/03/nekalab-sali-kohokohdat.jpg
CATEGORIES:Keikat
LOCATION:Nekalab\, Lounaantie 2\, Tampere\, 33800\, Suomi
X-APPLE-STRUCTURED-LOCATION;VALUE=URI;X-ADDRESS=Lounaantie 2\, Tampere\, 33
 800\, Suomi;X-APPLE-RADIUS=100;X-TITLE=Nekalab:geo:0,0
END:VEVENT
BEGIN:VEVENT
UID:2-214611@kohokohdat.fi
DTSTART;TZID=Europe/Helsinki:20260314T110000
DTEND;TZID=Europe/Helsinki:20260314T110000
DTSTAMP:20260312T090014Z
URL:https://kohokohdat.fi/tampere/tapahtuma/nekalabin-avajaisviikko-improv
 isaatioteatteri-snorkkeli/
SUMMARY:Nekalabin avajaisviikko: Improvisaatioteatteri Snorkkeli
DESCRIPTION:Nekalabin avajaisjuhlia vietetään 11.-15.3.2026 ja tiedossa o
 n myös keikkoja. Livelaboratorio Tampere Oy:n hallinnoimassa Nekalan kort
 tiliravintolassa\, Nekalabissa on aina ilmainen sisäänpääsy.\n\nTAPAHT
 UMASALI:\nKlo 11.00 Improvisaatioteatteri Snorkkeli: TosiSatu\nTosiSatu on
  improvisoitu lastenteatteriesitys\, jossa tarinasta ja sen juonenkäänte
 istä päättävät lapset. Luvassa on yllätyksellinen ja aktiivinen teat
 terituokio pienten tarinankertojien kanssa! Lapset pääsevät vaikuttamaa
 n yhdessä ideoidun tarinan kulkuun käännekohdissa\, jotka ovat tarinan 
 kannalta olennaisia. Tarina luodaan aidosti lasten päätösten mukaan enn
 alta suunnittelematta. Lähde yhdessä Snorkkelin näyttelijöiden kanssa 
 rakentamaan esitys\, jossa voidaan seikkailla kuussa\, maassa tai missä v
 aan!\n\nKlo 12.30 Simon Circus: We are the Champions\n“We are the champi
 ons” is a circus theatre show around the theme of achievement. Uplifting
  and inspiring. The show mixes high level circus acts with fun audience in
 teractivity and comedy for all ages. So join the crowd\, sing along\, wave
  your arms and hug\nyour closest teammate! You may even get the chance to 
 become the true\nchampion... Suitable for 3years +\n\nKatso koko ohjelmist
 o nekalabin kotisivuilta.\n\n\n\n&nbsp\;\n\n\n\n\n\n\n\n\n\n\nNäytä täm
 ä julkaisu Instagramissa\n\n\n\n\n\n\n\n\n\n\n\n\n\n\n\n\n\n\n\n\n\n\n&nb
 sp\;\nHenkilön Nekalan kulttuurikeskus Nekalab (@nekalabtampere) jakama j
 ulkaisu\n\n\n
ATTACH;FMTTYPE=image/jpeg:https://kohokohdat.fi/tampere/wp-content/uploads
 /sites/2/2021/10/tampereen-improvisaatioteatteri-snorkkeli.jpg
CATEGORIES:Stand up
LOCATION:Nekalab\, Lounaantie 2\, Tampere\, 33800\, Suomi
X-APPLE-STRUCTURED-LOCATION;VALUE=URI;X-ADDRESS=Lounaantie 2\, Tampere\, 33
 800\, Suomi;X-APPLE-RADIUS=100;X-TITLE=Nekalab:geo:0,0
END:VEVENT
BEGIN:VEVENT
UID:2-214609@kohokohdat.fi
DTSTART;TZID=Europe/Helsinki:20260314T140000
DTEND;TZID=Europe/Helsinki:20260314T140000
DTSTAMP:20260312T090109Z
URL:https://kohokohdat.fi/tampere/tapahtuma/nekalabin-avajaisviikko-hot-he
 ros-janne-tuomi-sami-sippola-plays-music-of-konsta-jylha/
SUMMARY:Nekalabin avajaisviikko: Hot Heros: Janne Tuomi & Sami Sippola play
 s music of Konsta Jylhä
DESCRIPTION:Nekalabin avajaisjuhlia vietetään 11.-15.3.2026 ja tiedossa o
 n myös keikkoja. Livelaboratorio Tampere Oy:n hallinnoimassa Nekalan kort
 tiliravintolassa on aina ilmainen sisäänpääsy.\n\nKlo 14 Hot Heros: Ja
 nne Tuomi &amp\; Sami Sippola plays music of Konsta Jylhä\n\nKatso koko o
 hjelmisto nekalabin kotisivuilta ja tutustu uuteen ravintola Nekalabiin.\n
 \n\n\n&nbsp\;\n\n\n\n\n\n\n\n\n\n\nNäytä tämä julkaisu Instagramissa\n
 \n\n\n\n\n\n\n\n\n\n\n\n\n\n\n\n\n\n\n\n\n\n&nbsp\;\nHenkilön Nekalan kul
 ttuurikeskus Nekalab (@nekalabtampere) jakama julkaisu\n\n\n
ATTACH;FMTTYPE=image/jpeg:https://kohokohdat.fi/tampere/wp-content/uploads
 /sites/2/2021/09/hot-heros-janne-laurila.jpg
CATEGORIES:Jazz,Keikat
LOCATION:Nekalab\, Lounaantie 2\, Tampere\, 33800\, Suomi
X-APPLE-STRUCTURED-LOCATION;VALUE=URI;X-ADDRESS=Lounaantie 2\, Tampere\, 33
 800\, Suomi;X-APPLE-RADIUS=100;X-TITLE=Nekalab:geo:0,0
END:VEVENT
BEGIN:VEVENT
UID:2-214612@kohokohdat.fi
DTSTART;TZID=Europe/Helsinki:20260314T180000
DTEND;TZID=Europe/Helsinki:20260314T180000
DTSTAMP:20260312T090131Z
URL:https://kohokohdat.fi/tampere/tapahtuma/nekalabin-avajaisviikko-improv
 isaatioteatteri-snorkkeli-2/
SUMMARY:Nekalabin avajaisviikko: Improvisaatioteatteri Snorkkeli
DESCRIPTION:Nekalabin avajaisjuhlia vietetään 11.-15.3.2026 ja tiedossa o
 n myös keikkoja. Livelaboratorio Tampere Oy:n hallinnoimassa Nekalab-kort
 tiliravintolassa on aina ilmainen sisäänpääsy.\n\nKlo 18 Tulikollektii
 vi Flamma ry: tulishow\n\nKatso koko ohjelmisto nekalabin kotisivuilta.\n\
 n\n\n&nbsp\;\n\n\n\n\n\n\n\n\n\n\nNäytä tämä julkaisu Instagramissa\n\
 n\n\n\n\n\n\n\n\n\n\n\n\n\n\n\n\n\n\n\n\n\n&nbsp\;\nHenkilön Nekalan kult
 tuurikeskus Nekalab (@nekalabtampere) jakama julkaisu\n\n\n
ATTACH;FMTTYPE=image/jpeg:https://kohokohdat.fi/tampere/wp-content/uploads
 /sites/2/2014/08/flamma-tulishow.jpg
CATEGORIES:Elämykset &amp; huvit
LOCATION:Nekalab\, Lounaantie 2\, Tampere\, 33800\, Suomi
X-APPLE-STRUCTURED-LOCATION;VALUE=URI;X-ADDRESS=Lounaantie 2\, Tampere\, 33
 800\, Suomi;X-APPLE-RADIUS=100;X-TITLE=Nekalab:geo:0,0
END:VEVENT
BEGIN:VEVENT
UID:2-215536@kohokohdat.fi
DTSTART;TZID=Europe/Helsinki;VALUE=DATE:20260501
DTEND;TZID=Europe/Helsinki;VALUE=DATE:20260502
DTSTAMP:20260415T070901Z
URL:https://kohokohdat.fi/tampere/tapahtuma/ravintola-nekalabin-vappubruns
 si/
SUMMARY:Ravintola Nekalabin vappubrunssi
DESCRIPTION:Nekalan uutuusravintola Nekalab juhlii vappua hodaribrunssilla\
 , jossa kuullaan myös DJ Santerin soittamana levyjä. Lisäksi tilaisuude
 ssa on Hani Second Hand -myyntikoju.\n\nHodaribrunssi klo 11-18
ATTACH;FMTTYPE=image/jpeg:https://kohokohdat.fi/tampere/wp-content/uploads
 /sites/2/2026/03/nekalab-sali-kohokohdat.jpg
CATEGORIES:Ravintolat
LOCATION:Nekalab\, Lounaantie 2\, Tampere\, 33800\, Suomi
X-APPLE-STRUCTURED-LOCATION;VALUE=URI;X-ADDRESS=Lounaantie 2\, Tampere\, 33
 800\, Suomi;X-APPLE-RADIUS=100;X-TITLE=Nekalab:geo:0,0
END:VEVENT
BEGIN:VTIMEZONE
TZID:Europe/Helsinki
X-LIC-LOCATION:Europe/Helsinki
BEGIN:STANDARD
DTSTART:20251026T030000
TZOFFSETFROM:+0300
TZOFFSETTO:+0200
TZNAME:EET
END:STANDARD
BEGIN:DAYLIGHT
DTSTART:20260329T040000
TZOFFSETFROM:+0200
TZOFFSETTO:+0300
TZNAME:EEST
END:DAYLIGHT
END:VTIMEZONE
END:VCALENDAR