BEGIN:VCALENDAR
VERSION:2.0
PRODID:-//wp-events-plugin.com//7.2.3.1//EN
TZID:Europe/Helsinki
X-WR-TIMEZONE:Europe/Helsinki
BEGIN:VEVENT
UID:2-208220@kohokohdat.fi
DTSTART;TZID=Europe/Helsinki;VALUE=DATE:20250607
DTEND;TZID=Europe/Helsinki;VALUE=DATE:20250608
DTSTAMP:20250524T065320Z
URL:https://kohokohdat.fi/tampere/tapahtuma/lempimusaa-kesatapahtuma-vilma
 -jaa/
SUMMARY:Lempimusaa-kesätapahtuma: Vilma Jää
DESCRIPTION:Lempimusaa-kesätapahtuma valloittaa jälleen Myllyrannan tapah
 tumapuiston lauantaina 7.6.2025. Tapahtuman pääesiintyjänä nähdään 
 Vilma Jää.\n\nVilma Jää on etnopopartisti\, joka ammentaa voimansa vah
 voista tunteista ja synkistä teemoista. Jään musiikki yhdistää kansan
 musiikin ja popin\, jossa akustiset perinnesoittimet kanteleesta kampiliir
 aan sulautuvat synteettisesti tuotettuihin biitteihin suomalais-ugrilaisen
  lauluperinteen flirttaillessa pop-estetiikan kanssa.\nVilma Jää nousi k
 ansainväliseen tunnettuuteen Kaija Saariahon sävellettyä hänelle kansa
 nlaulajan roolin Innocence-oopperaansa. Jo vuonna 2021 julkaistu debyyttis
 ingle Saatanan saalistaja teki Jäästä yhden maamme kiinnostavimmista uu
 sista artisteista\, ja 2023 julkaistu Kosto-albumi sinetöi hänen asemans
 a suomalaisen musiikin huipulla voittaen Vuoden Etno -palkinnon Emma Gaala
 ssa ja Vuoden Kansanmusiikkilevy -palkinnon Eläköön FOLK! -gaalassa.\n\
 nVilma Jää\, joka on yksi maamme kiinnostavista uusista artisteista.\nTa
 pahtuma on suunnattu erityisesti nuorille aikuisille ja työikäisille\, m
 utta tapahtuma on ikärajaton. Vapaa pääsy.\n\nLempimusaa-tapahtumaillan
  DJ:nä toimii DJ Sami.\nSami on pitkän linjan DJ\, joka on vaikuttanut u
 seissa tamperelaisissa juhlapaikoissa vuosikymmenten ajan. Tällä hetkell
 ä hän tekee keikkaa muun muassa K40-diskoissa sekä Hang The Dj -illoiss
 a Tavara-asemalla.
ATTACH;FMTTYPE=image/jpeg:https://kohokohdat.fi/tampere/wp-content/uploads
 /sites/2/2023/11/vilma-jaa-konsertit.jpg
CATEGORIES:Keikat
LOCATION:Myllyrannan tapahtumapuisto\, Kirkkopolku 13\, Lempäälä\, Suomi
X-APPLE-STRUCTURED-LOCATION;VALUE=URI;X-ADDRESS=Kirkkopolku 13\, Lempääl
 ä\, Suomi;X-APPLE-RADIUS=100;X-TITLE=Myllyrannan tapahtumapuisto:geo:0,0
END:VEVENT
BEGIN:VEVENT
UID:2-208219@kohokohdat.fi
DTSTART;TZID=Europe/Helsinki;VALUE=DATE:20250615
DTEND;TZID=Europe/Helsinki;VALUE=DATE:20250616
DTSTAMP:20250524T064919Z
URL:https://kohokohdat.fi/tampere/tapahtuma/myllyranta-rock-dead-samaritan
 -emerald-forest-cold-horizon-aina-rock-n-tonic-luunyrkki-avoin-kanava/
SUMMARY:Myllyranta-Rock: Dead Samaritan\, Emerald Forest\, Cold Horizon\, A
 ina\, Rock 'n' Tonic\, Luunyrkki\, Avoin Kanava
DESCRIPTION:Perinteinen koko perheen Myllyranta-Rock -ilmaistapahtuma järj
 estetään Myllyrannan tapahtumapuistossa la 15.6.2025.\n\nTAPAHTUMATIEDOT
 \n\nTapahtumaan on vapaa pääsy. ja pääjärjestäjänä toimii Lempää
 län Karuselli ry.\n\nJokavuotinen tapahtuma järjestetään idyllisessä 
 Myllyrannassa. Tapahtuma-aika klo 14:00-20:00\n\nESIINTYJÄT:\n\nDead Sama
 ritan\, Emerald Forest\, Cold Horizon\, Aina\, Rock 'n' Tonic\, Luunyrkki\
 , Avoin Kanava\n\nTapahtuma on ikärajaton\, vapaa pääsy.\nTapahtumassa 
 on järjestyksenvalvonta.\n\nMyllyranta-Rockin järjestää Lempäälän K
 aruselli ry (LeKa ry).
ATTACH;FMTTYPE=image/jpeg:https://kohokohdat.fi/tampere/wp-content/uploads
 /sites/2/2025/05/myllyranta-rock-myllyrannan-tapahtumapuisto-lempaala.jpg
CATEGORIES:Festivaalit,Keikat
LOCATION:Myllyrannan tapahtumapuisto\, Kirkkopolku 13\, Lempäälä\, Suomi
X-APPLE-STRUCTURED-LOCATION;VALUE=URI;X-ADDRESS=Kirkkopolku 13\, Lempääl
 ä\, Suomi;X-APPLE-RADIUS=100;X-TITLE=Myllyrannan tapahtumapuisto:geo:0,0
END:VEVENT
BEGIN:VTIMEZONE
TZID:Europe/Helsinki
X-LIC-LOCATION:Europe/Helsinki
BEGIN:DAYLIGHT
DTSTART:20250330T040000
TZOFFSETFROM:+0200
TZOFFSETTO:+0300
TZNAME:EEST
END:DAYLIGHT
END:VTIMEZONE
END:VCALENDAR