BEGIN:VCALENDAR
VERSION:2.0
PRODID:-//wp-events-plugin.com//7.2.3.1//EN
TZID:Europe/Helsinki
X-WR-TIMEZONE:Europe/Helsinki
BEGIN:VEVENT
UID:2-180250@kohokohdat.fi
DTSTART;TZID=Europe/Helsinki:20230414T235900
DTEND;TZID=Europe/Helsinki:20230414T235900
DTSTAMP:20230413T061148Z
URL:https://kohokohdat.fi/tampere/tapahtuma/kapteeni-lamminen/
SUMMARY:Kapteeni Lamminen
DESCRIPTION:
CATEGORIES:Keikat
LOCATION:Ilona\, Verkatehtaankatu 3\, Tampere\, Suomi
GEO:61.4972663;23.767708500000026
X-APPLE-STRUCTURED-LOCATION;VALUE=URI;X-ADDRESS=Verkatehtaankatu 3\, Tamper
 e\, Suomi;X-APPLE-RADIUS=100;X-TITLE=Ilona:geo:61.4972663,23.7677085000000
 26
END:VEVENT
BEGIN:VEVENT
UID:2-180251@kohokohdat.fi
DTSTART;TZID=Europe/Helsinki:20230415T235900
DTEND;TZID=Europe/Helsinki:20230415T235900
DTSTAMP:20230413T061239Z
URL:https://kohokohdat.fi/tampere/tapahtuma/kapteeni-lamminen-2/
SUMMARY:Kapteeni Lamminen
DESCRIPTION:
CATEGORIES:Keikat
LOCATION:Ilona\, Verkatehtaankatu 3\, Tampere\, Suomi
GEO:61.4972663;23.767708500000026
X-APPLE-STRUCTURED-LOCATION;VALUE=URI;X-ADDRESS=Verkatehtaankatu 3\, Tamper
 e\, Suomi;X-APPLE-RADIUS=100;X-TITLE=Ilona:geo:61.4972663,23.7677085000000
 26
END:VEVENT
BEGIN:VEVENT
UID:2-180253@kohokohdat.fi
DTSTART;TZID=Europe/Helsinki:20230422T235900
DTEND;TZID=Europe/Helsinki:20230422T235900
DTSTAMP:20230413T061331Z
URL:https://kohokohdat.fi/tampere/tapahtuma/kosmix-2/
SUMMARY:Kosmix
DESCRIPTION:
CATEGORIES:Keikat
LOCATION:Ilona\, Verkatehtaankatu 3\, Tampere\, Suomi
GEO:61.4972663;23.767708500000026
X-APPLE-STRUCTURED-LOCATION;VALUE=URI;X-ADDRESS=Verkatehtaankatu 3\, Tamper
 e\, Suomi;X-APPLE-RADIUS=100;X-TITLE=Ilona:geo:61.4972663,23.7677085000000
 26
END:VEVENT
BEGIN:VEVENT
UID:2-180254@kohokohdat.fi
DTSTART;TZID=Europe/Helsinki:20230429T235900
DTEND;TZID=Europe/Helsinki:20230429T235900
DTSTAMP:20230413T061339Z
URL:https://kohokohdat.fi/tampere/tapahtuma/cube/
SUMMARY:Cube
DESCRIPTION:
CATEGORIES:Keikat
LOCATION:Ilona\, Verkatehtaankatu 3\, Tampere\, Suomi
GEO:61.4972663;23.767708500000026
X-APPLE-STRUCTURED-LOCATION;VALUE=URI;X-ADDRESS=Verkatehtaankatu 3\, Tamper
 e\, Suomi;X-APPLE-RADIUS=100;X-TITLE=Ilona:geo:61.4972663,23.7677085000000
 26
END:VEVENT
BEGIN:VEVENT
UID:2-180255@kohokohdat.fi
DTSTART;TZID=Europe/Helsinki:20230430T235900
DTEND;TZID=Europe/Helsinki:20230430T235900
DTSTAMP:20230413T061352Z
URL:https://kohokohdat.fi/tampere/tapahtuma/cube-2/
SUMMARY:Cube
DESCRIPTION:
CATEGORIES:Keikat
LOCATION:Ilona\, Verkatehtaankatu 3\, Tampere\, Suomi
GEO:61.4972663;23.767708500000026
X-APPLE-STRUCTURED-LOCATION;VALUE=URI;X-ADDRESS=Verkatehtaankatu 3\, Tamper
 e\, Suomi;X-APPLE-RADIUS=100;X-TITLE=Ilona:geo:61.4972663,23.7677085000000
 26
END:VEVENT
BEGIN:VEVENT
UID:2-184797@kohokohdat.fi
DTSTART;TZID=Europe/Helsinki:20230908T235900
DTEND;TZID=Europe/Helsinki:20230908T235900
DTSTAMP:20230902T105610Z
URL:https://kohokohdat.fi/tampere/tapahtuma/shut-the-funk-up-2/
SUMMARY:Shut the funk up
DESCRIPTION:
CATEGORIES:Keikat
LOCATION:Ilona\, Verkatehtaankatu 3\, Tampere\, Suomi
GEO:61.4972663;23.767708500000026
X-APPLE-STRUCTURED-LOCATION;VALUE=URI;X-ADDRESS=Verkatehtaankatu 3\, Tamper
 e\, Suomi;X-APPLE-RADIUS=100;X-TITLE=Ilona:geo:61.4972663,23.7677085000000
 26
END:VEVENT
BEGIN:VEVENT
UID:2-184798@kohokohdat.fi
DTSTART;TZID=Europe/Helsinki:20230909T235900
DTEND;TZID=Europe/Helsinki:20230909T235900
DTSTAMP:20230902T105619Z
URL:https://kohokohdat.fi/tampere/tapahtuma/shut-the-funk-up-3/
SUMMARY:Shut the funk up
DESCRIPTION:
CATEGORIES:Keikat
LOCATION:Ilona\, Verkatehtaankatu 3\, Tampere\, Suomi
GEO:61.4972663;23.767708500000026
X-APPLE-STRUCTURED-LOCATION;VALUE=URI;X-ADDRESS=Verkatehtaankatu 3\, Tamper
 e\, Suomi;X-APPLE-RADIUS=100;X-TITLE=Ilona:geo:61.4972663,23.7677085000000
 26
END:VEVENT
BEGIN:VEVENT
UID:2-184799@kohokohdat.fi
DTSTART;TZID=Europe/Helsinki:20230915T235900
DTEND;TZID=Europe/Helsinki:20230915T235900
DTSTAMP:20230902T105628Z
URL:https://kohokohdat.fi/tampere/tapahtuma/kapteeni-lamminen-3/
SUMMARY:Kapteeni Lamminen
DESCRIPTION:
CATEGORIES:Keikat
LOCATION:Ilona\, Verkatehtaankatu 3\, Tampere\, Suomi
GEO:61.4972663;23.767708500000026
X-APPLE-STRUCTURED-LOCATION;VALUE=URI;X-ADDRESS=Verkatehtaankatu 3\, Tamper
 e\, Suomi;X-APPLE-RADIUS=100;X-TITLE=Ilona:geo:61.4972663,23.7677085000000
 26
END:VEVENT
BEGIN:VEVENT
UID:2-184800@kohokohdat.fi
DTSTART;TZID=Europe/Helsinki:20230916T235900
DTEND;TZID=Europe/Helsinki:20230916T235900
DTSTAMP:20230902T105633Z
URL:https://kohokohdat.fi/tampere/tapahtuma/kapteeni-lamminen-4/
SUMMARY:Kapteeni Lamminen
DESCRIPTION:
CATEGORIES:Keikat
LOCATION:Ilona\, Verkatehtaankatu 3\, Tampere\, Suomi
GEO:61.4972663;23.767708500000026
X-APPLE-STRUCTURED-LOCATION;VALUE=URI;X-ADDRESS=Verkatehtaankatu 3\, Tamper
 e\, Suomi;X-APPLE-RADIUS=100;X-TITLE=Ilona:geo:61.4972663,23.7677085000000
 26
END:VEVENT
BEGIN:VEVENT
UID:2-184801@kohokohdat.fi
DTSTART;TZID=Europe/Helsinki:20230922T235900
DTEND;TZID=Europe/Helsinki:20230922T235900
DTSTAMP:20230902T105638Z
URL:https://kohokohdat.fi/tampere/tapahtuma/illansuu/
SUMMARY:Illansuu
DESCRIPTION:
CATEGORIES:Keikat
LOCATION:Ilona\, Verkatehtaankatu 3\, Tampere\, Suomi
GEO:61.4972663;23.767708500000026
X-APPLE-STRUCTURED-LOCATION;VALUE=URI;X-ADDRESS=Verkatehtaankatu 3\, Tamper
 e\, Suomi;X-APPLE-RADIUS=100;X-TITLE=Ilona:geo:61.4972663,23.7677085000000
 26
END:VEVENT
BEGIN:VEVENT
UID:2-184802@kohokohdat.fi
DTSTART;TZID=Europe/Helsinki:20230923T235900
DTEND;TZID=Europe/Helsinki:20230923T235900
DTSTAMP:20230902T105645Z
URL:https://kohokohdat.fi/tampere/tapahtuma/ojess/
SUMMARY:O’jess
DESCRIPTION:
CATEGORIES:Keikat
LOCATION:Ilona\, Verkatehtaankatu 3\, Tampere\, Suomi
GEO:61.4972663;23.767708500000026
X-APPLE-STRUCTURED-LOCATION;VALUE=URI;X-ADDRESS=Verkatehtaankatu 3\, Tamper
 e\, Suomi;X-APPLE-RADIUS=100;X-TITLE=Ilona:geo:61.4972663,23.7677085000000
 26
END:VEVENT
BEGIN:VEVENT
UID:2-184803@kohokohdat.fi
DTSTART;TZID=Europe/Helsinki:20230929T235900
DTEND;TZID=Europe/Helsinki:20230929T235900
DTSTAMP:20230902T105654Z
URL:https://kohokohdat.fi/tampere/tapahtuma/joku-paikallinen-bandi-2/
SUMMARY:Joku Paikallinen bändi
DESCRIPTION:
CATEGORIES:Keikat
LOCATION:Ilona\, Verkatehtaankatu 3\, Tampere\, Suomi
GEO:61.4972663;23.767708500000026
X-APPLE-STRUCTURED-LOCATION;VALUE=URI;X-ADDRESS=Verkatehtaankatu 3\, Tamper
 e\, Suomi;X-APPLE-RADIUS=100;X-TITLE=Ilona:geo:61.4972663,23.7677085000000
 26
END:VEVENT
BEGIN:VEVENT
UID:2-184804@kohokohdat.fi
DTSTART;TZID=Europe/Helsinki:20230930T235900
DTEND;TZID=Europe/Helsinki:20230930T235900
DTSTAMP:20230902T105658Z
URL:https://kohokohdat.fi/tampere/tapahtuma/joku-paikallinen-bandi-3/
SUMMARY:Joku Paikallinen bändi
DESCRIPTION:
CATEGORIES:Keikat
LOCATION:Ilona\, Verkatehtaankatu 3\, Tampere\, Suomi
GEO:61.4972663;23.767708500000026
X-APPLE-STRUCTURED-LOCATION;VALUE=URI;X-ADDRESS=Verkatehtaankatu 3\, Tamper
 e\, Suomi;X-APPLE-RADIUS=100;X-TITLE=Ilona:geo:61.4972663,23.7677085000000
 26
END:VEVENT
BEGIN:VEVENT
UID:2-187201@kohokohdat.fi
DTSTART;TZID=Europe/Helsinki:20231020T235900
DTEND;TZID=Europe/Helsinki:20231020T235900
DTSTAMP:20231009T135653Z
URL:https://kohokohdat.fi/tampere/tapahtuma/remix/
SUMMARY:Remix
DESCRIPTION:
CATEGORIES:Keikat
LOCATION:Ilona\, Verkatehtaankatu 3\, Tampere\, Suomi
GEO:61.4972663;23.767708500000026
X-APPLE-STRUCTURED-LOCATION;VALUE=URI;X-ADDRESS=Verkatehtaankatu 3\, Tamper
 e\, Suomi;X-APPLE-RADIUS=100;X-TITLE=Ilona:geo:61.4972663,23.7677085000000
 26
END:VEVENT
BEGIN:VEVENT
UID:2-187202@kohokohdat.fi
DTSTART;TZID=Europe/Helsinki:20231021T235900
DTEND;TZID=Europe/Helsinki:20231021T235900
DTSTAMP:20231009T135659Z
URL:https://kohokohdat.fi/tampere/tapahtuma/remix-2/
SUMMARY:Remix
DESCRIPTION:
CATEGORIES:Keikat
LOCATION:Ilona\, Verkatehtaankatu 3\, Tampere\, Suomi
GEO:61.4972663;23.767708500000026
X-APPLE-STRUCTURED-LOCATION;VALUE=URI;X-ADDRESS=Verkatehtaankatu 3\, Tamper
 e\, Suomi;X-APPLE-RADIUS=100;X-TITLE=Ilona:geo:61.4972663,23.7677085000000
 26
END:VEVENT
BEGIN:VEVENT
UID:2-180252@kohokohdat.fi
DTSTART;TZID=Europe/Helsinki:20231027T235900
DTEND;TZID=Europe/Helsinki:20231027T235900
DTSTAMP:20231009T135709Z
URL:https://kohokohdat.fi/tampere/tapahtuma/ilona-12-vuotissynttarit-arttu
 -wiskari/
SUMMARY:Petri Nygård
DESCRIPTION:
CATEGORIES:Keikat
LOCATION:Ilona\, Verkatehtaankatu 3\, Tampere\, Suomi
GEO:61.4972663;23.767708500000026
X-APPLE-STRUCTURED-LOCATION;VALUE=URI;X-ADDRESS=Verkatehtaankatu 3\, Tamper
 e\, Suomi;X-APPLE-RADIUS=100;X-TITLE=Ilona:geo:61.4972663,23.7677085000000
 26
END:VEVENT
BEGIN:VEVENT
UID:2-187200@kohokohdat.fi
DTSTART;TZID=Europe/Helsinki:20231028T235900
DTEND;TZID=Europe/Helsinki:20231028T235900
DTSTAMP:20231009T135716Z
URL:https://kohokohdat.fi/tampere/tapahtuma/highlights-3/
SUMMARY:Halloween Nightmare Party
DESCRIPTION:
CATEGORIES:Keikat
LOCATION:Ilona\, Verkatehtaankatu 3\, Tampere\, Suomi
GEO:61.4972663;23.767708500000026
X-APPLE-STRUCTURED-LOCATION;VALUE=URI;X-ADDRESS=Verkatehtaankatu 3\, Tamper
 e\, Suomi;X-APPLE-RADIUS=100;X-TITLE=Ilona:geo:61.4972663,23.7677085000000
 26
END:VEVENT
BEGIN:VEVENT
UID:2-187203@kohokohdat.fi
DTSTART;TZID=Europe/Helsinki:20231103T235900
DTEND;TZID=Europe/Helsinki:20231103T235900
DTSTAMP:20231009T140848Z
URL:https://kohokohdat.fi/tampere/tapahtuma/darude/
SUMMARY:Darude
DESCRIPTION:Suomalainen elektronisen tanssimusiikin supertähti Darude julk
 aisee uransa viidennen studioalbumin perjantaina marraskuun 3. päivä. To
 gether -nimistä albumia juhlitaan yhdeksässä kaupungissa vierailevalla 
 kiertueella.\nhttps://www.youtube.com/watch?v=bcEY08iVzNc
ATTACH;FMTTYPE=image/jpeg:https://kohokohdat.fi/tampere/wp-content/uploads
 /sites/2/2023/10/darude-keikat.jpg
CATEGORIES:Keikat
LOCATION:Ilona\, Verkatehtaankatu 3\, Tampere\, Suomi
GEO:61.4972663;23.767708500000026
X-APPLE-STRUCTURED-LOCATION;VALUE=URI;X-ADDRESS=Verkatehtaankatu 3\, Tamper
 e\, Suomi;X-APPLE-RADIUS=100;X-TITLE=Ilona:geo:61.4972663,23.7677085000000
 26
END:VEVENT
BEGIN:VEVENT
UID:2-187204@kohokohdat.fi
DTSTART;TZID=Europe/Helsinki:20231215T220000
DTEND;TZID=Europe/Helsinki:20231215T220000
DTSTAMP:20231009T140144Z
URL:https://kohokohdat.fi/tampere/tapahtuma/pete-parkkonen/
SUMMARY:Pete Parkkonen
DESCRIPTION:
ATTACH;FMTTYPE=image/jpeg:https://kohokohdat.fi/tampere/wp-content/uploads
 /sites/2/2022/09/pete-parkkonen-keikat.jpg
CATEGORIES:Keikat
LOCATION:Ilona\, Verkatehtaankatu 3\, Tampere\, Suomi
GEO:61.4972663;23.767708500000026
X-APPLE-STRUCTURED-LOCATION;VALUE=URI;X-ADDRESS=Verkatehtaankatu 3\, Tamper
 e\, Suomi;X-APPLE-RADIUS=100;X-TITLE=Ilona:geo:61.4972663,23.7677085000000
 26
END:VEVENT
BEGIN:VEVENT
UID:2-206741@kohokohdat.fi
DTSTART;TZID=Europe/Helsinki:20250307T220000
DTEND;TZID=Europe/Helsinki:20250307T220000
DTSTAMP:20250305T080159Z
URL:https://kohokohdat.fi/tampere/tapahtuma/bee-2/
SUMMARY:Bee
DESCRIPTION:Been minimalistinen ja tummanpuhuva tuotanto yhdistettynä herk
 kään ääneen luo musiikkiin öistä tunnelmaa ja rauhaa. Hänen kappale
 ensa käsittelevät usein merkityksellisiä kohtaamisia\, vaikeita päät
 öksiä ja henkilökohtaisia kamppailuja.\nBeen musiikki on saanut paljon 
 huomiota\, ja hänen tuotantonsa on löytänyt tiensä Spotifyn ja YleX so
 ittolistoille\, mikä on nostanut hänet monen kuulijan tietoisuuteen.\n
ATTACH;FMTTYPE=image/jpeg:https://kohokohdat.fi/tampere/wp-content/uploads
 /sites/2/2024/11/bee-keikat-tampere.jpg
CATEGORIES:Keikat
LOCATION:Ilona\, Verkatehtaankatu 3\, Tampere\, Suomi
GEO:61.4972663;23.767708500000026
X-APPLE-STRUCTURED-LOCATION;VALUE=URI;X-ADDRESS=Verkatehtaankatu 3\, Tamper
 e\, Suomi;X-APPLE-RADIUS=100;X-TITLE=Ilona:geo:61.4972663,23.7677085000000
 26
END:VEVENT
BEGIN:VEVENT
UID:2-206745@kohokohdat.fi
DTSTART;TZID=Europe/Helsinki:20250328T230000
DTEND;TZID=Europe/Helsinki:20250328T230000
DTSTAMP:20250305T080036Z
URL:https://kohokohdat.fi/tampere/tapahtuma/bilebandi-highlights/
SUMMARY:Bilebändi HighLights
DESCRIPTION:Loppuillan biletyspaikka\, Viihdemaailma Ilona tarjoilee bilemu
 siikkia etenkin viikonloppuisin.\nTampereen suurimpiin kuuluva yökerho on
  aikuiseen makuun suunniteltu ravintolamaailma\, joka koostuu monesta eri 
 tunnelmaa tarjoavasta tilasta  ja jättimäisestä pääsalista\, jossa o
 n mahdollista järjestää isompiakin konsertteja.
ATTACH;FMTTYPE=image/jpeg:https://kohokohdat.fi/tampere/wp-content/uploads
 /sites/2/2015/10/ilona-disko-tampereella.jpg
CATEGORIES:Keikat
LOCATION:Ilona\, Verkatehtaankatu 3\, Tampere\, Suomi
GEO:61.4972663;23.767708500000026
X-APPLE-STRUCTURED-LOCATION;VALUE=URI;X-ADDRESS=Verkatehtaankatu 3\, Tamper
 e\, Suomi;X-APPLE-RADIUS=100;X-TITLE=Ilona:geo:61.4972663,23.7677085000000
 26
END:VEVENT
BEGIN:VEVENT
UID:2-206747@kohokohdat.fi
DTSTART;TZID=Europe/Helsinki:20250329T230000
DTEND;TZID=Europe/Helsinki:20250329T230000
DTSTAMP:20250305T080056Z
URL:https://kohokohdat.fi/tampere/tapahtuma/bilebandi-highlights-2/
SUMMARY:Bilebändi HighLights
DESCRIPTION:Loppuillan biletyspaikka\, Viihdemaailma Ilona tarjoilee bilemu
 siikkia etenkin viikonloppuisin.\nTampereen suurimpiin kuuluva yökerho on
  aikuiseen makuun suunniteltu ravintolamaailma\, joka koostuu monesta eri 
 tunnelmaa tarjoavasta tilasta  ja jättimäisestä pääsalista\, jossa o
 n mahdollista järjestää isompiakin konsertteja.
ATTACH;FMTTYPE=image/jpeg:https://kohokohdat.fi/tampere/wp-content/uploads
 /sites/2/2015/10/ilona-disko-tampereella.jpg
CATEGORIES:Keikat
LOCATION:Ilona\, Verkatehtaankatu 3\, Tampere\, Suomi
GEO:61.4972663;23.767708500000026
X-APPLE-STRUCTURED-LOCATION;VALUE=URI;X-ADDRESS=Verkatehtaankatu 3\, Tamper
 e\, Suomi;X-APPLE-RADIUS=100;X-TITLE=Ilona:geo:61.4972663,23.7677085000000
 26
END:VEVENT
BEGIN:VEVENT
UID:2-211574@kohokohdat.fi
DTSTART;TZID=Europe/Helsinki:20251101T220000
DTEND;TZID=Europe/Helsinki:20251101T220000
DTSTAMP:20250929T113448Z
URL:https://kohokohdat.fi/tampere/tapahtuma/ilona-tampere-halloween-vip-k-
 24/
SUMMARY:Ilona Tampere: Halloween VIP K-24
DESCRIPTION:
CATEGORIES:Keikat
LOCATION:Ilona\, Verkatehtaankatu 3\, Tampere\, Suomi
GEO:61.4972663;23.767708500000026
X-APPLE-STRUCTURED-LOCATION;VALUE=URI;X-ADDRESS=Verkatehtaankatu 3\, Tamper
 e\, Suomi;X-APPLE-RADIUS=100;X-TITLE=Ilona:geo:61.4972663,23.7677085000000
 26
END:VEVENT
BEGIN:VEVENT
UID:2-211575@kohokohdat.fi
DTSTART;TZID=Europe/Helsinki:20251219T220000
DTEND;TZID=Europe/Helsinki:20251219T220000
DTSTAMP:20250929T113525Z
URL:https://kohokohdat.fi/tampere/tapahtuma/dingo/
SUMMARY:Dingo
DESCRIPTION:
ATTACH;FMTTYPE=image/jpeg:https://kohokohdat.fi/tampere/wp-content/uploads
 /sites/2/2023/04/dingo-keikat.jpg
CATEGORIES:Keikat
LOCATION:Ilona\, Verkatehtaankatu 3\, Tampere\, Suomi
GEO:61.4972663;23.767708500000026
X-APPLE-STRUCTURED-LOCATION;VALUE=URI;X-ADDRESS=Verkatehtaankatu 3\, Tamper
 e\, Suomi;X-APPLE-RADIUS=100;X-TITLE=Ilona:geo:61.4972663,23.7677085000000
 26
END:VEVENT
BEGIN:VEVENT
UID:2-214783@kohokohdat.fi
DTSTART;TZID=Europe/Helsinki:20260417T230000
DTEND;TZID=Europe/Helsinki:20260417T230000
DTSTAMP:20260327T095822Z
URL:https://kohokohdat.fi/tampere/tapahtuma/aikakone/
SUMMARY:Aikakone
DESCRIPTION:
ATTACH;FMTTYPE=image/jpeg:https://kohokohdat.fi/tampere/wp-content/uploads
 /sites/2/2013/09/aikakone.jpg
CATEGORIES:Keikat
LOCATION:Ilona\, Verkatehtaankatu 3\, Tampere\, Suomi
GEO:61.4972663;23.767708500000026
X-APPLE-STRUCTURED-LOCATION;VALUE=URI;X-ADDRESS=Verkatehtaankatu 3\, Tamper
 e\, Suomi;X-APPLE-RADIUS=100;X-TITLE=Ilona:geo:61.4972663,23.7677085000000
 26
END:VEVENT
BEGIN:VTIMEZONE
TZID:Europe/Helsinki
X-LIC-LOCATION:Europe/Helsinki
BEGIN:DAYLIGHT
DTSTART:20230326T040000
TZOFFSETFROM:+0200
TZOFFSETTO:+0300
TZNAME:EEST
END:DAYLIGHT
BEGIN:STANDARD
DTSTART:20231029T030000
TZOFFSETFROM:+0300
TZOFFSETTO:+0200
TZNAME:EET
END:STANDARD
BEGIN:DAYLIGHT
DTSTART:20240331T040000
TZOFFSETFROM:+0200
TZOFFSETTO:+0300
TZNAME:EEST
END:DAYLIGHT
BEGIN:STANDARD
DTSTART:20241027T030000
TZOFFSETFROM:+0300
TZOFFSETTO:+0200
TZNAME:EET
END:STANDARD
BEGIN:DAYLIGHT
DTSTART:20250330T040000
TZOFFSETFROM:+0200
TZOFFSETTO:+0300
TZNAME:EEST
END:DAYLIGHT
BEGIN:STANDARD
DTSTART:20251026T030000
TZOFFSETFROM:+0300
TZOFFSETTO:+0200
TZNAME:EET
END:STANDARD
BEGIN:DAYLIGHT
DTSTART:20260329T040000
TZOFFSETFROM:+0200
TZOFFSETTO:+0300
TZNAME:EEST
END:DAYLIGHT
END:VTIMEZONE
END:VCALENDAR