BEGIN:VCALENDAR
VERSION:2.0
PRODID:-//wp-events-plugin.com//7.2.3.1//EN
TZID:Europe/Helsinki
X-WR-TIMEZONE:Europe/Helsinki
BEGIN:VEVENT
UID:2-187503@kohokohdat.fi
DTSTART;TZID=Europe/Helsinki;VALUE=DATE:20231103
DTEND;TZID=Europe/Helsinki;VALUE=DATE:20231104
DTSTAMP:20260420T111402Z
URL:https://kohokohdat.fi/tampere/event-recurring/aseman-kahvilan-after-wo
 rk/
SUMMARY:Aseman kahvilan After Work
DESCRIPTION:Vuonna 2022 avannut Aseman Kahvila Tampere sijaitsee rautatieas
 eman kävelytunnelin ja asematorin kulmalle. Kohtaamispaikan nuorekas sisu
 stus ja anniskeluoikeudet antavat sille mannermaisen kahvilan tuntua.\nAse
 man kahvilalla koko perjantai näyttäisi olevan After Work -päivä.\n\n
ATTACH;FMTTYPE=image/jpeg:https://kohokohdat.fi/tampere/wp-content/uploads
 /sites/2/2022/02/aseman-kahvila-tampere.jpg
CATEGORIES:Ravintolat
LOCATION:Aseman Kahvila\, Rautatienkatu 25\, Tampere\, Suomi
X-APPLE-STRUCTURED-LOCATION;VALUE=URI;X-ADDRESS=Rautatienkatu 25\, Tampere\
 , Suomi;X-APPLE-RADIUS=100;X-TITLE=Aseman Kahvila:geo:0,0
END:VEVENT
BEGIN:VEVENT
UID:2-187504@kohokohdat.fi
DTSTART;TZID=Europe/Helsinki;VALUE=DATE:20231110
DTEND;TZID=Europe/Helsinki;VALUE=DATE:20231111
DTSTAMP:20260420T111402Z
URL:https://kohokohdat.fi/tampere/event-recurring/aseman-kahvilan-after-wo
 rk/
SUMMARY:Aseman kahvilan After Work
DESCRIPTION:Vuonna 2022 avannut Aseman Kahvila Tampere sijaitsee rautatieas
 eman kävelytunnelin ja asematorin kulmalle. Kohtaamispaikan nuorekas sisu
 stus ja anniskeluoikeudet antavat sille mannermaisen kahvilan tuntua.\nAse
 man kahvilalla koko perjantai näyttäisi olevan After Work -päivä.\n\n
ATTACH;FMTTYPE=image/jpeg:https://kohokohdat.fi/tampere/wp-content/uploads
 /sites/2/2022/02/aseman-kahvila-tampere.jpg
CATEGORIES:Ravintolat
LOCATION:Aseman Kahvila\, Rautatienkatu 25\, Tampere\, Suomi
X-APPLE-STRUCTURED-LOCATION;VALUE=URI;X-ADDRESS=Rautatienkatu 25\, Tampere\
 , Suomi;X-APPLE-RADIUS=100;X-TITLE=Aseman Kahvila:geo:0,0
END:VEVENT
BEGIN:VEVENT
UID:2-187505@kohokohdat.fi
DTSTART;TZID=Europe/Helsinki;VALUE=DATE:20231117
DTEND;TZID=Europe/Helsinki;VALUE=DATE:20231118
DTSTAMP:20260420T111402Z
URL:https://kohokohdat.fi/tampere/event-recurring/aseman-kahvilan-after-wo
 rk/
SUMMARY:Aseman kahvilan After Work
DESCRIPTION:Vuonna 2022 avannut Aseman Kahvila Tampere sijaitsee rautatieas
 eman kävelytunnelin ja asematorin kulmalle. Kohtaamispaikan nuorekas sisu
 stus ja anniskeluoikeudet antavat sille mannermaisen kahvilan tuntua.\nAse
 man kahvilalla koko perjantai näyttäisi olevan After Work -päivä.\n\n
ATTACH;FMTTYPE=image/jpeg:https://kohokohdat.fi/tampere/wp-content/uploads
 /sites/2/2022/02/aseman-kahvila-tampere.jpg
CATEGORIES:Ravintolat
LOCATION:Aseman Kahvila\, Rautatienkatu 25\, Tampere\, Suomi
X-APPLE-STRUCTURED-LOCATION;VALUE=URI;X-ADDRESS=Rautatienkatu 25\, Tampere\
 , Suomi;X-APPLE-RADIUS=100;X-TITLE=Aseman Kahvila:geo:0,0
END:VEVENT
BEGIN:VEVENT
UID:2-187506@kohokohdat.fi
DTSTART;TZID=Europe/Helsinki;VALUE=DATE:20231124
DTEND;TZID=Europe/Helsinki;VALUE=DATE:20231125
DTSTAMP:20260420T111402Z
URL:https://kohokohdat.fi/tampere/event-recurring/aseman-kahvilan-after-wo
 rk/
SUMMARY:Aseman kahvilan After Work
DESCRIPTION:Vuonna 2022 avannut Aseman Kahvila Tampere sijaitsee rautatieas
 eman kävelytunnelin ja asematorin kulmalle. Kohtaamispaikan nuorekas sisu
 stus ja anniskeluoikeudet antavat sille mannermaisen kahvilan tuntua.\nAse
 man kahvilalla koko perjantai näyttäisi olevan After Work -päivä.\n\n
ATTACH;FMTTYPE=image/jpeg:https://kohokohdat.fi/tampere/wp-content/uploads
 /sites/2/2022/02/aseman-kahvila-tampere.jpg
CATEGORIES:Ravintolat
LOCATION:Aseman Kahvila\, Rautatienkatu 25\, Tampere\, Suomi
X-APPLE-STRUCTURED-LOCATION;VALUE=URI;X-ADDRESS=Rautatienkatu 25\, Tampere\
 , Suomi;X-APPLE-RADIUS=100;X-TITLE=Aseman Kahvila:geo:0,0
END:VEVENT
BEGIN:VEVENT
UID:2-187507@kohokohdat.fi
DTSTART;TZID=Europe/Helsinki;VALUE=DATE:20231201
DTEND;TZID=Europe/Helsinki;VALUE=DATE:20231202
DTSTAMP:20260420T111402Z
URL:https://kohokohdat.fi/tampere/event-recurring/aseman-kahvilan-after-wo
 rk/
SUMMARY:Aseman kahvilan After Work
DESCRIPTION:Vuonna 2022 avannut Aseman Kahvila Tampere sijaitsee rautatieas
 eman kävelytunnelin ja asematorin kulmalle. Kohtaamispaikan nuorekas sisu
 stus ja anniskeluoikeudet antavat sille mannermaisen kahvilan tuntua.\nAse
 man kahvilalla koko perjantai näyttäisi olevan After Work -päivä.\n\n
ATTACH;FMTTYPE=image/jpeg:https://kohokohdat.fi/tampere/wp-content/uploads
 /sites/2/2022/02/aseman-kahvila-tampere.jpg
CATEGORIES:Ravintolat
LOCATION:Aseman Kahvila\, Rautatienkatu 25\, Tampere\, Suomi
X-APPLE-STRUCTURED-LOCATION;VALUE=URI;X-ADDRESS=Rautatienkatu 25\, Tampere\
 , Suomi;X-APPLE-RADIUS=100;X-TITLE=Aseman Kahvila:geo:0,0
END:VEVENT
BEGIN:VEVENT
UID:2-187508@kohokohdat.fi
DTSTART;TZID=Europe/Helsinki;VALUE=DATE:20231208
DTEND;TZID=Europe/Helsinki;VALUE=DATE:20231209
DTSTAMP:20260420T111402Z
URL:https://kohokohdat.fi/tampere/event-recurring/aseman-kahvilan-after-wo
 rk/
SUMMARY:Aseman kahvilan After Work
DESCRIPTION:Vuonna 2022 avannut Aseman Kahvila Tampere sijaitsee rautatieas
 eman kävelytunnelin ja asematorin kulmalle. Kohtaamispaikan nuorekas sisu
 stus ja anniskeluoikeudet antavat sille mannermaisen kahvilan tuntua.\nAse
 man kahvilalla koko perjantai näyttäisi olevan After Work -päivä.\n\n
ATTACH;FMTTYPE=image/jpeg:https://kohokohdat.fi/tampere/wp-content/uploads
 /sites/2/2022/02/aseman-kahvila-tampere.jpg
CATEGORIES:Ravintolat
LOCATION:Aseman Kahvila\, Rautatienkatu 25\, Tampere\, Suomi
X-APPLE-STRUCTURED-LOCATION;VALUE=URI;X-ADDRESS=Rautatienkatu 25\, Tampere\
 , Suomi;X-APPLE-RADIUS=100;X-TITLE=Aseman Kahvila:geo:0,0
END:VEVENT
BEGIN:VTIMEZONE
TZID:Europe/Helsinki
X-LIC-LOCATION:Europe/Helsinki
BEGIN:STANDARD
DTSTART:20231029T030000
TZOFFSETFROM:+0300
TZOFFSETTO:+0200
TZNAME:EET
END:STANDARD
END:VTIMEZONE
END:VCALENDAR