BEGIN:VCALENDAR
VERSION:2.0
PRODID:-//wp-events-plugin.com//7.2.3.1//EN
TZID:Europe/Helsinki
X-WR-TIMEZONE:Europe/Helsinki
BEGIN:VEVENT
UID:3-194047@kohokohdat.fi
DTSTART;TZID=Europe/Helsinki:20240224T180000
DTEND;TZID=Europe/Helsinki:20240224T180000
DTSTAMP:20240220T061944Z
URL:https://kohokohdat.fi/helsinki/tapahtuma/keikat-viking-xprslla-2023-pe
 te-parkkonen/
SUMMARY:Keikat Viking XPRS:llä 2024: Evelina
DESCRIPTION:Viking XPRS -päiväristeilyä Tallinnaan myyvä Matkapojat esi
 ttelee sivuillaan aluksen tähtiartistit ja koko viihdetarjonnan\, joka hu
 ipentaa päiväristeilyn Tallinnaan livemusiikilla.\nTähtiartistit esiint
 yvät klo 18–19 Club X -yökerhossa paluumatkalla Tallinnasta Helsinkiin
 . Päiväristeily lähtee klo 10.30 Helsingin Katajanokan terminaalilta ja
  saapuu takaisin helsinkiin klo 19.30.
ATTACH;FMTTYPE=image/jpeg:https://kohokohdat.fi/helsinki/wp-content/upload
 s/sites/3/2022/06/evelina-keikat-suomi.jpg
CATEGORIES:Keikat
LOCATION:Viking XPRS\, Katajanokan terminaali\, Helsinki\, Suomi
X-APPLE-STRUCTURED-LOCATION;VALUE=URI;X-ADDRESS=Katajanokan terminaali\, He
 lsinki\, Suomi;X-APPLE-RADIUS=100;X-TITLE=Viking XPRS:geo:0,0
END:VEVENT
BEGIN:VEVENT
UID:3-194054@kohokohdat.fi
DTSTART;TZID=Europe/Helsinki:20240305T180000
DTEND;TZID=Europe/Helsinki:20240305T180000
DTSTAMP:20240220T062023Z
URL:https://kohokohdat.fi/helsinki/tapahtuma/tanssimusiikkia-viking-xprsll
 a-2023-kari-hirvonen-onnentahti/
SUMMARY:Tanssimusiikkia Viking XPRS:llä 2024: Kari Hirvonen & Onnentähti
DESCRIPTION:Viking XPRS -päiväristeilyä Tallinnaan myyvä Matkapojat e
 sittelee sivuillaan aluksen tähtiartistit ja koko viihdetarjonnan\, joka 
 huipentaa päiväristeilyn Tallinnaan livemusiikilla.\nYhtyeet ja rtistit 
 esiintyvät klo 18–19 Club X -yökerhossa paluumatkalla Tallinnasta Hels
 inkiin. Päiväristeily lähtee klo 10.30 Helsingin Katajanokan terminaali
 lta ja saapuu takaisin helsinkiin klo 19.30.
CATEGORIES:Keikat
LOCATION:Viking XPRS\, Katajanokan terminaali\, Helsinki\, Suomi
X-APPLE-STRUCTURED-LOCATION;VALUE=URI;X-ADDRESS=Katajanokan terminaali\, He
 lsinki\, Suomi;X-APPLE-RADIUS=100;X-TITLE=Viking XPRS:geo:0,0
END:VEVENT
BEGIN:VEVENT
UID:3-194055@kohokohdat.fi
DTSTART;TZID=Europe/Helsinki:20240306T180000
DTEND;TZID=Europe/Helsinki:20240306T180000
DTSTAMP:20240220T062051Z
URL:https://kohokohdat.fi/helsinki/tapahtuma/tanssimusiikkia-viking-xprsll
 a-2024-kari-hirvonen-onnentahti/
SUMMARY:Tanssimusiikkia Viking XPRS:llä 2024: Kari Hirvonen & Onnentähti
DESCRIPTION:Viking XPRS -päiväristeilyä Tallinnaan myyvä Matkapojat e
 sittelee sivuillaan aluksen tähtiartistit ja koko viihdetarjonnan\, joka 
 huipentaa päiväristeilyn Tallinnaan livemusiikilla.\nYhtyeet ja rtistit 
 esiintyvät klo 18–19 Club X -yökerhossa paluumatkalla Tallinnasta Hels
 inkiin. Päiväristeily lähtee klo 10.30 Helsingin Katajanokan terminaali
 lta ja saapuu takaisin helsinkiin klo 19.30.
CATEGORIES:Keikat
LOCATION:Viking XPRS\, Katajanokan terminaali\, Helsinki\, Suomi
X-APPLE-STRUCTURED-LOCATION;VALUE=URI;X-ADDRESS=Katajanokan terminaali\, He
 lsinki\, Suomi;X-APPLE-RADIUS=100;X-TITLE=Viking XPRS:geo:0,0
END:VEVENT
BEGIN:VEVENT
UID:3-194048@kohokohdat.fi
DTSTART;TZID=Europe/Helsinki:20240309T180000
DTEND;TZID=Europe/Helsinki:20240309T180000
DTSTAMP:20240220T062123Z
URL:https://kohokohdat.fi/helsinki/tapahtuma/keikat-viking-xprslla-2024-st
 ig/
SUMMARY:Keikat Viking XPRS:llä 2024: STIG
DESCRIPTION:Viking XPRS -päiväristeilyä Tallinnaan myyvä Matkapojat esi
 ttelee sivuillaan aluksen tähtiartistit ja koko viihdetarjonnan\, joka hu
 ipentaa päiväristeilyn Tallinnaan livemusiikilla.\nTähtiartistit esiint
 yvät klo 18–19 Club X -yökerhossa paluumatkalla Tallinnasta Helsinkiin
 . Päiväristeily lähtee klo 10.30 Helsingin Katajanokan terminaalilta ja
  saapuu takaisin helsinkiin klo 19.30.
ATTACH;FMTTYPE=image/jpeg:https://kohokohdat.fi/helsinki/wp-content/upload
 s/sites/3/2024/01/stig-keikat.jpg
CATEGORIES:Keikat
LOCATION:Viking XPRS\, Katajanokan terminaali\, Helsinki\, Suomi
X-APPLE-STRUCTURED-LOCATION;VALUE=URI;X-ADDRESS=Katajanokan terminaali\, He
 lsinki\, Suomi;X-APPLE-RADIUS=100;X-TITLE=Viking XPRS:geo:0,0
END:VEVENT
BEGIN:VEVENT
UID:3-194056@kohokohdat.fi
DTSTART;TZID=Europe/Helsinki:20240312T180000
DTEND;TZID=Europe/Helsinki:20240312T180000
DTSTAMP:20240311T081505Z
URL:https://kohokohdat.fi/helsinki/tapahtuma/tanssimusiikkia-viking-xprsll
 a-2024-markku-aro-diesel/
SUMMARY:Tanssimusiikkia Viking XPRS:llä 2024: Markku Aro & Diesel
DESCRIPTION:Viking XPRS -päiväristeilyä Tallinnaan myyvä Matkapojat e
 sittelee sivuillaan aluksen tähtiartistit ja koko viihdetarjonnan\, joka 
 huipentaa päiväristeilyn Tallinnaan livemusiikilla.\nYhtyeet ja rtistit 
 esiintyvät klo 18–19 Club X -yökerhossa paluumatkalla Tallinnasta Hels
 inkiin. Päiväristeily lähtee klo 10.30 Helsingin Katajanokan terminaali
 lta ja saapuu takaisin helsinkiin klo 19.30.
CATEGORIES:Keikat
LOCATION:Viking XPRS\, Katajanokan terminaali\, Helsinki\, Suomi
X-APPLE-STRUCTURED-LOCATION;VALUE=URI;X-ADDRESS=Katajanokan terminaali\, He
 lsinki\, Suomi;X-APPLE-RADIUS=100;X-TITLE=Viking XPRS:geo:0,0
END:VEVENT
BEGIN:VEVENT
UID:3-194057@kohokohdat.fi
DTSTART;TZID=Europe/Helsinki:20240319T180000
DTEND;TZID=Europe/Helsinki:20240319T180000
DTSTAMP:20240311T081514Z
URL:https://kohokohdat.fi/helsinki/tapahtuma/tanssimusiikkia-viking-xprsll
 a-2024-antti-ahopelto-etiketti/
SUMMARY:Tanssimusiikkia Viking XPRS:llä 2024: Antti Ahopelto  & Etiketti
DESCRIPTION:Viking XPRS -päiväristeilyä Tallinnaan myyvä Matkapojat e
 sittelee sivuillaan aluksen tähtiartistit ja koko viihdetarjonnan\, joka 
 huipentaa päiväristeilyn Tallinnaan livemusiikilla.\nYhtyeet ja rtistit 
 esiintyvät klo 18–19 Club X -yökerhossa paluumatkalla Tallinnasta Hels
 inkiin. Päiväristeily lähtee klo 10.30 Helsingin Katajanokan terminaali
 lta ja saapuu takaisin helsinkiin klo 19.30.
CATEGORIES:Keikat
LOCATION:Viking XPRS\, Katajanokan terminaali\, Helsinki\, Suomi
X-APPLE-STRUCTURED-LOCATION;VALUE=URI;X-ADDRESS=Katajanokan terminaali\, He
 lsinki\, Suomi;X-APPLE-RADIUS=100;X-TITLE=Viking XPRS:geo:0,0
END:VEVENT
BEGIN:VEVENT
UID:3-194060@kohokohdat.fi
DTSTART;TZID=Europe/Helsinki:20240320T180000
DTEND;TZID=Europe/Helsinki:20240320T180000
DTSTAMP:20240311T081519Z
URL:https://kohokohdat.fi/helsinki/tapahtuma/tanssimusiikkia-viking-xprsll
 a-2024-antti-ahopelto-etiketti-2/
SUMMARY:Tanssimusiikkia Viking XPRS:llä 2024: Antti Ahopelto  & Etiketti
DESCRIPTION:Viking XPRS -päiväristeilyä Tallinnaan myyvä Matkapojat e
 sittelee sivuillaan aluksen tähtiartistit ja koko viihdetarjonnan\, joka 
 huipentaa päiväristeilyn Tallinnaan livemusiikilla.\nYhtyeet ja rtistit 
 esiintyvät klo 18–19 Club X -yökerhossa paluumatkalla Tallinnasta Hels
 inkiin. Päiväristeily lähtee klo 10.30 Helsingin Katajanokan terminaali
 lta ja saapuu takaisin helsinkiin klo 19.30.
CATEGORIES:Keikat
LOCATION:Viking XPRS\, Katajanokan terminaali\, Helsinki\, Suomi
X-APPLE-STRUCTURED-LOCATION;VALUE=URI;X-ADDRESS=Katajanokan terminaali\, He
 lsinki\, Suomi;X-APPLE-RADIUS=100;X-TITLE=Viking XPRS:geo:0,0
END:VEVENT
BEGIN:VEVENT
UID:3-194049@kohokohdat.fi
DTSTART;TZID=Europe/Helsinki:20240323T180000
DTEND;TZID=Europe/Helsinki:20240323T180000
DTSTAMP:20240311T081524Z
URL:https://kohokohdat.fi/helsinki/tapahtuma/keikat-viking-xprslla-2024-me
 iju-suvas/
SUMMARY:Keikat Viking XPRS:llä 2024: Meiju Suvas
DESCRIPTION:Viking XPRS -päiväristeilyä Tallinnaan myyvä Matkapojat esi
 ttelee sivuillaan aluksen tähtiartistit ja koko viihdetarjonnan\, joka hu
 ipentaa päiväristeilyn Tallinnaan livemusiikilla.\nTähtiartistit esiint
 yvät klo 18–19 Club X -yökerhossa paluumatkalla Tallinnasta Helsinkiin
 . Päiväristeily lähtee klo 10.30 Helsingin Katajanokan terminaalilta ja
  saapuu takaisin helsinkiin klo 19.30.
ATTACH;FMTTYPE=image/jpeg:https://kohokohdat.fi/helsinki/wp-content/upload
 s/sites/3/2023/02/meiju-suvas-keikat-tampere.jpg
CATEGORIES:Keikat
LOCATION:Viking XPRS\, Katajanokan terminaali\, Helsinki\, Suomi
X-APPLE-STRUCTURED-LOCATION;VALUE=URI;X-ADDRESS=Katajanokan terminaali\, He
 lsinki\, Suomi;X-APPLE-RADIUS=100;X-TITLE=Viking XPRS:geo:0,0
END:VEVENT
BEGIN:VEVENT
UID:3-194058@kohokohdat.fi
DTSTART;TZID=Europe/Helsinki:20240326T180000
DTEND;TZID=Europe/Helsinki:20240326T180000
DTSTAMP:20240311T081528Z
URL:https://kohokohdat.fi/helsinki/tapahtuma/tanssimusiikkia-viking-xprsll
 a-2024-matti-sakari-pekkaniskan-pojat/
SUMMARY:Tanssimusiikkia Viking XPRS:llä 2024: Matti-Sakari & Pekkaniskan P
 ojat
DESCRIPTION:Viking XPRS -päiväristeilyä Tallinnaan myyvä Matkapojat e
 sittelee sivuillaan aluksen tähtiartistit ja koko viihdetarjonnan\, joka 
 huipentaa päiväristeilyn Tallinnaan livemusiikilla.\nYhtyeet ja rtistit 
 esiintyvät klo 18–19 Club X -yökerhossa paluumatkalla Tallinnasta Hels
 inkiin. Päiväristeily lähtee klo 10.30 Helsingin Katajanokan terminaali
 lta ja saapuu takaisin helsinkiin klo 19.30.
CATEGORIES:Keikat
LOCATION:Viking XPRS\, Katajanokan terminaali\, Helsinki\, Suomi
X-APPLE-STRUCTURED-LOCATION;VALUE=URI;X-ADDRESS=Katajanokan terminaali\, He
 lsinki\, Suomi;X-APPLE-RADIUS=100;X-TITLE=Viking XPRS:geo:0,0
END:VEVENT
BEGIN:VEVENT
UID:3-194059@kohokohdat.fi
DTSTART;TZID=Europe/Helsinki:20240327T180000
DTEND;TZID=Europe/Helsinki:20240327T180000
DTSTAMP:20240311T081534Z
URL:https://kohokohdat.fi/helsinki/tapahtuma/tanssimusiikkia-viking-xprsll
 a-2024-sami-rosholm-casanova/
SUMMARY:Tanssimusiikkia Viking XPRS:llä 2024: Sami Rosholm & Casanova
DESCRIPTION:Viking XPRS -päiväristeilyä Tallinnaan myyvä Matkapojat e
 sittelee sivuillaan aluksen tähtiartistit ja koko viihdetarjonnan\, joka 
 huipentaa päiväristeilyn Tallinnaan livemusiikilla.\nYhtyeet ja rtistit 
 esiintyvät klo 18–19 Club X -yökerhossa paluumatkalla Tallinnasta Hels
 inkiin. Päiväristeily lähtee klo 10.30 Helsingin Katajanokan terminaali
 lta ja saapuu takaisin helsinkiin klo 19.30.
CATEGORIES:Keikat
LOCATION:Viking XPRS\, Katajanokan terminaali\, Helsinki\, Suomi
X-APPLE-STRUCTURED-LOCATION;VALUE=URI;X-ADDRESS=Katajanokan terminaali\, He
 lsinki\, Suomi;X-APPLE-RADIUS=100;X-TITLE=Viking XPRS:geo:0,0
END:VEVENT
BEGIN:VEVENT
UID:3-194061@kohokohdat.fi
DTSTART;TZID=Europe/Helsinki:20240402T180000
DTEND;TZID=Europe/Helsinki:20240402T180000
DTSTAMP:20240311T081144Z
URL:https://kohokohdat.fi/helsinki/tapahtuma/tanssimusiikkia-viking-xprsll
 a-2024-charles-plogman-misio/
SUMMARY:Tanssimusiikkia Viking XPRS:llä 2024: Charles Plogman & MiSiO
DESCRIPTION:Viking XPRS -päiväristeilyä Tallinnaan myyvä Matkapojat e
 sittelee sivuillaan aluksen tähtiartistit ja koko viihdetarjonnan\, joka 
 huipentaa päiväristeilyn Tallinnaan livemusiikilla.\nYhtyeet ja rtistit 
 esiintyvät klo 18–19 Club X -yökerhossa paluumatkalla Tallinnasta Hels
 inkiin. Päiväristeily lähtee klo 10.30 Helsingin Katajanokan terminaali
 lta ja saapuu takaisin helsinkiin klo 19.30.
CATEGORIES:Keikat
LOCATION:Viking XPRS\, Katajanokan terminaali\, Helsinki\, Suomi
X-APPLE-STRUCTURED-LOCATION;VALUE=URI;X-ADDRESS=Katajanokan terminaali\, He
 lsinki\, Suomi;X-APPLE-RADIUS=100;X-TITLE=Viking XPRS:geo:0,0
END:VEVENT
BEGIN:VEVENT
UID:3-194062@kohokohdat.fi
DTSTART;TZID=Europe/Helsinki:20240403T180000
DTEND;TZID=Europe/Helsinki:20240403T180000
DTSTAMP:20240311T081541Z
URL:https://kohokohdat.fi/helsinki/tapahtuma/tanssimusiikkia-viking-xprsll
 a-2024-charles-plogman-misio-2/
SUMMARY:Tanssimusiikkia Viking XPRS:llä 2024: Charles Plogman & MiSiO
DESCRIPTION:Viking XPRS -päiväristeilyä Tallinnaan myyvä Matkapojat e
 sittelee sivuillaan aluksen tähtiartistit ja koko viihdetarjonnan\, joka 
 huipentaa päiväristeilyn Tallinnaan livemusiikilla.\nYhtyeet ja rtistit 
 esiintyvät klo 18–19 Club X -yökerhossa paluumatkalla Tallinnasta Hels
 inkiin. Päiväristeily lähtee klo 10.30 Helsingin Katajanokan terminaali
 lta ja saapuu takaisin helsinkiin klo 19.30.
CATEGORIES:Keikat
LOCATION:Viking XPRS\, Katajanokan terminaali\, Helsinki\, Suomi
X-APPLE-STRUCTURED-LOCATION;VALUE=URI;X-ADDRESS=Katajanokan terminaali\, He
 lsinki\, Suomi;X-APPLE-RADIUS=100;X-TITLE=Viking XPRS:geo:0,0
END:VEVENT
BEGIN:VEVENT
UID:3-194063@kohokohdat.fi
DTSTART;TZID=Europe/Helsinki:20240410T180000
DTEND;TZID=Europe/Helsinki:20240410T180000
DTSTAMP:20240311T081546Z
URL:https://kohokohdat.fi/helsinki/tapahtuma/tanssimusiikkia-viking-xprsll
 a-2024-leif-lindeman-rosette/
SUMMARY:Tanssimusiikkia Viking XPRS:llä 2024: Leif Lindeman & Rosette
DESCRIPTION:Viking XPRS -päiväristeilyä Tallinnaan myyvä Matkapojat e
 sittelee sivuillaan aluksen tähtiartistit ja koko viihdetarjonnan\, joka 
 huipentaa päiväristeilyn Tallinnaan livemusiikilla.\nYhtyeet ja rtistit 
 esiintyvät klo 18–19 Club X -yökerhossa paluumatkalla Tallinnasta Hels
 inkiin. Päiväristeily lähtee klo 10.30 Helsingin Katajanokan terminaali
 lta ja saapuu takaisin helsinkiin klo 19.30.
CATEGORIES:Keikat
LOCATION:Viking XPRS\, Katajanokan terminaali\, Helsinki\, Suomi
X-APPLE-STRUCTURED-LOCATION;VALUE=URI;X-ADDRESS=Katajanokan terminaali\, He
 lsinki\, Suomi;X-APPLE-RADIUS=100;X-TITLE=Viking XPRS:geo:0,0
END:VEVENT
BEGIN:VEVENT
UID:3-194064@kohokohdat.fi
DTSTART;TZID=Europe/Helsinki:20240416T180000
DTEND;TZID=Europe/Helsinki:20240416T180000
DTSTAMP:20240311T081551Z
URL:https://kohokohdat.fi/helsinki/tapahtuma/tanssimusiikkia-viking-xprsll
 a-2024-taikakuu/
SUMMARY:Tanssimusiikkia Viking XPRS:llä 2024: Taikakuu
DESCRIPTION:Viking XPRS -päiväristeilyä Tallinnaan myyvä Matkapojat e
 sittelee sivuillaan aluksen tähtiartistit ja koko viihdetarjonnan\, joka 
 huipentaa päiväristeilyn Tallinnaan livemusiikilla.\nYhtyeet ja rtistit 
 esiintyvät klo 18–19 Club X -yökerhossa paluumatkalla Tallinnasta Hels
 inkiin. Päiväristeily lähtee klo 10.30 Helsingin Katajanokan terminaali
 lta ja saapuu takaisin helsinkiin klo 19.30.
CATEGORIES:Keikat
LOCATION:Viking XPRS\, Katajanokan terminaali\, Helsinki\, Suomi
X-APPLE-STRUCTURED-LOCATION;VALUE=URI;X-ADDRESS=Katajanokan terminaali\, He
 lsinki\, Suomi;X-APPLE-RADIUS=100;X-TITLE=Viking XPRS:geo:0,0
END:VEVENT
BEGIN:VEVENT
UID:3-194069@kohokohdat.fi
DTSTART;TZID=Europe/Helsinki:20240417T180000
DTEND;TZID=Europe/Helsinki:20240417T180000
DTSTAMP:20240311T081556Z
URL:https://kohokohdat.fi/helsinki/tapahtuma/tanssimusiikkia-viking-xprsll
 a-2024-taikakuu-2/
SUMMARY:Tanssimusiikkia Viking XPRS:llä 2024: Taikakuu
DESCRIPTION:Viking XPRS -päiväristeilyä Tallinnaan myyvä Matkapojat e
 sittelee sivuillaan aluksen tähtiartistit ja koko viihdetarjonnan\, joka 
 huipentaa päiväristeilyn Tallinnaan livemusiikilla.\nYhtyeet ja rtistit 
 esiintyvät klo 18–19 Club X -yökerhossa paluumatkalla Tallinnasta Hels
 inkiin. Päiväristeily lähtee klo 10.30 Helsingin Katajanokan terminaali
 lta ja saapuu takaisin helsinkiin klo 19.30.
CATEGORIES:Keikat
LOCATION:Viking XPRS\, Katajanokan terminaali\, Helsinki\, Suomi
X-APPLE-STRUCTURED-LOCATION;VALUE=URI;X-ADDRESS=Katajanokan terminaali\, He
 lsinki\, Suomi;X-APPLE-RADIUS=100;X-TITLE=Viking XPRS:geo:0,0
END:VEVENT
BEGIN:VEVENT
UID:3-194050@kohokohdat.fi
DTSTART;TZID=Europe/Helsinki:20240420T180000
DTEND;TZID=Europe/Helsinki:20240420T180000
DTSTAMP:20240311T081602Z
URL:https://kohokohdat.fi/helsinki/tapahtuma/keikat-viking-xprslla-2024-re
 ssu-redford/
SUMMARY:Keikat Viking XPRS:llä 2024: Ressu Redford
DESCRIPTION:Viking XPRS -päiväristeilyä Tallinnaan myyvä Matkapojat esi
 ttelee sivuillaan aluksen tähtiartistit ja koko viihdetarjonnan\, joka hu
 ipentaa päiväristeilyn Tallinnaan livemusiikilla.\nTähtiartistit esiint
 yvät klo 18–19 Club X -yökerhossa paluumatkalla Tallinnasta Helsinkiin
 . Päiväristeily lähtee klo 10.30 Helsingin Katajanokan terminaalilta ja
  saapuu takaisin helsinkiin klo 19.30.
ATTACH;FMTTYPE=image/jpeg:https://kohokohdat.fi/helsinki/wp-content/upload
 s/sites/3/2021/07/ressu-redford-keikat.jpg
CATEGORIES:Keikat
LOCATION:Viking XPRS\, Katajanokan terminaali\, Helsinki\, Suomi
X-APPLE-STRUCTURED-LOCATION;VALUE=URI;X-ADDRESS=Katajanokan terminaali\, He
 lsinki\, Suomi;X-APPLE-RADIUS=100;X-TITLE=Viking XPRS:geo:0,0
END:VEVENT
BEGIN:VEVENT
UID:3-194065@kohokohdat.fi
DTSTART;TZID=Europe/Helsinki:20240423T180000
DTEND;TZID=Europe/Helsinki:20240423T180000
DTSTAMP:20240311T081608Z
URL:https://kohokohdat.fi/helsinki/tapahtuma/tanssimusiikkia-viking-xprsll
 a-2024-albert-salminen-the-gallants/
SUMMARY:Tanssimusiikkia Viking XPRS:llä 2024: Albert Salminen & The Gallan
 ts
DESCRIPTION:Viking XPRS -päiväristeilyä Tallinnaan myyvä Matkapojat e
 sittelee sivuillaan aluksen tähtiartistit ja koko viihdetarjonnan\, joka 
 huipentaa päiväristeilyn Tallinnaan livemusiikilla.\nYhtyeet ja rtistit 
 esiintyvät klo 18–19 Club X -yökerhossa paluumatkalla Tallinnasta Hels
 inkiin. Päiväristeily lähtee klo 10.30 Helsingin Katajanokan terminaali
 lta ja saapuu takaisin helsinkiin klo 19.30.
CATEGORIES:Keikat
LOCATION:Viking XPRS\, Katajanokan terminaali\, Helsinki\, Suomi
X-APPLE-STRUCTURED-LOCATION;VALUE=URI;X-ADDRESS=Katajanokan terminaali\, He
 lsinki\, Suomi;X-APPLE-RADIUS=100;X-TITLE=Viking XPRS:geo:0,0
END:VEVENT
BEGIN:VEVENT
UID:3-194066@kohokohdat.fi
DTSTART;TZID=Europe/Helsinki:20240424T180000
DTEND;TZID=Europe/Helsinki:20240424T180000
DTSTAMP:20240311T081615Z
URL:https://kohokohdat.fi/helsinki/tapahtuma/tanssimusiikkia-viking-xprsll
 a-2024-mikko-makelainen-myrskylyhty/
SUMMARY:Tanssimusiikkia Viking XPRS:llä 2024: Mikko Mäkeläinen & Myrskyl
 yhty
DESCRIPTION:Viking XPRS -päiväristeilyä Tallinnaan myyvä Matkapojat e
 sittelee sivuillaan aluksen tähtiartistit ja koko viihdetarjonnan\, joka 
 huipentaa päiväristeilyn Tallinnaan livemusiikilla.\nYhtyeet ja rtistit 
 esiintyvät klo 18–19 Club X -yökerhossa paluumatkalla Tallinnasta Hels
 inkiin. Päiväristeily lähtee klo 10.30 Helsingin Katajanokan terminaali
 lta ja saapuu takaisin helsinkiin klo 19.30.
CATEGORIES:Keikat
LOCATION:Viking XPRS\, Katajanokan terminaali\, Helsinki\, Suomi
X-APPLE-STRUCTURED-LOCATION;VALUE=URI;X-ADDRESS=Katajanokan terminaali\, He
 lsinki\, Suomi;X-APPLE-RADIUS=100;X-TITLE=Viking XPRS:geo:0,0
END:VEVENT
BEGIN:VEVENT
UID:3-194051@kohokohdat.fi
DTSTART;TZID=Europe/Helsinki:20240504T180000
DTEND;TZID=Europe/Helsinki:20240504T180000
DTSTAMP:20240311T081619Z
URL:https://kohokohdat.fi/helsinki/tapahtuma/keikat-viking-xprslla-2024-vi
 rve-rosti-freeman-menneisyyden-vangit/
SUMMARY:Keikat Viking XPRS:llä 2024: Virve Rosti\, Freeman & Menneisyyden 
 Vangit
DESCRIPTION:Viking XPRS -päiväristeilyä Tallinnaan myyvä Matkapojat esi
 ttelee sivuillaan aluksen tähtiartistit ja koko viihdetarjonnan\, joka hu
 ipentaa päiväristeilyn Tallinnaan livemusiikilla.\nTähtiartistit esiint
 yvät klo 18–19 Club X -yökerhossa paluumatkalla Tallinnasta Helsinkiin
 . Päiväristeily lähtee klo 10.30 Helsingin Katajanokan terminaalilta ja
  saapuu takaisin helsinkiin klo 19.30.
ATTACH;FMTTYPE=image/jpeg:https://kohokohdat.fi/helsinki/wp-content/upload
 s/sites/3/2023/06/virve-rosti-menneisyyden-vangit-keikat.jpg
CATEGORIES:Keikat
LOCATION:Viking XPRS\, Katajanokan terminaali\, Helsinki\, Suomi
X-APPLE-STRUCTURED-LOCATION;VALUE=URI;X-ADDRESS=Katajanokan terminaali\, He
 lsinki\, Suomi;X-APPLE-RADIUS=100;X-TITLE=Viking XPRS:geo:0,0
END:VEVENT
BEGIN:VEVENT
UID:3-194067@kohokohdat.fi
DTSTART;TZID=Europe/Helsinki:20240507T180000
DTEND;TZID=Europe/Helsinki:20240507T180000
DTSTAMP:20240311T081624Z
URL:https://kohokohdat.fi/helsinki/tapahtuma/tanssimusiikkia-viking-xprsll
 a-2024-heidi-pakarinen-hot/
SUMMARY:Tanssimusiikkia Viking XPRS:llä 2024: Heidi Pakarinen & HOT
DESCRIPTION:Viking XPRS -päiväristeilyä Tallinnaan myyvä Matkapojat e
 sittelee sivuillaan aluksen tähtiartistit ja koko viihdetarjonnan\, joka 
 huipentaa päiväristeilyn Tallinnaan livemusiikilla.\nYhtyeet ja rtistit 
 esiintyvät klo 18–19 Club X -yökerhossa paluumatkalla Tallinnasta Hels
 inkiin. Päiväristeily lähtee klo 10.30 Helsingin Katajanokan terminaali
 lta ja saapuu takaisin helsinkiin klo 19.30.
CATEGORIES:Keikat
LOCATION:Viking XPRS\, Katajanokan terminaali\, Helsinki\, Suomi
X-APPLE-STRUCTURED-LOCATION;VALUE=URI;X-ADDRESS=Katajanokan terminaali\, He
 lsinki\, Suomi;X-APPLE-RADIUS=100;X-TITLE=Viking XPRS:geo:0,0
END:VEVENT
BEGIN:VEVENT
UID:3-194068@kohokohdat.fi
DTSTART;TZID=Europe/Helsinki:20240508T180000
DTEND;TZID=Europe/Helsinki:20240508T180000
DTSTAMP:20240311T081629Z
URL:https://kohokohdat.fi/helsinki/tapahtuma/tanssimusiikkia-viking-xprsll
 a-2024-charles-plogmans-orkester/
SUMMARY:Tanssimusiikkia Viking XPRS:llä 2024: Charles Plogmans orkester
DESCRIPTION:Viking XPRS -päiväristeilyä Tallinnaan myyvä Matkapojat e
 sittelee sivuillaan aluksen tähtiartistit ja koko viihdetarjonnan\, joka 
 huipentaa päiväristeilyn Tallinnaan livemusiikilla.\nYhtyeet ja rtistit 
 esiintyvät klo 18–19 Club X -yökerhossa paluumatkalla Tallinnasta Hels
 inkiin. Päiväristeily lähtee klo 10.30 Helsingin Katajanokan terminaali
 lta ja saapuu takaisin helsinkiin klo 19.30.
CATEGORIES:Keikat
LOCATION:Viking XPRS\, Katajanokan terminaali\, Helsinki\, Suomi
X-APPLE-STRUCTURED-LOCATION;VALUE=URI;X-ADDRESS=Katajanokan terminaali\, He
 lsinki\, Suomi;X-APPLE-RADIUS=100;X-TITLE=Viking XPRS:geo:0,0
END:VEVENT
BEGIN:VEVENT
UID:3-194070@kohokohdat.fi
DTSTART;TZID=Europe/Helsinki:20240514T180000
DTEND;TZID=Europe/Helsinki:20240514T180000
DTSTAMP:20240311T081634Z
URL:https://kohokohdat.fi/helsinki/tapahtuma/tanssimusiikkia-viking-xprsll
 a-2024-teemu-roivainen-energia/
SUMMARY:Tanssimusiikkia Viking XPRS:llä 2024: Teemu Roivainen  & Energia
DESCRIPTION:Viking XPRS -päiväristeilyä Tallinnaan myyvä Matkapojat e
 sittelee sivuillaan aluksen tähtiartistit ja koko viihdetarjonnan\, joka 
 huipentaa päiväristeilyn Tallinnaan livemusiikilla.\nYhtyeet ja rtistit 
 esiintyvät klo 18–19 Club X -yökerhossa paluumatkalla Tallinnasta Hels
 inkiin. Päiväristeily lähtee klo 10.30 Helsingin Katajanokan terminaali
 lta ja saapuu takaisin helsinkiin klo 19.30.
CATEGORIES:Keikat
LOCATION:Viking XPRS\, Katajanokan terminaali\, Helsinki\, Suomi
X-APPLE-STRUCTURED-LOCATION;VALUE=URI;X-ADDRESS=Katajanokan terminaali\, He
 lsinki\, Suomi;X-APPLE-RADIUS=100;X-TITLE=Viking XPRS:geo:0,0
END:VEVENT
BEGIN:VEVENT
UID:3-194071@kohokohdat.fi
DTSTART;TZID=Europe/Helsinki:20240515T180000
DTEND;TZID=Europe/Helsinki:20240515T180000
DTSTAMP:20240311T081642Z
URL:https://kohokohdat.fi/helsinki/tapahtuma/tanssimusiikkia-viking-xprsll
 a-2024-teemu-roivainen-energia-2/
SUMMARY:Tanssimusiikkia Viking XPRS:llä 2024: Teemu Roivainen  & Energia
DESCRIPTION:Viking XPRS -päiväristeilyä Tallinnaan myyvä Matkapojat e
 sittelee sivuillaan aluksen tähtiartistit ja koko viihdetarjonnan\, joka 
 huipentaa päiväristeilyn Tallinnaan livemusiikilla.\nYhtyeet ja rtistit 
 esiintyvät klo 18–19 Club X -yökerhossa paluumatkalla Tallinnasta Hels
 inkiin. Päiväristeily lähtee klo 10.30 Helsingin Katajanokan terminaali
 lta ja saapuu takaisin helsinkiin klo 19.30.
CATEGORIES:Keikat
LOCATION:Viking XPRS\, Katajanokan terminaali\, Helsinki\, Suomi
X-APPLE-STRUCTURED-LOCATION;VALUE=URI;X-ADDRESS=Katajanokan terminaali\, He
 lsinki\, Suomi;X-APPLE-RADIUS=100;X-TITLE=Viking XPRS:geo:0,0
END:VEVENT
BEGIN:VEVENT
UID:3-194052@kohokohdat.fi
DTSTART;TZID=Europe/Helsinki:20240518T180000
DTEND;TZID=Europe/Helsinki:20240518T180000
DTSTAMP:20240311T081649Z
URL:https://kohokohdat.fi/helsinki/tapahtuma/keikat-viking-xprslla-2024-ei
 ni/
SUMMARY:Keikat Viking XPRS:llä 2024: Eini
DESCRIPTION:Viking XPRS -päiväristeilyä Tallinnaan myyvä Matkapojat esi
 ttelee sivuillaan aluksen tähtiartistit ja koko viihdetarjonnan\, joka hu
 ipentaa päiväristeilyn Tallinnaan livemusiikilla.\nTähtiartistit esiint
 yvät klo 18–19 Club X -yökerhossa paluumatkalla Tallinnasta Helsinkiin
 . Päiväristeily lähtee klo 10.30 Helsingin Katajanokan terminaalilta ja
  saapuu takaisin helsinkiin klo 19.30.
ATTACH;FMTTYPE=image/jpeg:https://kohokohdat.fi/helsinki/wp-content/upload
 s/sites/3/2023/06/eini-keikat-2023.jpg
CATEGORIES:Keikat
LOCATION:Viking XPRS\, Katajanokan terminaali\, Helsinki\, Suomi
X-APPLE-STRUCTURED-LOCATION;VALUE=URI;X-ADDRESS=Katajanokan terminaali\, He
 lsinki\, Suomi;X-APPLE-RADIUS=100;X-TITLE=Viking XPRS:geo:0,0
END:VEVENT
BEGIN:VEVENT
UID:3-194072@kohokohdat.fi
DTSTART;TZID=Europe/Helsinki:20240521T180000
DTEND;TZID=Europe/Helsinki:20240521T180000
DTSTAMP:20240311T081654Z
URL:https://kohokohdat.fi/helsinki/tapahtuma/tanssimusiikkia-viking-xprsll
 a-2024-weranta/
SUMMARY:Tanssimusiikkia Viking XPRS:llä 2024: Weranta
DESCRIPTION:Viking XPRS -päiväristeilyä Tallinnaan myyvä Matkapojat e
 sittelee sivuillaan aluksen tähtiartistit ja koko viihdetarjonnan\, joka 
 huipentaa päiväristeilyn Tallinnaan livemusiikilla.\nYhtyeet ja rtistit 
 esiintyvät klo 18–19 Club X -yökerhossa paluumatkalla Tallinnasta Hels
 inkiin. Päiväristeily lähtee klo 10.30 Helsingin Katajanokan terminaali
 lta ja saapuu takaisin helsinkiin klo 19.30.
CATEGORIES:Keikat
LOCATION:Viking XPRS\, Katajanokan terminaali\, Helsinki\, Suomi
X-APPLE-STRUCTURED-LOCATION;VALUE=URI;X-ADDRESS=Katajanokan terminaali\, He
 lsinki\, Suomi;X-APPLE-RADIUS=100;X-TITLE=Viking XPRS:geo:0,0
END:VEVENT
BEGIN:VEVENT
UID:3-194073@kohokohdat.fi
DTSTART;TZID=Europe/Helsinki:20240528T180000
DTEND;TZID=Europe/Helsinki:20240528T180000
DTSTAMP:20240311T081700Z
URL:https://kohokohdat.fi/helsinki/tapahtuma/tanssimusiikkia-viking-xprsll
 a-2024-kari-hirvonen-onnentahti-2/
SUMMARY:Tanssimusiikkia Viking XPRS:llä 2024: Kari Hirvonen & Onnentähti
DESCRIPTION:Viking XPRS -päiväristeilyä Tallinnaan myyvä Matkapojat e
 sittelee sivuillaan aluksen tähtiartistit ja koko viihdetarjonnan\, joka 
 huipentaa päiväristeilyn Tallinnaan livemusiikilla.\nYhtyeet ja rtistit 
 esiintyvät klo 18–19 Club X -yökerhossa paluumatkalla Tallinnasta Hels
 inkiin. Päiväristeily lähtee klo 10.30 Helsingin Katajanokan terminaali
 lta ja saapuu takaisin helsinkiin klo 19.30.
CATEGORIES:Keikat
LOCATION:Viking XPRS\, Katajanokan terminaali\, Helsinki\, Suomi
X-APPLE-STRUCTURED-LOCATION;VALUE=URI;X-ADDRESS=Katajanokan terminaali\, He
 lsinki\, Suomi;X-APPLE-RADIUS=100;X-TITLE=Viking XPRS:geo:0,0
END:VEVENT
BEGIN:VEVENT
UID:3-194053@kohokohdat.fi
DTSTART;TZID=Europe/Helsinki:20240601T180000
DTEND;TZID=Europe/Helsinki:20240601T180000
DTSTAMP:20240311T081706Z
URL:https://kohokohdat.fi/helsinki/tapahtuma/keikat-viking-xprslla-2024-mu
 ska-hot-dogs/
SUMMARY:Keikat Viking XPRS:llä 2024: Muska & Hot Dogs
DESCRIPTION:Viking XPRS -päiväristeilyä Tallinnaan myyvä Matkapojat esi
 ttelee sivuillaan aluksen tähtiartistit ja koko viihdetarjonnan\, joka hu
 ipentaa päiväristeilyn Tallinnaan livemusiikilla.\nTähtiartistit esiint
 yvät klo 18–19 Club X -yökerhossa paluumatkalla Tallinnasta Helsinkiin
 . Päiväristeily lähtee klo 10.30 Helsingin Katajanokan terminaalilta ja
  saapuu takaisin helsinkiin klo 19.30.
CATEGORIES:Keikat
LOCATION:Viking XPRS\, Katajanokan terminaali\, Helsinki\, Suomi
X-APPLE-STRUCTURED-LOCATION;VALUE=URI;X-ADDRESS=Katajanokan terminaali\, He
 lsinki\, Suomi;X-APPLE-RADIUS=100;X-TITLE=Viking XPRS:geo:0,0
END:VEVENT
BEGIN:VEVENT
UID:3-194074@kohokohdat.fi
DTSTART;TZID=Europe/Helsinki:20240604T180000
DTEND;TZID=Europe/Helsinki:20240604T180000
DTSTAMP:20240311T081713Z
URL:https://kohokohdat.fi/helsinki/tapahtuma/tanssimusiikkia-viking-xprsll
 a-2024-komiat/
SUMMARY:Tanssimusiikkia Viking XPRS:llä 2024: Komiat
DESCRIPTION:Viking XPRS -päiväristeilyä Tallinnaan myyvä Matkapojat e
 sittelee sivuillaan aluksen tähtiartistit ja koko viihdetarjonnan\, joka 
 huipentaa päiväristeilyn Tallinnaan livemusiikilla.\nYhtyeet ja rtistit 
 esiintyvät klo 18–19 Club X -yökerhossa paluumatkalla Tallinnasta Hels
 inkiin. Päiväristeily lähtee klo 10.30 Helsingin Katajanokan terminaali
 lta ja saapuu takaisin helsinkiin klo 19.30.
CATEGORIES:Keikat
LOCATION:Viking XPRS\, Katajanokan terminaali\, Helsinki\, Suomi
X-APPLE-STRUCTURED-LOCATION;VALUE=URI;X-ADDRESS=Katajanokan terminaali\, He
 lsinki\, Suomi;X-APPLE-RADIUS=100;X-TITLE=Viking XPRS:geo:0,0
END:VEVENT
BEGIN:VEVENT
UID:3-194075@kohokohdat.fi
DTSTART;TZID=Europe/Helsinki:20240605T180000
DTEND;TZID=Europe/Helsinki:20240605T180000
DTSTAMP:20240311T081716Z
URL:https://kohokohdat.fi/helsinki/tapahtuma/tanssimusiikkia-viking-xprsll
 a-2024-komiat-2/
SUMMARY:Tanssimusiikkia Viking XPRS:llä 2024: Komiat
DESCRIPTION:Viking XPRS -päiväristeilyä Tallinnaan myyvä Matkapojat e
 sittelee sivuillaan aluksen tähtiartistit ja koko viihdetarjonnan\, joka 
 huipentaa päiväristeilyn Tallinnaan livemusiikilla.\nYhtyeet ja rtistit 
 esiintyvät klo 18–19 Club X -yökerhossa paluumatkalla Tallinnasta Hels
 inkiin. Päiväristeily lähtee klo 10.30 Helsingin Katajanokan terminaali
 lta ja saapuu takaisin helsinkiin klo 19.30.
CATEGORIES:Keikat
LOCATION:Viking XPRS\, Katajanokan terminaali\, Helsinki\, Suomi
X-APPLE-STRUCTURED-LOCATION;VALUE=URI;X-ADDRESS=Katajanokan terminaali\, He
 lsinki\, Suomi;X-APPLE-RADIUS=100;X-TITLE=Viking XPRS:geo:0,0
END:VEVENT
BEGIN:VTIMEZONE
TZID:Europe/Helsinki
X-LIC-LOCATION:Europe/Helsinki
BEGIN:STANDARD
DTSTART:20231029T030000
TZOFFSETFROM:+0300
TZOFFSETTO:+0200
TZNAME:EET
END:STANDARD
BEGIN:DAYLIGHT
DTSTART:20240331T040000
TZOFFSETFROM:+0200
TZOFFSETTO:+0300
TZNAME:EEST
END:DAYLIGHT
END:VTIMEZONE
END:VCALENDAR