BEGIN:VCALENDAR
VERSION:2.0
PRODID:-//wp-events-plugin.com//7.2.3.1//EN
TZID:Europe/Helsinki
X-WR-TIMEZONE:Europe/Helsinki
BEGIN:VEVENT
UID:3-194033@kohokohdat.fi
DTSTART;TZID=Europe/Helsinki:20240302T180000
DTEND;TZID=Europe/Helsinki:20240302T180000
DTSTAMP:20240216T155225Z
URL:https://kohokohdat.fi/helsinki/tapahtuma/tuike-comedy-club-kolme-miest
 a-ja-maybe/
SUMMARY:Tuike Comedy Club: Kolme miestä ja Maybe?
DESCRIPTION:Teatteri Tuike perusti koomikoille omistetun ja heitä juhlista
 van komediaklubin. Lauantaina 2.3. lavalla nähdään Kolme miestä ja May
 be?\nKolme Miestä ja Maybe? -stand up -kiertue on nimensä mukaisesti kol
 men palkitun\, ylistetyn ja taatusti vahvasti omanlaisensa pitkän linjan 
 koomikon yhteiskiertue. Keikoilla esiintyvät nämä kolme miestä ja bonu
 ksena ”maybe”\, joka voi illasta riippuen joko olla joku\, tai sitten 
 ei… Se selviää vain tulemalla paikan päälle ja katsomalla koko show!
 \n\nToni Jyvälä Televisiossakin esitetyn`Naurun Tasapaino` -stand up -k
 ilpailun finalisti\, `Nelosen Stand Up!`-ohjelmassa ja lähes kaikilla Suo
 men stand up -klubeilla ja -lavoilla nähty kiertueiltojen energinen isän
 tä!\n\nRobert Pettersson Mustan one liner -komiikan mestari\, Synkäksi 
 Lunastajaksikin joskus kutsuttu\, mm. Nelosen Stand Up!`-ohjelmasta tuttu\
 , ja Vuoden stand up -tulokas` -tittelillä aikanaan palkittu koomikko.\n\
 nTEURiS Vuoden stand up -tulokas -kilpailun finalisti\, ja myöhemmin kok
 o Suomen stand up -alan omaperäisimmäksi ja omituisimmaksi tituleerattu 
 – jo lähes kulttimaineen saavuttanut – esiintyjä!\n…ja Maybe? Voi 
 olla joku\, tai ei kukaan…
ATTACH;FMTTYPE=image/jpeg:https://kohokohdat.fi/helsinki/wp-content/upload
 s/sites/3/2024/02/kolme-miesta-ja-maybe.jpg
CATEGORIES:Keikat,Stand up
LOCATION:Teatteri Tuike\, Viertolantie 2\, Helsinki\, Suomi
GEO:60.261591;25.025642
X-APPLE-STRUCTURED-LOCATION;VALUE=URI;X-ADDRESS=Viertolantie 2\, Helsinki\,
  Suomi;X-APPLE-RADIUS=100;X-TITLE=Teatteri Tuike:geo:60.261591,25.025642
END:VEVENT
BEGIN:VEVENT
UID:3-194034@kohokohdat.fi
DTSTART;TZID=Europe/Helsinki:20240413T180000
DTEND;TZID=Europe/Helsinki:20240413T180000
DTSTAMP:20240216T154947Z
URL:https://kohokohdat.fi/helsinki/tapahtuma/tuike-comedy-club-all-english
 -comedy/
SUMMARY:Tuike Comedy Club: All English comedy
DESCRIPTION:Teatteri Tuike perusti koomikoille omistetun ja heitä juhlista
 van komediaklubin. Lauantaina 2.3. lavalla nähdään All English comedy.
CATEGORIES:Keikat,Stand up
LOCATION:Teatteri Tuike\, Viertolantie 2\, Helsinki\, Suomi
GEO:60.261591;25.025642
X-APPLE-STRUCTURED-LOCATION;VALUE=URI;X-ADDRESS=Viertolantie 2\, Helsinki\,
  Suomi;X-APPLE-RADIUS=100;X-TITLE=Teatteri Tuike:geo:60.261591,25.025642
END:VEVENT
BEGIN:VTIMEZONE
TZID:Europe/Helsinki
X-LIC-LOCATION:Europe/Helsinki
BEGIN:STANDARD
DTSTART:20231029T030000
TZOFFSETFROM:+0300
TZOFFSETTO:+0200
TZNAME:EET
END:STANDARD
BEGIN:DAYLIGHT
DTSTART:20240331T040000
TZOFFSETFROM:+0200
TZOFFSETTO:+0300
TZNAME:EEST
END:DAYLIGHT
END:VTIMEZONE
END:VCALENDAR