BEGIN:VCALENDAR
VERSION:2.0
PRODID:-//wp-events-plugin.com//7.2.3.1//EN
TZID:Europe/Helsinki
X-WR-TIMEZONE:Europe/Helsinki
BEGIN:VEVENT
UID:3-191887@kohokohdat.fi
DTSTART;TZID=Europe/Helsinki:20240203T190000
DTEND;TZID=Europe/Helsinki:20240203T190000
DTSTAMP:20240117T075103Z
URL:https://kohokohdat.fi/helsinki/tapahtuma/suomen-stand-up-club/
SUMMARY:Suomen Stand Up Club: Fathi Ahmed – Sisäkkö\, kokki\, TV-tähti
DESCRIPTION:Kaikki stand up -show't ovat anniskelutilaisuuksia K18. Lasin s
 aa viedä saliin.
CATEGORIES:Keikat,Stand up
LOCATION:Teatteri Avoimet ovet\, Erottajankatu 5\, Helsinki\, Suomi
GEO:60.164757;24.944198
X-APPLE-STRUCTURED-LOCATION;VALUE=URI;X-ADDRESS=Erottajankatu 5\, Helsinki\
 , Suomi;X-APPLE-RADIUS=100;X-TITLE=Teatteri Avoimet ovet:geo:60.164757,24.
 944198
END:VEVENT
BEGIN:VEVENT
UID:3-191888@kohokohdat.fi
DTSTART;TZID=Europe/Helsinki:20240223T190000
DTEND;TZID=Europe/Helsinki:20240223T190000
DTSTAMP:20240117T075115Z
URL:https://kohokohdat.fi/helsinki/tapahtuma/suomen-stand-up-club-jape-jus
 si-hesoissa/
SUMMARY:Suomen Stand Up Club: Jape & Jussi Hesoissa
DESCRIPTION:Kaikki stand up -show't ovat anniskelutilaisuuksia K18. Lasin s
 aa viedä saliin.
CATEGORIES:Keikat,Stand up
LOCATION:Teatteri Avoimet ovet\, Erottajankatu 5\, Helsinki\, Suomi
GEO:60.164757;24.944198
X-APPLE-STRUCTURED-LOCATION;VALUE=URI;X-ADDRESS=Erottajankatu 5\, Helsinki\
 , Suomi;X-APPLE-RADIUS=100;X-TITLE=Teatteri Avoimet ovet:geo:60.164757,24.
 944198
END:VEVENT
BEGIN:VEVENT
UID:3-191891@kohokohdat.fi
DTSTART;TZID=Europe/Helsinki:20240224T190000
DTEND;TZID=Europe/Helsinki:20240224T190000
DTSTAMP:20240117T075159Z
URL:https://kohokohdat.fi/helsinki/tapahtuma/suomen-stand-up-club-mikko-va
 ismaa-omaa-aikaa/
SUMMARY:Suomen Stand Up Club: Mikko Vaismaa – omaa aikaa
DESCRIPTION:Kaikki stand up -show't ovat anniskelutilaisuuksia K18. Lasin s
 aa viedä saliin.
ATTACH;FMTTYPE=image/jpeg:https://kohokohdat.fi/helsinki/wp-content/upload
 s/sites/3/2017/08/Mikko-Vaismaa-2016.jpg
CATEGORIES:Keikat,Stand up
LOCATION:Teatteri Avoimet ovet\, Erottajankatu 5\, Helsinki\, Suomi
GEO:60.164757;24.944198
X-APPLE-STRUCTURED-LOCATION;VALUE=URI;X-ADDRESS=Erottajankatu 5\, Helsinki\
 , Suomi;X-APPLE-RADIUS=100;X-TITLE=Teatteri Avoimet ovet:geo:60.164757,24.
 944198
END:VEVENT
BEGIN:VEVENT
UID:3-191893@kohokohdat.fi
DTSTART;TZID=Europe/Helsinki:20240316T190000
DTEND;TZID=Europe/Helsinki:20240316T190000
DTSTAMP:20240117T075233Z
URL:https://kohokohdat.fi/helsinki/tapahtuma/suomen-stand-up-club-all-star
 s-vuoden-stand-up-tulokas-voittajat/
SUMMARY:Suomen Stand Up Club: All Stars – Vuoden Stand Up -tulokas -voitt
 ajat
DESCRIPTION:Kaikki stand up -show't ovat anniskelutilaisuuksia K18. Lasin s
 aa viedä saliin.
ATTACH;FMTTYPE=image/jpeg:https://kohokohdat.fi/helsinki/wp-content/upload
 s/sites/3/2024/01/suomen-stand-up-club.jpg
CATEGORIES:Keikat,Stand up
LOCATION:Teatteri Avoimet ovet\, Erottajankatu 5\, Helsinki\, Suomi
GEO:60.164757;24.944198
X-APPLE-STRUCTURED-LOCATION;VALUE=URI;X-ADDRESS=Erottajankatu 5\, Helsinki\
 , Suomi;X-APPLE-RADIUS=100;X-TITLE=Teatteri Avoimet ovet:geo:60.164757,24.
 944198
END:VEVENT
BEGIN:VEVENT
UID:3-191894@kohokohdat.fi
DTSTART;TZID=Europe/Helsinki:20240317T190000
DTEND;TZID=Europe/Helsinki:20240317T190000
DTSTAMP:20240117T075303Z
URL:https://kohokohdat.fi/helsinki/tapahtuma/suomen-stand-up-club-ray-zamb
 ino-the-man-myth-and-legend/
SUMMARY:Suomen Stand Up Club: Ray Zambino – The man. Myth and legend
DESCRIPTION:Kaikki stand up -show't ovat anniskelutilaisuuksia K18. Lasin s
 aa viedä saliin.
CATEGORIES:Keikat,Stand up
LOCATION:Teatteri Avoimet ovet\, Erottajankatu 5\, Helsinki\, Suomi
GEO:60.164757;24.944198
X-APPLE-STRUCTURED-LOCATION;VALUE=URI;X-ADDRESS=Erottajankatu 5\, Helsinki\
 , Suomi;X-APPLE-RADIUS=100;X-TITLE=Teatteri Avoimet ovet:geo:60.164757,24.
 944198
END:VEVENT
BEGIN:VEVENT
UID:3-191892@kohokohdat.fi
DTSTART;TZID=Europe/Helsinki:20240322T190000
DTEND;TZID=Europe/Helsinki:20240322T190000
DTSTAMP:20240117T075215Z
URL:https://kohokohdat.fi/helsinki/tapahtuma/suomen-stand-up-club-mikko-va
 ismaa-omaa-aikaa-2/
SUMMARY:Suomen Stand Up Club: Mikko Vaismaa – omaa aikaa
DESCRIPTION:Kaikki stand up -show't ovat anniskelutilaisuuksia K18. Lasin s
 aa viedä saliin.
ATTACH;FMTTYPE=image/jpeg:https://kohokohdat.fi/helsinki/wp-content/upload
 s/sites/3/2017/08/Mikko-Vaismaa-2016.jpg
CATEGORIES:Keikat,Stand up
LOCATION:Teatteri Avoimet ovet\, Erottajankatu 5\, Helsinki\, Suomi
GEO:60.164757;24.944198
X-APPLE-STRUCTURED-LOCATION;VALUE=URI;X-ADDRESS=Erottajankatu 5\, Helsinki\
 , Suomi;X-APPLE-RADIUS=100;X-TITLE=Teatteri Avoimet ovet:geo:60.164757,24.
 944198
END:VEVENT
BEGIN:VEVENT
UID:3-191890@kohokohdat.fi
DTSTART;TZID=Europe/Helsinki:20240406T160000
DTEND;TZID=Europe/Helsinki:20240406T160000
DTSTAMP:20240117T075136Z
URL:https://kohokohdat.fi/helsinki/tapahtuma/suomen-stand-up-club-jape-jus
 si-hesoissa-3/
SUMMARY:Suomen Stand Up Club: Jape & Jussi Hesoissa
DESCRIPTION:Kaikki stand up -show't ovat anniskelutilaisuuksia K18. Lasin s
 aa viedä saliin.
CATEGORIES:Keikat,Stand up
LOCATION:Teatteri Avoimet ovet\, Erottajankatu 5\, Helsinki\, Suomi
GEO:60.164757;24.944198
X-APPLE-STRUCTURED-LOCATION;VALUE=URI;X-ADDRESS=Erottajankatu 5\, Helsinki\
 , Suomi;X-APPLE-RADIUS=100;X-TITLE=Teatteri Avoimet ovet:geo:60.164757,24.
 944198
END:VEVENT
BEGIN:VEVENT
UID:3-191895@kohokohdat.fi
DTSTART;TZID=Europe/Helsinki:20240518T190000
DTEND;TZID=Europe/Helsinki:20240518T190000
DTSTAMP:20240117T075326Z
URL:https://kohokohdat.fi/helsinki/tapahtuma/suomen-stand-up-club-tomi-hau
 stola-heikki-vilja-vihdoinkin-irti/
SUMMARY:Suomen Stand Up Club: Tomi Haustola & Heikki Vilja – Vihdoinkin i
 rti!
DESCRIPTION:Kaikki stand up -show't ovat anniskelutilaisuuksia K18. Lasin s
 aa viedä saliin.
ATTACH;FMTTYPE=image/jpeg:https://kohokohdat.fi/helsinki/wp-content/upload
 s/sites/3/2023/04/vihdoinkin-irti-stand-up-he.jpg
CATEGORIES:Keikat,Stand up
LOCATION:Teatteri Avoimet ovet\, Erottajankatu 5\, Helsinki\, Suomi
GEO:60.164757;24.944198
X-APPLE-STRUCTURED-LOCATION;VALUE=URI;X-ADDRESS=Erottajankatu 5\, Helsinki\
 , Suomi;X-APPLE-RADIUS=100;X-TITLE=Teatteri Avoimet ovet:geo:60.164757,24.
 944198
END:VEVENT
BEGIN:VEVENT
UID:3-191889@kohokohdat.fi
DTSTART;TZID=Europe/Helsinki:20240911T190000
DTEND;TZID=Europe/Helsinki:20240911T190000
DTSTAMP:20240909T051422Z
URL:https://kohokohdat.fi/helsinki/tapahtuma/suomen-stand-up-club-jape-jus
 si-hesoissa-2/
SUMMARY:Suomen Stand Up Club: Jape & Jussi Hesoissa
DESCRIPTION:Mitä tapahtuu\, kun kaksi suomalaisen komiikan kulmakiveä val
 taavat Teatteri Avoimien Ovien lavan? Onko Hesa valmiina Manse-komiikan ku
 ninkaille Jape Grönroosille ja Jussi Simolalle?\nKaikki stand up -show't 
 ovat anniskelutilaisuuksia K18. Lasin saa viedä saliin.
ATTACH;FMTTYPE=image/jpeg:https://kohokohdat.fi/helsinki/wp-content/upload
 s/sites/3/2017/01/Jussi-simola-stand-up-2017.jpg
CATEGORIES:Keikat,Stand up
LOCATION:Teatteri Avoimet ovet\, Erottajankatu 5\, Helsinki\, Suomi
GEO:60.164757;24.944198
X-APPLE-STRUCTURED-LOCATION;VALUE=URI;X-ADDRESS=Erottajankatu 5\, Helsinki\
 , Suomi;X-APPLE-RADIUS=100;X-TITLE=Teatteri Avoimet ovet:geo:60.164757,24.
 944198
END:VEVENT
BEGIN:VEVENT
UID:3-201760@kohokohdat.fi
DTSTART;TZID=Europe/Helsinki:20240912T190000
DTEND;TZID=Europe/Helsinki:20240912T190000
DTSTAMP:20240909T051439Z
URL:https://kohokohdat.fi/helsinki/tapahtuma/suomen-stand-up-club-jape-jus
 si-hesoissa-4/
SUMMARY:Suomen Stand Up Club: Jape & Jussi Hesoissa
DESCRIPTION:Mitä tapahtuu\, kun kaksi suomalaisen komiikan kulmakiveä val
 taavat Teatteri Avoimien Ovien lavan? Onko Hesa valmiina Manse-komiikan ku
 ninkaille Jape Grönroosille ja Jussi Simolalle?\nKaikki stand up -show't 
 ovat anniskelutilaisuuksia K18. Lasin saa viedä saliin.
ATTACH;FMTTYPE=image/jpeg:https://kohokohdat.fi/helsinki/wp-content/upload
 s/sites/3/2017/01/Jussi-simola-stand-up-2017.jpg
CATEGORIES:Keikat,Stand up
LOCATION:Teatteri Avoimet ovet\, Erottajankatu 5\, Helsinki\, Suomi
GEO:60.164757;24.944198
X-APPLE-STRUCTURED-LOCATION;VALUE=URI;X-ADDRESS=Erottajankatu 5\, Helsinki\
 , Suomi;X-APPLE-RADIUS=100;X-TITLE=Teatteri Avoimet ovet:geo:60.164757,24.
 944198
END:VEVENT
BEGIN:VEVENT
UID:3-201759@kohokohdat.fi
DTSTART;TZID=Europe/Helsinki:20240920T190000
DTEND;TZID=Europe/Helsinki:20240920T190000
DTSTAMP:20240909T051430Z
URL:https://kohokohdat.fi/helsinki/tapahtuma/suomen-stand-up-club-kaisa-py
 lkkanen-syyllinen/
SUMMARY:Suomen Stand Up Club: Kaisa Pylkkänen: Syyllinen
DESCRIPTION:Jos olet joskus miettinyt mikä yhdistää 90-luvun lamaa\, jok
 avuotista takatalvea ja atomipommia\, niin Kaisa Pylkkänen on luultavasti
  syyllinen niihin kaikkiin. Ainakin jos häneltä kysytään.\nKaikki stan
 d up -show't ovat anniskelutilaisuuksia K18. Lasin saa viedä saliin.
ATTACH;FMTTYPE=image/jpeg:https://kohokohdat.fi/helsinki/wp-content/upload
 s/sites/3/2023/01/kaisa-pylkkanen-stand-up-keikat-helsinki.jpg
CATEGORIES:Keikat,Stand up
LOCATION:Teatteri Avoimet ovet\, Erottajankatu 5\, Helsinki\, Suomi
GEO:60.164757;24.944198
X-APPLE-STRUCTURED-LOCATION;VALUE=URI;X-ADDRESS=Erottajankatu 5\, Helsinki\
 , Suomi;X-APPLE-RADIUS=100;X-TITLE=Teatteri Avoimet ovet:geo:60.164757,24.
 944198
END:VEVENT
BEGIN:VEVENT
UID:3-201761@kohokohdat.fi
DTSTART;TZID=Europe/Helsinki:20241204T190000
DTEND;TZID=Europe/Helsinki:20241204T190000
DTSTAMP:20240909T051446Z
URL:https://kohokohdat.fi/helsinki/tapahtuma/suomen-stand-up-club-jape-jus
 si-hesoissa-5/
SUMMARY:Suomen Stand Up Club: Jape & Jussi Hesoissa
DESCRIPTION:Mitä tapahtuu\, kun kaksi suomalaisen komiikan kulmakiveä val
 taavat Teatteri Avoimien Ovien lavan? Onko Hesa valmiina Manse-komiikan ku
 ninkaille Jape Grönroosille ja Jussi Simolalle?\nKaikki stand up -show't 
 ovat anniskelutilaisuuksia K18. Lasin saa viedä saliin.
ATTACH;FMTTYPE=image/jpeg:https://kohokohdat.fi/helsinki/wp-content/upload
 s/sites/3/2017/01/Jussi-simola-stand-up-2017.jpg
CATEGORIES:Keikat,Stand up
LOCATION:Teatteri Avoimet ovet\, Erottajankatu 5\, Helsinki\, Suomi
GEO:60.164757;24.944198
X-APPLE-STRUCTURED-LOCATION;VALUE=URI;X-ADDRESS=Erottajankatu 5\, Helsinki\
 , Suomi;X-APPLE-RADIUS=100;X-TITLE=Teatteri Avoimet ovet:geo:60.164757,24.
 944198
END:VEVENT
BEGIN:VEVENT
UID:3-201762@kohokohdat.fi
DTSTART;TZID=Europe/Helsinki:20241212T190000
DTEND;TZID=Europe/Helsinki:20241212T190000
DTSTAMP:20240909T051847Z
URL:https://kohokohdat.fi/helsinki/tapahtuma/suomen-stand-up-club-jape-jus
 si-hesoissa-6/
SUMMARY:Suomen Stand Up Club: Jape & Jussi Hesoissa
DESCRIPTION:Mitä tapahtuu\, kun kaksi suomalaisen komiikan kulmakiveä val
 taavat Teatteri Avoimien Ovien lavan? Onko Hesa valmiina Manse-komiikan ku
 ninkaille Jape Grönroosille ja Jussi Simolalle?\nKaikki stand up -show't 
 ovat anniskelutilaisuuksia K18. Lasin saa viedä saliin.
ATTACH;FMTTYPE=image/jpeg:https://kohokohdat.fi/helsinki/wp-content/upload
 s/sites/3/2024/09/jape-ja-jussi.jpg
CATEGORIES:Keikat,Stand up
LOCATION:Teatteri Avoimet ovet\, Erottajankatu 5\, Helsinki\, Suomi
GEO:60.164757;24.944198
X-APPLE-STRUCTURED-LOCATION;VALUE=URI;X-ADDRESS=Erottajankatu 5\, Helsinki\
 , Suomi;X-APPLE-RADIUS=100;X-TITLE=Teatteri Avoimet ovet:geo:60.164757,24.
 944198
END:VEVENT
BEGIN:VTIMEZONE
TZID:Europe/Helsinki
X-LIC-LOCATION:Europe/Helsinki
BEGIN:STANDARD
DTSTART:20231029T030000
TZOFFSETFROM:+0300
TZOFFSETTO:+0200
TZNAME:EET
END:STANDARD
BEGIN:DAYLIGHT
DTSTART:20240331T040000
TZOFFSETFROM:+0200
TZOFFSETTO:+0300
TZNAME:EEST
END:DAYLIGHT
BEGIN:STANDARD
DTSTART:20241027T030000
TZOFFSETFROM:+0300
TZOFFSETTO:+0200
TZNAME:EET
END:STANDARD
END:VTIMEZONE
END:VCALENDAR