BEGIN:VCALENDAR
VERSION:2.0
PRODID:-//wp-events-plugin.com//7.2.3.1//EN
TZID:Europe/Helsinki
X-WR-TIMEZONE:Europe/Helsinki
BEGIN:VEVENT
UID:3-194459@kohokohdat.fi
DTSTART;TZID=Europe/Helsinki;VALUE=DATE:20250516
DTEND;TZID=Europe/Helsinki;VALUE=DATE:20250518
DTSTAMP:20260210T170041Z
URL:https://kohokohdat.fi/helsinki/tapahtuma/maailma-kylassa-festivaali/
SUMMARY:Maailma kylässä -festivaali 2026
DESCRIPTION:Maailma kylässä -festivaali järjestetään Helsingissä 16.
 –17.5.2026.\nMaailma kylässä -festivaali uudistuu ja siirtyy Suvilahde
 sta Helsingin keskustaan. Perinteikäs ilmaistapahtuma järjestetään vii
 kkoa totuttua aiemmin 16.–17.5.2026 Bio Rexissä sekä Lasipalatsin ja M
 auno Koiviston aukioilla. Kestävän kehityksen festivaalin teemana on Vap
 aus.\nTapahtuma päivittyy\nMaailma kylässä -festivaali on tiiviimpi ja 
 saavutettavampi kulttuuri- ja asiatapahtuma\, joka tuo globaalit teemat ke
 skelle kaupunkia.\n\n– Tapahtuma rakentuu yhteiskunnallisen keskustelun 
 ja elämyksellisen kulttuuriohjelman ympärille. Ohjelma toteutetaan ositt
 ain verkostomaisesti\; järjestöillä ja muilla kumppaneilla on keskeinen
  rooli kokonaisuuden toteuttamisessa. Festivaali tarjoaa alustan\, jossa y
 hteisöt\, taiteilijat ja aktivistit kohtaavat ja luovat yhdessä sisält
 öjä yleisölle\, kertoo festivaalin ohjelmapäällikkö Johanna Eurakosk
 i.\nVuoden 2026 festivaalin teema on Vapaus\nFestivaalin ohjelma ja sisäl
 löt rakentuvat vuosittain ajankohtaisen teeman ympärille ja ensi vuoden 
 teemaksi on valittu Vapaus. Elämme ajassa\, jossa ihmisten oikeuksia ja v
 apauksia kavennetaan joka puolella maailmaa.\n\nVapaus on mahdollisuutta t
 ehdä valintoja ja toimia yksilöinä ja yhteiskuntina itsenäisesti sekä
  ilmaista itseään ja osallistua yhteiskunnan toimintaan. Vapaus elää k
 ansalaisyhteiskunnassa\, vapaassa mediassa sekä tieteessä\, taiteessa ja
  kulttuurissa.\n\nTarkempia tietoja tulevasta festivaalista on luvassa syk
 syn aikana ja ensimmäisiä ohjelmia julkaistaan alkuvuodesta.\n\nFestivaa
 lin ydinarvot eli monimuotoisuus\, yhteisöllisyys\, vastuullisuus\, yhden
 vertaisuus ja innostavuus säilyvät. Tapahtuma kutsuu rakentamaan yhdess
 ä tulevaisuutta\, jossa maailmanlaajuisiin haasteisiin vastataan yhteisil
 lä teoilla.\n\nIlmaisfestivaalin teemana on aina kestävämpi ja oikeuden
 mukaisempi maailma. Maailma kylässä -festivaali on Fingon järjestämä 
 kaikille avoin kestävän kehityksen suurtapahtuma. Festivaali järjestet
 ään\, jotta maailma olisi reilumpi. Ihan kaikille.\n\n[caption id="attac
 hment_129134" align="alignright" width="350"] Ukrainalaiskanadalainen Bala
 klava Blues esiintyi Maailma kylässä -festivaaleilla 2023.[/caption]\n\n
 – Festivaalilla voi kokea elämyksiä\, perehtyä yhteiskunnallisiin aih
 eisiin sekä tietysti nauttia hyvästä musiikista\, ruuasta ja ainutlaatu
 isesta tunnelmasta. Haluamme kannustaa yksilöitä ja yhteisöjä toimimaa
 n muutosvoimana kestävän kehityksen\, yhdenvertaisuuden ja vapaan kansal
 aisyhteiskunnan puolesta maailmassa\, jossa eriarvoistuminen ja epäoikeud
 enmukaisuus kasvavat\, kertoo festivaalin viestintäpäällikkö Nelli Kor
 pi.\n\nMaailma kylässä on vuodesta 1995 alkaen järjestetty kestävän k
 ehityksen festivaali\, joka käy keskustelua ajankohtaisista globaaleista 
 aiheista ja herättelee ihmisiä toimimaan kestävämmän tulevaisuuden pu
 olesta.
ATTACH;FMTTYPE=image/jpeg:https://kohokohdat.fi/helsinki/wp-content/upload
 s/sites/3/2025/02/maailma-kylassa-festivaali-helsingissa.jpg
CATEGORIES:Festivaalit
LOCATION:Suvilahti\, Kaasutehtaankatu 1\, Helsinki\, Suomi
GEO:60.186879;24.973779
X-APPLE-STRUCTURED-LOCATION;VALUE=URI;X-ADDRESS=Kaasutehtaankatu 1\, Helsin
 ki\, Suomi;X-APPLE-RADIUS=100;X-TITLE=Suvilahti:geo:60.186879,24.973779
END:VEVENT
BEGIN:VEVENT
UID:3-214647@kohokohdat.fi
DTSTART;TZID=Europe/Helsinki;VALUE=DATE:20260522
DTEND;TZID=Europe/Helsinki;VALUE=DATE:20260523
DTSTAMP:20260318T090350Z
URL:https://kohokohdat.fi/helsinki/tapahtuma/soundvault-festival-2026/
SUMMARY:SOUNDVAULT FESTIVAL 2026
DESCRIPTION:Suomen suurin teknofestivaali Helsingin Suvilahdessa toukokuuss
 a – yli 40 artistia\nHelsingin Suvilahdessa pidetään toukokuussa Suome
 n tämän vuoden suurin teknomusiikin festivaali yli 40 artistin voimin. P
 ohjoismaiden rankimmaksi festivaaliksi itseään kutsuva tapahtuma toteutu
 u 22.–23. toukokuuta\, ja siellä esiintyy teknon\, hardstylen ja hard t
 eknon artisteja niin kotimaasta kuin ulkomailta.\nSoundVault Festivalin a
 rtistikattauksesta löytyy useita kansainvälisiä huippunimiä\, kuten ho
 llantilainet hardstyle-DJ/tuottaja Ran-D ja hardstyle-duo Sub Zero Proj
 ect sekä voimakkaasta ja ainutlaatuisesta tyylistään tunnettu italiala
 inen DJ/tuottaja Sickmode\, hollantilaisturkkilainen tekno-DJ/tuottaja U
 mmet Ozcan ja norjalainen hardstyle-duo Da Tweekaz.\nMuita festivaalin u
 lkomaalaisia vahvistuksia ovat muiden muassa yhdysvaltalainen hard teknon 
 taiturikaksikko BEAUZ\, kreikkalainen hardcore-DJ/tuottaja Dimitri K\, h
 ollantilainen D-Sturb\, itävaltalainen Ely Oaks ja ranskalainen Space
  92.\nKotimaisia suosikkeja SoundVault Festivalilla edustavat muiden mua
 ssa Agnia\, Artheia\, Don Taco\, Miia Solar\, TMPR ja Valkrund.\nSo
 undVault Festivalissa on päälavan lisäksi toinen lava\, joka sijoiteta
 an yleisön keskelle tarjoamaan mahdollinen kattava ja kokonaisvaltainen 3
 60 asteen kokemus.\n– SoundVault Festival on paljon muutakin kuin kova
 n luokan musiikkia. Musiikkielämysten lisäksi yleisölle on tarjolla mon
 enlaisia aktiviteetteja ja palveluita\, jotka tukevat yleistä hyvinvointi
 a\, kuten hierontaa\, joogaa ja shufflen opetusta. Lisäksi mukana on tatu
 ointipiste\, tarot-ennustaja\, onnenpyörä ja paljon muuta\, kertoo festi
 vaalin promoottori ja itsekin siellä MARTIN K4RMA -taiteilijanimellä e
 siintyvä Martin Karm.\nTapahtuma avautuu molempina päivinä kello 15\, 
 ja sen ikäraja on K-18. Festivaalin liput ovat jo myynnissä Biletissä\,
  Kide.appissa ja Ticketmasterissa.
ATTACH;FMTTYPE=image/jpeg:https://kohokohdat.fi/helsinki/wp-content/upload
 s/sites/3/2026/03/Sound-Wault-Festival.jpg
CATEGORIES:Festivaalit
LOCATION:Suvilahti\, Kaasutehtaankatu 1\, Helsinki\, Suomi
GEO:60.186879;24.973779
X-APPLE-STRUCTURED-LOCATION;VALUE=URI;X-ADDRESS=Kaasutehtaankatu 1\, Helsin
 ki\, Suomi;X-APPLE-RADIUS=100;X-TITLE=Suvilahti:geo:60.186879,24.973779
END:VEVENT
BEGIN:VEVENT
UID:3-194458@kohokohdat.fi
DTSTART;TZID=Europe/Helsinki;VALUE=DATE:20260626
DTEND;TZID=Europe/Helsinki;VALUE=DATE:20260629
DTSTAMP:20260210T164433Z
URL:https://kohokohdat.fi/helsinki/tapahtuma/tuska-festival-helsinki/
SUMMARY:Tuska Festival – Tuska-festivaali 2026
DESCRIPTION:Kesällä 2026 Tuska Festival kohokohtia 26.–28.6.2026 ovat l
 avalle nouseva Bring Me The Horizon\, joka lunastaa itseoikeutetusti yhden
  Tuska 2026 -pääesiintyjän paikoista. Deathcoren huippunimi BMTH taas t
 aipuu nykyään pikemminkin vaihtoehtometallin lipun alle elektronisine ja
  pop-vaikutteineen. Tuska-festivaali pidetään jälleen juhannuksen jäl
 keen Helsingin Suvilahdessa.\nBring Me The Horizon on luonut oman kaistans
 a modernin metallin polulla ja on yksi lajityyppinsä merkittävimpiä vai
 kuttajia ja suunnannäyttäjiä. Vuonna 2024 ilmestynyt “POST HUMAN: NeX
  GEn” -albumi nosti BMTH:n ennestäänkin huiman kansainvälisen suosion
  vieläkin rajumpiin sfääreihin ja yhtyeen fanipohja jatkaa kasvamistaan
 \, yksi mannerlaattoja vavisuttava keikka kerrallaan.\nBring Me The Horizo
 nin toissakesäinen Tuska-veto oli aikamoinen tajunnanräjäyttäjä ja b
 ändin ollessa tällä hetkellä kenties kovemmassa vedossa kuin koskaan\,
  kannattaa vertauskuvallisista ja ihan oikeistakin hatuista pitää kiinni
 !\n[caption id="attachment_141340" align="aligncenter" width="720"] Bad Om
 ens[/caption]\n\nBad Omens on yksi Tuska 2026 -pääesiintyjistä. Bändi
  joutui perumaan toissakesäisen Euroopan kiertueensa ja siinä samalla ha
 rtaasti odotetun Tuska-keikan\, joten tätä on odotettu!\n\nYhdysvaltalai
 nen metalcore-sensaatio Bad Omens on ehdottomasti tämän hetken kuumimpia
  nimiä modernin raskaan musiikin saralla. Vuonna 2015 perustettu yhtye se
 koittaa raskaan ilmaisun\, riipaisevat melodiat ja pistämättömän tyyli
 kkään tummanpuhuvan estetiikan. Se on yhdistelmä\, joka osuu moneen.\n\
 nVuoden 2022 läpimurtolevyllä “The Death of Peace of Mind”\, Bad Ome
 ns esitteli uudenlaista elektronista syvyyttä ja synkkyyttä\, ja sen nim
 ikkokappale nousi viraalihitiksi sosiaalisessa mediassa\, ja se näkyy yht
 yeen fanikunnan räjähdysmäisenä kasvuna maailmanlaajuisesti. Keulahahm
 o Noah Sebastianin moniulotteinen ääni on Bad Omensin musiikillinen yd
 in. Yhtyeen taide on samanaikaisesti äärimmäisen visuaalista\, vangitse
 vaa ja häkellyttävän henkilökohtaista.\n\nMuita nyt julkaistuja Tuska 
 2026 -esiintyjiä ovat amerikkalainen metalcore-yhtye The Plot In You\, k
 okeellista ja psykedeelistä death metallia toimittava jenkki-ryhmä Bloo
 d Incantation\, proge-metallin kanta-isiin lukeutuva amerikkalainen Queen
 srÿche\, Teksasista tuleva\, 90-luvun metallisen hardcoren perinteeseen n
 ojaava ja äärimmäisen raskaasti vyöryvä Kublai Khan TX\, englantilai
 nen\, perinteistä metalcorea jyräävä Malevolence\, Göteborgista kant
 autuvan melodisen death metallin uranuurtajiin kuuluva Soilwork\, yltiöt
 eknistä death metallia esittävä amerikkalainen Rivers of Nihil\, folk 
 metal -vaikutteilla melodista death metalliaan maustava kotimainen Ensife
 rum\, kotimaisen metallin eturivissä takova moderni mikkeliläinen Blood
 red Hourglass\, ruotsalainen sinfonisen power metalin sanansaattaja Majes
 tica\, australialainen metalcore-ilmiö Melrose Avenue\, genrerajat rikko
 van yhdistelmän mathcorea\, nu metallia ja kaoottista emoilua tarjoileva 
 Atlantasta tuleva The Callous Daoboys sekä vanhan liiton death metallia
  modernilla tatsilla veistelevä tanskalainen Neckbreakker.\n\nLue lisä
 ä: Helsingin jäähallin konsertit\n\nLiput Tuska 2026 festivaaleille Ti
 cketmaster.fi\n\nVahvistuneet Tuska 2026 -esiintyjät:\n\nBring Me The Hor
 izon\, Bad Omens\nThe Plot In You\, Blood Incantation\, Queensrÿche\nKubl
 ai Khan TX\, Malevolence\, Soilwork\nRivers of Nihil\, Ensiferum\, Bloodre
 d Hourglass\, Majestica\nMelrose Avenue\, The Callous Daoboys\, Neckbreakk
 er\n\nBändien esiintymispäivät ja lisää esiintyjiä ilmoitetaan myöh
 emmin. Lisää artisteja julkaistaan vielä tämän vuoden puolella.\n\nMu
 ista liittyä Tuska-uutiskirjeen tilaajaksi niin olet takuuvarmasti ajan h
 ermolla mitä tulee viimeisimpiin Tuska-uutisiin.
ATTACH;FMTTYPE=image/jpeg:https://kohokohdat.fi/helsinki/wp-content/upload
 s/sites/3/2022/12/tuska-festival-festivaali-2024-bring-me-the-horizon-esii
 ntyjat.jpg
CATEGORIES:Festivaalit
LOCATION:Suvilahti\, Kaasutehtaankatu 1\, Helsinki\, Suomi
GEO:60.186879;24.973779
X-APPLE-STRUCTURED-LOCATION;VALUE=URI;X-ADDRESS=Kaasutehtaankatu 1\, Helsin
 ki\, Suomi;X-APPLE-RADIUS=100;X-TITLE=Suvilahti:geo:60.186879,24.973779
END:VEVENT
BEGIN:VEVENT
UID:3-194508@kohokohdat.fi
DTSTART;TZID=Europe/Helsinki;VALUE=DATE:20260814
DTEND;TZID=Europe/Helsinki;VALUE=DATE:20260817
DTSTAMP:20260210T181117Z
URL:https://kohokohdat.fi/helsinki/tapahtuma/flow-festival/
SUMMARY:Flow Festival 2026
DESCRIPTION:Flow Festival 2026 järjestetään Helsingin Suvilahdessa 14.-
 16.8.2026. Festivaalin elämys rakentuu kansainvälisen ja kotimaisen musi
 ikin lisäksi monipuolisesta taiteesta\, huippulaatuisesta ravintolatarjon
 nasta sekä lumoavasta festivaalialueesta.\nFestivaalin ainutlaatuisessa t
 unnelmassa kohtaavat jälleen musiikin suurimmat nimet ja ajankohtaisimmat
  äänet\, kun esiintymään saapuvat muun muassa Florence + The Machine\,
  Zara Larsson\, Nick Cave &amp\; the Bad Seeds\, Turnstile\, SOMBR\, PinkP
 antheress\, Clipse sekä monet muut kansainväliset ja kotimaiset huippuar
 tistit.\n\nhttps://www.youtube.com/watch?v=03iBgkXb1EE\nRakastettu brittil
 äinen indie rock -sensaatio Florence + The Machine palaa vimmalla Flow
 ’hun uuden Everybody Scream -albuminsa myötä. Lokakuussa julkaistu lev
 y jatkaa yhtyeen menestystä vahvalla\, henkilökohtaisella otteella.\nSä
 dehtivästä lavakarismastaan ja lukuisista hiteistään tunnettu ruotsala
 inen poptähti Zara Larsson tuo festivaalille tanssittavan pop-show’ns
 a. Larsson julkaisi syyskuussa viidennen albuminsa Midnight Sun\, ja esiin
 tyi vastikään hetkessä loppuunmyydyllä Veikkaus Arenalla.\n\nFlow’n 
 yleisöä hemmotellaan myös Nick Cave &amp\; The Bad Seedsin odotetulla
  paluulla Flow’hun. Yli 40 vuotta kestäneen uransa myötä kulttibändi
 stä on kasvanut yksi aikamme tärkeimmistä rock-yhtyeistä\, jonka luomi
 svoima ei näytä ehtymisen merkkejä. Festivaalille saapuu lisäksi hardc
 ore-punkin rajoja venyttävä ja yksi 2020-luvun rockin suunnannäyttäjis
 tä\, yhdysvaltalainen Turnstile. Yhtye tunnetaan poikkeuksellisen intens
 iivisistä ja yhteisöllisistä live-esiintymisistään\, jotka liikuttava
 t yleisöjä yli genrerajojen.\nDebyyttialbuminsa I Barely Know Her elokuu
 ssa julkaissut Sombr on singahtanut viraalihittiensä myötä tämän he
 tken kiinnostavimmaksi vaihtehtoisen popin muusikoksi. Grammy-ehdokkuudell
 a Best New Artist -kategoriassa vastikään huomioitu artisti tuo Flow’h
 un välittömän ja tarttuvan live-energiansa. Lisäksi festivaalilla näh
 dään brittiläinen artisti ja tuottaja PinkPantheress\, joka on parissa
  vuodessa noussut Z-sukupolven musiikintekijöiden supertähtiluokkaan. Ki
 ehtova artisti on tehnyt tunnetuksi Iso-Britannian elektronisen musiikin u
 ndergroundin perintöä kappaleillaan\, joissa voi kuulla vaikutteita muun
  muassa UK garagesta ja drum’n’bassista.\nFlow’ssa nähdään myös 
 yksi 2000-luvun rapin vaikutusvaltaisimmista duoista\, Clipse. Veljekset
  Pusha T ja Malice loivat yhdessä soundin\, joka määritteli kokonai
 sen aikakauden ja duon tuore albumi\, Grammy-ehdokkuuden saanut Let God So
 rt Em Out osoittaa yhtyeen ajankohtaisen voiman. Läpimurtoalbumillaan Cho
 ke Enough laajaa huomiota herättänyt ranskalainen laulaja\, DJ ja tuotta
 ja Oklou puolestaan tuo Flow’hun unenomaisen ja futuristisen elektroni
 sen poppinsa. Esikoisalbuminsa Archangel lokakuussa julkaissut DJ-tuottaja
  Kettama\, queer-ikoni ja yksi elektronisen musiikin undergroundin vaikut
 tavimmista DJ-tuottajista Honey Dijon\, tanssimusiikin historiaa ja Napol
 in monikulttuurisia vaikutteita omaperäisesti yhdistelevä Nu Genea Live
  Band sekä punkia\, noise rockia ja klubienergiaa tihkuva brittiläinen
  Lambrini Girls saapuvat niin ikään Flow’hun.\n\nKotimaisen musiikin
  huipuista Flow’ssa nähdään omaehtoinen pop-tähti Olga\, herkkyydel
 lään hurmaava Vesta\, legandaarinen J. Karjalainen\, rakastettu Arppa
  harvinaisella 8-pack-kokoonpanolla\, DJ Kridlokk Hai-erityiskeikallaan
  sekä kansainvälistäkin mainetta niittävä Pearly Drops. Lisäksi ohj
 elmassa nähdään uuden suomirapin kärkinimi Ares\, lukuisista hiteist
 ään tunnettu suomirockin uusi tähti Jaakko Kulta\, vaihtoehtoisen R&am
 p\;B-popin omaleimainen tekijä Louie Blue\, modernin rapin ja hyperpopin
  risteyksessä toimiva louna0nline sekä kotimaisen indien ylistetyin tu
 lokas Asla Jo.\n\n\nFlow Festivalin liput ovat myynnissä Ticketmasteriss
 a.\n\nVuonna 2004 perustettu ja yli 20-vuotias Flow Festival on kasvanut 4
 000 hengen intiimistä klubitapahtumasta yli 90 000 vieraan kansainvälise
 sti arvostetuksi musiikki- ja kaupunkifestivaaliksi. Legendaarisilla VR:n 
 makasiineilla ensimmäisen kerran järjestetty Flow kotiutui vuonna 2007 S
 uvilahden vanhalle voimala-alueelle Helsingissä.\n\nFlow Festivalin eläm
 ys rakentuu kansainvälisen ja kotimaisen musiikin lisäksi monipuolisesta
  taiteesta\, huippulaatuisesta ravintolatarjonnasta sekä Suvilahden lumoa
 vasta festivaalialueesta.\n\n\n\nFlow Festival -festivaali Helsingissä\n\
 n\n\nFlow Festivalin elämys rakentuu kansainvälisen ja kotimaisen musiik
 in lisäksi monipuolisesta taiteesta\, huippulaatuisesta ravintolatarjonna
 sta sekä lumoavasta festivaalialueesta. Flow Festivalin liput ovat myynni
 ssä Ticketmasterissa.\n\n
ATTACH;FMTTYPE=image/jpeg:https://kohokohdat.fi/helsinki/wp-content/upload
 s/sites/3/2025/02/flow-festivaalit-helsinki-2026.jpg
CATEGORIES:Festivaalit
LOCATION:Suvilahti\, Kaasutehtaankatu 1\, Helsinki\, Suomi
GEO:60.186879;24.973779
X-APPLE-STRUCTURED-LOCATION;VALUE=URI;X-ADDRESS=Kaasutehtaankatu 1\, Helsin
 ki\, Suomi;X-APPLE-RADIUS=100;X-TITLE=Suvilahti:geo:60.186879,24.973779
END:VEVENT
BEGIN:VTIMEZONE
TZID:Europe/Helsinki
X-LIC-LOCATION:Europe/Helsinki
BEGIN:DAYLIGHT
DTSTART:20250330T040000
TZOFFSETFROM:+0200
TZOFFSETTO:+0300
TZNAME:EEST
END:DAYLIGHT
BEGIN:STANDARD
DTSTART:20251026T030000
TZOFFSETFROM:+0300
TZOFFSETTO:+0200
TZNAME:EET
END:STANDARD
BEGIN:DAYLIGHT
DTSTART:20260329T040000
TZOFFSETFROM:+0200
TZOFFSETTO:+0300
TZNAME:EEST
END:DAYLIGHT
END:VTIMEZONE
END:VCALENDAR