BEGIN:VCALENDAR
VERSION:2.0
PRODID:-//wp-events-plugin.com//7.2.3.1//EN
TZID:Europe/Helsinki
X-WR-TIMEZONE:Europe/Helsinki
BEGIN:VEVENT
UID:3-209109@kohokohdat.fi
DTSTART;TZID=Europe/Helsinki;VALUE=DATE:20250815
DTEND;TZID=Europe/Helsinki;VALUE=DATE:20250818
DTSTAMP:20250612T112934Z
URL:https://kohokohdat.fi/helsinki/tapahtuma/koffarin-kinofest/
SUMMARY:Koffarin Kinofest
DESCRIPTION:Uusi kaupunkifestivaali Koffarin Kinofest järjestetään 15.-1
 7. elokuuta. OmaStadi-ehdotuksesta alkunsa saanut tapahtuma tarjoilee yhdi
 stelmän piknik-tunnelmaa\, rytmimusiikkia ja ulkoilmaelokuvaa Sinebrychof
 fin puiston amfiteatterimaisessa ympäristössä.\nFestivaalin elokuvatarj
 onta kattaa mm. lauantaina 16.8. esitettävän musiikkidokumentin Becomin
 g Led Zeppelin. Neljä tähteä elokuvalle antanut Helsingin Sanomien krii
 tikko Pertti Avola kuvaili arviossaan Becoming Led Zeppelin olevan "hien
 o luotaus yhden rockin tärkeimmän yhtyeen muodostumiseen\, alkuaikoihin 
 ja suosion kynnykselle" (Helsingin Sanomat 13.3.2025).\nFestivaalin päät
 öselokuvana nähdään sunnuntaina 17. elokuuta dokumentti Amazing Grace
 \, jota tähdittää Aretha Franklin. Soulin kuningattaren kaksi gospel-ko
 nserttia Los Angelesin baptistikirkossa vuonna 1972 taltioitiin elokuvaksi
 \, mutta kesti liki 50 vuotta ennen kuin elokuva saatiin teattereihin. Kri
 itikoiden ylistämän elokuvan ohjauksesta ovat vastanneet Sydney Pollack 
 (1972) ja Alan Elliott (2018).\nLauantaina ja sunnuntaina on tarjolla my
 ös perheen pienimmille sopivia elokuvia – klo 14 Sinebrychoffin taidemu
 seon alakerrassa nähdään 40-vuotisjuhlavuottaan viettävän Studio Ghib
 lin Naapurini Totoro (la 16.8.) ja Kikin lähettipalvelu (su 17.8.) su
 omeksi dubattuina versiona. Lastenelokuvanäytösten yhteistyökumppanina 
 toimii Sinebrychoffin taidemuseo. Klo 16.30 kuullaan puistossa lapsille ja
  lapsenmielisille suunnattua musiikkia.\n&nbsp\;\nKonserttitarjonnassa Suo
 men blues- ja soul-kentän kärkinimiä\n&nbsp\;\nTähän mennessä vahvis
 tettuihin esiintyjiin kuuluu lauantaina 16.8. esiintyvä kotimaisen bluesi
 n kärkinimi Knucklebone Oscar\, joka yhdistää voimansa mm. Kwan-yhtyee
 n keulahahmona tunnetun laulaja Marikon kanssa. Kokoopanoon kuuluvat my
 ös Risto Hillside\, koskettimet\, Mikko Murtomaa\, basso ja Janne "Bla
 ck Matulha" Mathlin\, rummut.\nSunnuntain 17.8. alkuillassa kuullaan Emil
 ia Siscoa\, joka esiintyy roots-kitaristina tunnetun Tuomas Metsbergin 
 kanssa. Helsingissä syntynyt ja varttunut suomalais-sambialainen Emilia S
 isco on noussut nykyaikaisen soul-musiikin merkkinimeksi Suomessa. Soul-ik
 oneista\, kuten Aretha Franklinista\, Etta Jamesista ja Billie Holidaysta\
 , inspiroitunut Sisco tuo perinteisiin soulin ja R&amp\;B:n elementteihin 
 modernia vivahdetta.\nMyöhemmin sunnuntaina festivaalilavalle nousee Jukk
 a Eskola Soul Trio. Yhtyeen musiikilliset esikuvat ovat peräisin pääasi
 assa 1950- ja 60-luvuilta\, ja musiikin avainsanoina ovat juurevuus\, rytm
 i ja svengi. Kolmikko on julkaissut kaksi albumia jotka ovat saaneet ylist
 ävää palautetta niin kriitikoilta kuin yleisöltäkin. Trioa johtaa tel
 evision monista musiikkiohjelmistakin tuttu trumpetisti Jukka Eskola\, ru
 mpuja soittaa Teppo Mäkynen ja Hammond-urkuja Mikko Helevä.\nOhjelman
 umeroiden välissä musiikkia soittaa DJ Miia Laine. Valmis ohjelma julka
 istaan elokuun alussa.\nTapahtumaan on vapaa pääsy kaikille. Tapahtuman 
 ruokamyynnistä vastaavat ravintolat Southpark ja Kiltakellari\, joilla on
  myös terassialueet tapahtuma-alueella.\nKoffarin Kinofest on osa #OmaSta
 di -osallistuvan budjetoinnin hanketta\, jossa kaupunkilaiset ovat valinne
 et festivaalin toteutettavaksi Helsingin kaupungin OmaStadi-ehdotusten jou
 kosta. Festivaalin tuotannosta vastaa Savoy-teatteri\, Helsingin kaupungin
  kulttuurin ja vapaa-ajan toimiala.\nFestivaalin kumppaneita ovat Pop Up K
 ino Helsinki\, Cinema Mondo\, Sinebrychoffin taidemuseo\, Ravintola Kiltak
 ellari\, Ravintola Southpark\, Radio Helsinki\, Eteläiset kaupunginosat r
 y ja Pro Hietalahti ry.\n&nbsp\;\nKoffarin Kinofest 15.-17.8. Sinebrychoff
 in puistossa\n&nbsp\;\nOhjelma:\n \nPe 15.8.\nklo 18 DJ Miia Laine\nklo 1
 9 Avaussanat\nklo 19.30 Konsertti\, julkaistaan elokuun alussa\nklo 21.30 
 Elokuvaesitys\, julkaistaan elokuun alussa\n \nLa 16.8.\nklo 14 Lasten el
 okuva: Naapurini Totoro (S\, dubattu). Sinebrychoffin museon alakerta\nklo
  16.30 Lasten konsertti: Tunteellinen siili\nklo 18.00 Konsertti\, julkais
 taan elokuun alussa\nklo 19.00 DJ Miia Laine\nklo 20.00 Konsertti: Knuckle
 bone Oscar band feat. Mariko\nklo 21.30 Elokuva: Becoming Led Zeppelin (ik
 äraja 12 vuotta)\n \nSu 17.8.\nklo 14 Lasten elokuva: Kikin lähettipalv
 elu (S\, dubattu). Sinebrychoffin museon alakerta\nklo 16.30 Lasten konser
 tti\, julkaistaan elokuun alussa\nklo 18.00 Konsertti: Emilia Sisco Duo\nk
 lo 19.00 DJ Miia Laine\nklo 20.00 Konsertti: Jukka Eskola Soul Trio\nklo 2
 1.30 Elokuva: Amazing Grace (S)\n&nbsp\;\nKoffarin Kinofestin päivittyvä
  tapahtumasivu\nKoffarin Kinofest Facebookissa ja Instagramissa\nHelsin
 gin kaupungin OmaStadi-sivu
ATTACH;FMTTYPE=image/jpeg:https://kohokohdat.fi/helsinki/wp-content/upload
 s/sites/3/2025/06/Knucklebone-Oscar.jpg
CATEGORIES:Festivaalit
LOCATION:Sinebrychoffin puisto\, Sinebrychoffinkatu\, Helsinki\, Suomi
X-APPLE-STRUCTURED-LOCATION;VALUE=URI;X-ADDRESS=Sinebrychoffinkatu\, Helsin
 ki\, Suomi;X-APPLE-RADIUS=100;X-TITLE=Sinebrychoffin puisto:geo:0,0
END:VEVENT
BEGIN:VTIMEZONE
TZID:Europe/Helsinki
X-LIC-LOCATION:Europe/Helsinki
BEGIN:DAYLIGHT
DTSTART:20250330T040000
TZOFFSETFROM:+0200
TZOFFSETTO:+0300
TZNAME:EEST
END:DAYLIGHT
END:VTIMEZONE
END:VCALENDAR