BEGIN:VCALENDAR
VERSION:2.0
PRODID:-//wp-events-plugin.com//7.2.3.1//EN
TZID:Europe/Helsinki
X-WR-TIMEZONE:Europe/Helsinki
BEGIN:VEVENT
UID:3-194041@kohokohdat.fi
DTSTART;TZID=Europe/Helsinki:20240223T180000
DTEND;TZID=Europe/Helsinki:20240223T180000
DTSTAMP:20240216T161930Z
URL:https://kohokohdat.fi/helsinki/tapahtuma/stand-up-show-dinner-taolin-t
 ao-janne-oravisto-jonathan-lagerquist/
SUMMARY:Stand Up Show & Dinner: Taolin Tao\, Janne Oravisto\, Jonathan Lage
 rquist
DESCRIPTION:Stand Up Show &amp\; Dinner Teatteriravintola Nyyrikissä tuo l
 avalle perjantaina 23.2. stand up -koomikot Taolin Tao\, Janne Oravisto ja
  Jonathan Lagerquist.
CATEGORIES:Keikat,Stand up
LOCATION:Ravintola Nyyrikki\, Pohjolankatu 2\, Helsinki\, Suomi
GEO:60.214028;24.94409
X-APPLE-STRUCTURED-LOCATION;VALUE=URI;X-ADDRESS=Pohjolankatu 2\, Helsinki\,
  Suomi;X-APPLE-RADIUS=100;X-TITLE=Ravintola Nyyrikki:geo:60.214028,24.9440
 9
END:VEVENT
BEGIN:VEVENT
UID:3-194042@kohokohdat.fi
DTSTART;TZID=Europe/Helsinki:20240322T180000
DTEND;TZID=Europe/Helsinki:20240322T180000
DTSTAMP:20240216T162008Z
URL:https://kohokohdat.fi/helsinki/tapahtuma/stand-up-show-dinner-karim-al
 dulaimi-teuris-jonathan-lagerquist/
SUMMARY:Stand Up Show & Dinner: Karim Aldulaimi\, TEURIS\, Jonathan Lagerqu
 ist
DESCRIPTION:Stand Up Show &amp\; Dinner Teatteriravintola Nyyrikissä tuo l
 avalle perjantaina 23.2. stand up -koomikot Karim Aldulaimi\, TEURIS ja Jo
 nathan Lagerquist.
CATEGORIES:Keikat,Stand up
LOCATION:Ravintola Nyyrikki\, Pohjolankatu 2\, Helsinki\, Suomi
GEO:60.214028;24.94409
X-APPLE-STRUCTURED-LOCATION;VALUE=URI;X-ADDRESS=Pohjolankatu 2\, Helsinki\,
  Suomi;X-APPLE-RADIUS=100;X-TITLE=Ravintola Nyyrikki:geo:60.214028,24.9440
 9
END:VEVENT
BEGIN:VEVENT
UID:3-194044@kohokohdat.fi
DTSTART;TZID=Europe/Helsinki:20240405T180000
DTEND;TZID=Europe/Helsinki:20240405T180000
DTSTAMP:20240216T162051Z
URL:https://kohokohdat.fi/helsinki/tapahtuma/stand-up-show-dinner-markku-p
 ajarinen-heidi-makela-harri-muikkula/
SUMMARY:Stand Up Show & Dinner: Markku Pajarinen\, Heidi Mäkelä\, Harri M
 uikkula
DESCRIPTION:Stand Up Show &amp\; Dinner Teatteriravintola Nyyrikissä tuo l
 avalle perjantaina 23.2. stand up -koomikot Markku Pajarinen\, Heidi Mäke
 lä ja Harri Muikkula.
ATTACH;FMTTYPE=image/jpeg:https://kohokohdat.fi/helsinki/wp-content/upload
 s/sites/3/2023/01/heidi-makela-stand-up-helsinki.jpg
CATEGORIES:Keikat,Stand up
LOCATION:Ravintola Nyyrikki\, Pohjolankatu 2\, Helsinki\, Suomi
GEO:60.214028;24.94409
X-APPLE-STRUCTURED-LOCATION;VALUE=URI;X-ADDRESS=Pohjolankatu 2\, Helsinki\,
  Suomi;X-APPLE-RADIUS=100;X-TITLE=Ravintola Nyyrikki:geo:60.214028,24.9440
 9
END:VEVENT
BEGIN:VTIMEZONE
TZID:Europe/Helsinki
X-LIC-LOCATION:Europe/Helsinki
BEGIN:STANDARD
DTSTART:20231029T030000
TZOFFSETFROM:+0300
TZOFFSETTO:+0200
TZNAME:EET
END:STANDARD
BEGIN:DAYLIGHT
DTSTART:20240331T040000
TZOFFSETFROM:+0200
TZOFFSETTO:+0300
TZNAME:EEST
END:DAYLIGHT
END:VTIMEZONE
END:VCALENDAR