BEGIN:VCALENDAR
VERSION:2.0
PRODID:-//wp-events-plugin.com//7.2.3.1//EN
TZID:Europe/Helsinki
X-WR-TIMEZONE:Europe/Helsinki
BEGIN:VEVENT
UID:3-205302@kohokohdat.fi
DTSTART;TZID=Europe/Helsinki:20250207T190000
DTEND;TZID=Europe/Helsinki:20250207T190000
DTSTAMP:20250131T070136Z
URL:https://kohokohdat.fi/helsinki/tapahtuma/miia-junes-keidas-vaarin-seik
 kailut/
SUMMARY:Miia Junes\, Keidas\, Vaarin seikkailut
DESCRIPTION:Indiepopin ja -rockin nousevat nimet Miia Junes\, Keidas ja Vaa
 rin seikkailut esiintyvät 7.2.2025 Helsingin Playhouse Barissa. Luvassa i
 kimuistoinen ilta täynnä virtuoottista musisointia\, rohkeita tulkintoja
  ja vahvoja sanoituksia.\n20:00 Miia Junes\n21:00 Keidas\n22:00 Vaarin sei
 kkailut\n\nOvet klo 19:00\nLiput 10 € ovelta\n\nMIIA JUNES\n\nMiia Junes
  on pohjoisen juurilla varustettu laulaja-lauluntekijä Helsingistä. June
 ksen kappaleet risteilevät orgaanisesti folkin\, indierockin ja vaihtoeht
 opopin maisemissa\, ytimenään samaistuttavan rehelliset tekstit sekä va
 hva laulutulkinta.\n\nVuonna 2021 julkaistu Ulappa-EP ja 2022 julkaistu Sa
 dekuuroja-debyyttialbumi löytyvät kaikista musiikin suoratoistopalveluis
 ta. Ja uutta musiikkia on jo keittymässä! Livenä Miia Junes &amp\; bän
 di valloittavat villillä energialla ja herkällä läsnäololla.\n\nKEIDA
 S\n\nSuomirockia modernisoiva Keidas liukuu äänimaailmassaan sujuvasti p
 itkistä kitarariffeistä nostalgisiin ruotsalaispopin sävyihin\, joihin 
 nasevat sanoitukset tuovat juuri sopivan vinksahtaneen kulman.\n\nVAARIN S
 EIKKAILUT\n\nVaarin seikkailut on eeppisen soundin ja pehmeän grooven bä
 ndi\, jonka musiikkia on luonnehdittu hyväntuuliseksi kasariprogeksi. Vaa
 rin seikkailut tempaa yleisön mukaansa energisellä ja intensiivisellä l
 avaolemuksellaan. Bändi koostuu rautaisista ammattimuusikoista ja on tunn
 ettu omaperäisestä soundistaan\, saumattomasta yhteissoitostaan ja rohke
 ista tulkinnoistaan. Syksyllä 2023 julkaistu esikoisalbumi "Varhaisia ker
 tomuksia" löytyy kaikista suoratoistopalveluista.
ATTACH;FMTTYPE=image/jpeg:https://kohokohdat.fi/helsinki/wp-content/upload
 s/sites/3/2025/01/473186840_10236113249315115_5459508379540247069_n.jpg
CATEGORIES:Keikat
LOCATION:Playhouse Bar\, Nokiantie 2-4\, Helsinki\, Suomi
X-APPLE-STRUCTURED-LOCATION;VALUE=URI;X-ADDRESS=Nokiantie 2-4\, Helsinki\, 
 Suomi;X-APPLE-RADIUS=100;X-TITLE=Playhouse Bar:geo:0,0
END:VEVENT
BEGIN:VTIMEZONE
TZID:Europe/Helsinki
X-LIC-LOCATION:Europe/Helsinki
BEGIN:STANDARD
DTSTART:20241027T030000
TZOFFSETFROM:+0300
TZOFFSETTO:+0200
TZNAME:EET
END:STANDARD
END:VTIMEZONE
END:VCALENDAR